BEGIN:VCALENDAR
VERSION:2.0
PRODID:-//Litseen - ECPv6.15.11//NONSGML v1.0//EN
CALSCALE:GREGORIAN
METHOD:PUBLISH
X-WR-CALNAME:Litseen
X-ORIGINAL-URL:https://litseen.com
X-WR-CALDESC:Events for Litseen
REFRESH-INTERVAL;VALUE=DURATION:PT1H
X-Robots-Tag:noindex
X-PUBLISHED-TTL:PT1H
BEGIN:VTIMEZONE
TZID:UTC
BEGIN:STANDARD
TZOFFSETFROM:+0000
TZOFFSETTO:+0000
TZNAME:UTC
DTSTART:20160101T000000
END:STANDARD
END:VTIMEZONE
BEGIN:VEVENT
DTSTART;TZID=UTC:20170326T143000
DTEND;TZID=UTC:20170326T160000
DTSTAMP:20260420T090042
CREATED:20170320T043939Z
LAST-MODIFIED:20170320T043939Z
UID:25388-1490538600-1490544000@litseen.com
SUMMARY:Bird & Beckett: Walker Talks
DESCRIPTION:
URL:https://litseen.com/event/bird-beckett-walker-talks/
LOCATION:Bird & Beckett Books and Records\, 653 Chenery St\, San Francisco \, CA\, 94131\, United States
CATEGORIES:Free,San Francisco
END:VEVENT
BEGIN:VEVENT
DTSTART;TZID=UTC:20170326T160000
DTEND;TZID=UTC:20170326T180000
DTSTAMP:20260420T090042
CREATED:20170320T044241Z
LAST-MODIFIED:20170320T044241Z
UID:25390-1490544000-1490551200@litseen.com
SUMMARY:Stories of Stranded Deportees
DESCRIPTION:Lives and Voices Not Heard—Stories of Stranded Deportees: Asian Americans and Pacific Islanders’ Experiences Facing Deportation\nFeaturing Readings by Nghiep Lam and Eddy Zheng\nPanel to follow with lawyer and social justice advocate.\nOrganized with Bonnie Kwong\nSunday March 26th\n4pm \nListen to excerpts from journals kept while incarcerated and through the deportation process\, as well as a panel discussion about the reality of the prison to deportation pipeline in Asian American and Pacific Islander Communities in Oakland. \nEddy Zheng is the Co-Director for the Oakland based Asian Prisoner Support Committee (APSC.) APSC provides support to Asians and Pacific Islander prisoners and educates the broader community about the growing number of Asians and Pacific Islanders in the United States being imprisoned\, detained\, and deported. Eddy spent 21 year of his life in prison for crimes he had committed at the age of 16. Since his return to the free world\, Eddy has dedicated his life to serving the youth and communities of the greater Bay Area. Eddy is the subject of the award winning documentary\, “Breathin’ The Eddy Zheng Story.” \nNghiep “Ke” Lam is the Reentry Coordinator of Asian Prisoner Support Committee (APSC)\, based in Oakland\, California. Ke and his parents fled Vietnam in 1978 and was rescued to Hong Kong Refugee Camp. Two years later he and his brother and parents were issued visas to enter America. At the age of 17\, Ke committed a crime that lead to his imprisonment for 23 years. Ke was active in social justice work on the inside and continues to do so upon returning home.
URL:https://litseen.com/event/stories-of-stranded-deportees/
LOCATION:LIMINAL\, 3037 38th Avenue\, Oakland\, CA\, 94619\, United States
CATEGORIES:East Bay,Free
END:VEVENT
END:VCALENDAR