BEGIN:VCALENDAR
VERSION:2.0
PRODID:-//Litseen - ECPv6.15.11//NONSGML v1.0//EN
CALSCALE:GREGORIAN
METHOD:PUBLISH
X-WR-CALNAME:Litseen
X-ORIGINAL-URL:https://litseen.com
X-WR-CALDESC:Events for Litseen
REFRESH-INTERVAL;VALUE=DURATION:PT1H
X-Robots-Tag:noindex
X-PUBLISHED-TTL:PT1H
BEGIN:VTIMEZONE
TZID:UTC
BEGIN:STANDARD
TZOFFSETFROM:+0000
TZOFFSETTO:+0000
TZNAME:UTC
DTSTART:20160101T000000
END:STANDARD
END:VTIMEZONE
BEGIN:VEVENT
DTSTART;TZID=UTC:20170506T130000
DTEND;TZID=UTC:20170506T150000
DTSTAMP:20260419T072107
CREATED:20170418T104015Z
LAST-MODIFIED:20170502T011201Z
UID:26149-1494075600-1494082800@litseen.com
SUMMARY:Pittsburghers by the Bay
DESCRIPTION:It’s no surprise that Pittsburghers (a.k.a. yinzers) feel at home in the Bay Area. With ample bridges\, a jaw-dropping skyline\, a top-notch food scene\, and Steelers-friendly sports bars to show off black-and-gold pride\, San Francisco has everything a Pittsburgh native needs to survive. \nJoin us as we celebrate the Steel City with a reading by four transplanted yinzers – Laura Davis\, Molly Prosser\, Turi Fesler Steffen\, and Laura Vrcek! \nEnjoy books for sale\, light refreshments\, and the emcee skills of Pittsburgh-at-heart Hannah Rothstein. \nWhether you’re a homesick ‘burgher or a yinzer groupie\, this afternoon will have you longing for those three rivers and that glorious “dahntahn.” \nREADERS: \nLaura E. Davis grew up on California Avenue and earned a bachelor’s from California University of Pennsylvania. While she may have been destined to move to San Francisco\, she first earned an MFA from Chatham University. Both sides of her family have lived in Southwestern Pennsylvania for over 100 years. \nLaura misses sandwiches with fries on them. \nMolly Prosser swapped the wilds of the Allegheny Forest for the traffic of Silicon Valley. She edits copy for eBay and holds an MFA in Creative Writing from Carlow University. Her work has appeared in various publications and on the Prosody radio show (90.5 WESA Pittsburgh). Her poetry collection Rubbernecking is available from Word Poetry. \nMolly misses random Rick Sebak sightings. \nTuri Fesler Steffen was born in Alaska\, but her experience spans beyond halibut fishing. She has her MFA from Pitt\, where she was the editor of Hot Metal Bridge. And you may have seen her at readings around the Bay\, including Shipwreck and Voz sin Tinta. Last year\, deciding she yearned for the ‘Burgh\, Turi moved to Pittsburg\, California. \nTuri misses salads with french fries. \nLaura Vrcek has an MFA in Creative Writing from Chatham University and works as a ghostwriter for Bay Area tech executives. Her nonfiction work has appeared on Brevity’s Nonfiction Blog\, The Orange Dot\, and Perspectives\, a storytelling segment on KQED\, NPR’s San Francisco affiliate. \nLaura misses Pennsylvania’s summer thunderstorms. \nEMCEE: \nHannah Rothstein (@HRothsteinArt) is the author of Yoga for Bros and an artist whose work has been featured in TIME\, The Guardian\, Vogue Italia\, and more. Besides shamelessly namedropping\, Hannah enjoys painting\, punning\, and reminiscing about the wonderful year she spent in Pittsburgh. \nHannah misses church-lady-crafted\, kraut pierogis. \nImage by Molly Cockcroft\, http://missmoco.co.uk/
URL:https://litseen.com/event/pittsburghers-by-the-bay/
LOCATION:The Octopus Literary Salon\, 2101 Webster St #170\, Oakland \, CA\, 94612\, United States
CATEGORIES:East Bay,Free
END:VEVENT
BEGIN:VEVENT
DTSTART;TZID=UTC:20170506T143000
DTEND;TZID=UTC:20170506T153000
DTSTAMP:20260419T072107
CREATED:20170502T004326Z
LAST-MODIFIED:20170502T004326Z
UID:26476-1494081000-1494084600@litseen.com
SUMMARY:"Kill the Ampaya!" The Best Latin American Baseball Fiction
DESCRIPTION:“Dick Cluster has done a masterful job of curating and translating this collection of short stories. Each reflects a passion for baseball and a recognition that the sport and its lessons are omnipresent\, reflecting and informing and mimicking real life. Most  also tend to be infused with a wonderful mysticism that both reflects and then slyly tweaks its gringo counterpart.” — Paul Hagen\, mlb.com \n“It may be that as this baseball season begins\, no book related to the game is more necessary than this one. The great bonus is that ‘Kill The Ampaya!’ is also great fun. An extraordinary collection.” — Bill Littlefield\, WBUR/NPR “Only a Game” \nOakland’s Dick Cluster will introduce Kill the Ampaya!: the Best of Latin American Baseball Fiction\, his newly published selection and translations of stories by writers from Cuba\, the Dominican Republic\, Mexico\, Nicaragua\, Puerto Rico\, and Venezuela.
URL:https://litseen.com/event/kill-the-ampaya-the-best-latin-american-baseball-fiction/
LOCATION:Oakland Public Library Temescal branch\,  5205 Telegraph Avenue\, Oakland\, CA\, 94609\, United States
CATEGORIES:East Bay,Free
END:VEVENT
BEGIN:VEVENT
DTSTART;TZID=UTC:20170506T150000
DTEND;TZID=UTC:20170506T170000
DTSTAMP:20260419T072107
CREATED:20161223T022957Z
LAST-MODIFIED:20161223T022957Z
UID:24315-1494082800-1494090000@litseen.com
SUMMARY:Bay Area Poets Coalition First Saturday
DESCRIPTION:Addison is one block south of and parallel to University Ave.\nbetween Acton & Bonar St.\nParking on the street (NOT in the S.C.L. parking lot) \nCheck in at the front desk and you will be directed to the meeting location\n(usually Movie Room\, or backyard garden) \nAll Ages Welcome \nCome and enjoy a friendly and informal read-around —\n3-5 minutes per poet/reader\, or “just listening” is fine too 🙂
URL:https://litseen.com/event/bay-area-poets-coalition-first-saturday-12/
LOCATION:Strawberry Creek Lodge\, 1320 Addison Street\, Berkeley\, CA\, 94702\, United States
CATEGORIES:East Bay,Free
END:VEVENT
BEGIN:VEVENT
DTSTART;TZID=UTC:20170506T160000
DTEND;TZID=UTC:20170506T170000
DTSTAMP:20260419T072107
CREATED:20170430T023753Z
LAST-MODIFIED:20170430T023753Z
UID:26530-1494086400-1494090000@litseen.com
SUMMARY:Mariko Tamaki
DESCRIPTION:The Main Children’s Center celebrates Children’s Book Week!\nRegister HERE \nJoin us for a special event: Graphic novel author Mariko Tamaki will discuss her book This One Summer\, acclaimed by reviewers as a powerful coming-of-age story. \nSaturday\, May 6\, at 4 p.m.\, in the Main Children’s Center \nMariko Tamaki is a Canadian writer. Her works include the graphic novels This One Summer  and Skim\, both with Jillian Tamaki\, and Emiko Superstar\, with Steve Rolston. Her first YA novel (You) Set Me on Fire  was published by Penguin Canada. She lives in Oakland\, California. Visit her website at marikotamaki.blogspot.com/. \nChildren’s Book Week is the annual celebration of children’s books and reading. Established in 1919\, it is the longest-running national literacy initiative in the country. The program is administered by Every Child a Reader and the Children’s Book Council (CBC) is the anchor sponsor.
URL:https://litseen.com/event/mariko-tamaki/
LOCATION:San Francisco Public Library\, 100 Larkin St\, San Francisco \, CA\, 94102\, United States
CATEGORIES:Free,San Francisco
END:VEVENT
BEGIN:VEVENT
DTSTART;TZID=UTC:20170506T190000
DTEND;TZID=UTC:20170506T210000
DTSTAMP:20260419T072107
CREATED:20170430T031237Z
LAST-MODIFIED:20170430T031237Z
UID:26538-1494097200-1494104400@litseen.com
SUMMARY:James Meetze\, Claire Marie Stancek\, + Andrew Wessels
DESCRIPTION:
URL:https://litseen.com/event/james-meetze-claire-marie-stancek-andrew-wessels/
LOCATION:Alley Cat Books\, 3036 24th St\, San Francisco\, CA\, 94110\, United States
CATEGORIES:Free,San Francisco
END:VEVENT
END:VCALENDAR