BEGIN:VCALENDAR
VERSION:2.0
PRODID:-//Litseen - ECPv6.15.11//NONSGML v1.0//EN
CALSCALE:GREGORIAN
METHOD:PUBLISH
X-ORIGINAL-URL:https://litseen.com
X-WR-CALDESC:Events for Litseen
REFRESH-INTERVAL;VALUE=DURATION:PT1H
X-Robots-Tag:noindex
X-PUBLISHED-TTL:PT1H
BEGIN:VTIMEZONE
TZID:UTC
BEGIN:STANDARD
TZOFFSETFROM:+0000
TZOFFSETTO:+0000
TZNAME:UTC
DTSTART:20160101T000000
END:STANDARD
END:VTIMEZONE
BEGIN:VEVENT
DTSTART;TZID=UTC:20170510T190000
DTEND;TZID=UTC:20170611T233000
DTSTAMP:20260419T053859
CREATED:20170429T031921Z
LAST-MODIFIED:20170510T173954Z
UID:26502-1494442800-1497223800@litseen.com
SUMMARY:Smut: An Unseemly Story (The Greening of Mrs. Donaldson)
DESCRIPTION:One of England’s finest and most loved writers\, Alan Bennett\, explores the uncomfortable and tragicomic gap between people’s public appearance and their private desires in this tender and surprising story. In The Greening of Mrs. Donaldson\, a recently bereaved widow finds interesting ways to supplement her income by performing as a patient for medical students\, and renting out her spare room. Quiet\, middle-class\, and middle-aged\, Mrs. Donaldson will soon discover that she rather enjoys role-play at the hospital\, and the irregular and startling entertainment provided by her tenants.A master storyteller dissects a very English form of secrecy with this story of the unexpected in otherwise apparently ordinary lives.  Directed by Amy Kossow.
URL:https://litseen.com/event/smut-an-unseemly-story-the-greening-of-mrs-donaldson/
LOCATION:Z Space\, 450 Florida Street\, San Francisco\, CA\, 94110\, United States
CATEGORIES:Free,San Francisco
END:VEVENT
BEGIN:VEVENT
DTSTART;TZID=UTC:20170512T173000
DTEND;TZID=UTC:20170514T120000
DTSTAMP:20260419T053859
CREATED:20170503T115920Z
LAST-MODIFIED:20170504T002820Z
UID:26644-1494610200-1494763200@litseen.com
SUMMARY:Rewrite Your Life
DESCRIPTION:REWRITE YOUR LIFE WEEKEND IMMERSIVE\nA HEALING CREATIVE WRITING WORKSHOP\nLearn how to write the book you’re meant to write in this weekend workshop. You’ll be introduced to the powerfully therapeutic value of creative writing and taught to transform your life experiences into healing fiction with the bones to be the next great American novel. Class size is limited. \nIn this 3-day intensive\, you will be shown: \n\nthe science behind the healing power of transforming fact into fiction\na simple yet powerful model for sifting through pivotal life experiences to select the one you most need to write about\n\n\npractical guidance in plumbing your past to create memorable characters and to craft a compelling plot\ndirection on how to use the power of smell\, sound\, taste\, and touch memories to access your past as well as craft cinematic setting\nthe POP method\, a wildly effective tool for pulling all your words together and crafting a novel in one year’s time\nhow to set and keep personal writing and self-improvement goals in your everyday life
URL:https://litseen.com/event/rewrite-your-life/
LOCATION:Grace Cathedral\, 1100 California Street\, San Francisco\, 1100 California Street\, San Francisco\, CA\, United States
CATEGORIES:San Francisco
END:VEVENT
BEGIN:VEVENT
DTSTART;TZID=UTC:20170514T190000
DTEND;TZID=UTC:20170514T220000
DTSTAMP:20260419T053859
CREATED:20170511T040214Z
LAST-MODIFIED:20170511T040214Z
UID:26817-1494788400-1494799200@litseen.com
SUMMARY:Standing O Storytelling Graduation Performance
DESCRIPTION:Standing O Storytelling’s inaugural graduating class is ready to take the stage! Join us for stories from a new crop of storytellers that you can expect to see on stages all over the bay area soon.\nThese storytellers deserve a standing ovation for their hard work and dedication to the art of storytelling. If you wanna be the first to see and hear new stories from these Standing O graduates\, this is your chance…get your tickets in advance to grab your seat. \nOur Graduating Storytellers include:\n– Christina McFadden\n– Saren O’Grady\n– Bandee\n– Lora Lewis\n– David ‘Hearty’ Heartlife\n– Lisa Spitalewitz\n– Debby Jensen\n– Ana Nelson\n– Johanni Thunstrom\n– Hervé Mazoyer\n– Johanni Thunstrom (not performing)\n– Ana Nelson (not performing) \nThis is also Dixie De La Tour’s birthday\, so we’ll have cake\, too!
URL:https://litseen.com/event/standing-o-storytelling-graduation-performance/
LOCATION:StageWerx\, 466 Valencia Street\, San Francisco\, CA\, 94103\, United States
CATEGORIES:San Francisco
END:VEVENT
END:VCALENDAR