BEGIN:VCALENDAR
VERSION:2.0
PRODID:-//Litseen - ECPv6.15.11//NONSGML v1.0//EN
CALSCALE:GREGORIAN
METHOD:PUBLISH
X-ORIGINAL-URL:https://litseen.com
X-WR-CALDESC:Events for Litseen
REFRESH-INTERVAL;VALUE=DURATION:PT1H
X-Robots-Tag:noindex
X-PUBLISHED-TTL:PT1H
BEGIN:VTIMEZONE
TZID:UTC
BEGIN:STANDARD
TZOFFSETFROM:+0000
TZOFFSETTO:+0000
TZNAME:UTC
DTSTART:20160101T000000
END:STANDARD
END:VTIMEZONE
BEGIN:VTIMEZONE
TZID:America/Los_Angeles
BEGIN:DAYLIGHT
TZOFFSETFROM:-0800
TZOFFSETTO:-0700
TZNAME:PDT
DTSTART:20160313T100000
END:DAYLIGHT
BEGIN:STANDARD
TZOFFSETFROM:-0700
TZOFFSETTO:-0800
TZNAME:PST
DTSTART:20161106T090000
END:STANDARD
BEGIN:DAYLIGHT
TZOFFSETFROM:-0800
TZOFFSETTO:-0700
TZNAME:PDT
DTSTART:20170312T100000
END:DAYLIGHT
BEGIN:STANDARD
TZOFFSETFROM:-0700
TZOFFSETTO:-0800
TZNAME:PST
DTSTART:20171105T090000
END:STANDARD
BEGIN:DAYLIGHT
TZOFFSETFROM:-0800
TZOFFSETTO:-0700
TZNAME:PDT
DTSTART:20180311T100000
END:DAYLIGHT
BEGIN:STANDARD
TZOFFSETFROM:-0700
TZOFFSETTO:-0800
TZNAME:PST
DTSTART:20181104T090000
END:STANDARD
END:VTIMEZONE
BEGIN:VEVENT
DTSTART;TZID=UTC:20170510T190000
DTEND;TZID=UTC:20170611T233000
DTSTAMP:20260421T115721
CREATED:20170429T031921Z
LAST-MODIFIED:20170510T173954Z
UID:26502-1494442800-1497223800@litseen.com
SUMMARY:Smut: An Unseemly Story (The Greening of Mrs. Donaldson)
DESCRIPTION:One of England’s finest and most loved writers\, Alan Bennett\, explores the uncomfortable and tragicomic gap between people’s public appearance and their private desires in this tender and surprising story. In The Greening of Mrs. Donaldson\, a recently bereaved widow finds interesting ways to supplement her income by performing as a patient for medical students\, and renting out her spare room. Quiet\, middle-class\, and middle-aged\, Mrs. Donaldson will soon discover that she rather enjoys role-play at the hospital\, and the irregular and startling entertainment provided by her tenants.A master storyteller dissects a very English form of secrecy with this story of the unexpected in otherwise apparently ordinary lives.  Directed by Amy Kossow.
URL:https://litseen.com/event/smut-an-unseemly-story-the-greening-of-mrs-donaldson/
LOCATION:Z Space\, 450 Florida Street\, San Francisco\, CA\, 94110\, United States
CATEGORIES:Free,San Francisco
END:VEVENT
BEGIN:VEVENT
DTSTART;TZID=UTC:20170515T190000
DTEND;TZID=UTC:20170515T200000
DTSTAMP:20260421T115721
CREATED:20170320T103059Z
LAST-MODIFIED:20170502T010942Z
UID:25526-1494874800-1494878400@litseen.com
SUMMARY:Mary Gaitskill
DESCRIPTION:Reading and Signing with Mary Gaitskill for “Somebody with a Little Hammer”.
URL:https://litseen.com/event/mary-gaitskill/
LOCATION:Jewish Community Center of San Francisco\, 3200 California St\, San Francisco\, CA\, 94118\, United States
CATEGORIES:San Francisco
END:VEVENT
BEGIN:VEVENT
DTSTART;TZID=America/Los_Angeles:20170515T190000
DTEND;TZID=America/Los_Angeles:20170515T210000
DTSTAMP:20260421T115721
CREATED:20170414T030146Z
LAST-MODIFIED:20170512T031715Z
UID:26028-1494874800-1494882000@litseen.com
SUMMARY:POETS! - featured readers followed by an open mic
DESCRIPTION:
URL:https://litseen.com/event/poets-featured-readers-followed-by-an-open-mic-2/
LOCATION:CA
CATEGORIES:San Francisco
END:VEVENT
BEGIN:VEVENT
DTSTART;TZID=UTC:20170515T190000
DTEND;TZID=UTC:20170515T210000
DTSTAMP:20260421T115721
CREATED:20170429T022133Z
LAST-MODIFIED:20170429T022133Z
UID:26496-1494874800-1494882000@litseen.com
SUMMARY:The Odd Mondays Series
DESCRIPTION:The Odd Mondays Series at Folio Books \nMonday\, May 15th\, 7 PM \n3957 24th Street\, San Francisco \nA LITERARY POTPOURRI \nFeaturing Authors: Erika Atkinson\, Michael Helquist\, Andrew McIntyre\, Laynie Tzena. \nFREE ADMISSION \nERIKA ATKINSON signed up with the Canadian Foreign Service in Washington\, D.C.\, for several years\, after which she worked in administrative positions in schools\, colleges\, and universities across Canada\, the United States\, and various parts of Europe before settling in Bernal Heights in 1984. She is the author of five books. Two of them\, Happily Lost in Time and Place\, and More Miles and Moments\, are collected stories about adventures of happenstance\, about characters\, situations\, and experiences that were never planned. In her book Frozen Stillness\, she recounts her journey to Antarctica in 2010. Her first collection of poetry\, Exhort the Goddesses\, was compiled in 2015 to honor the Supreme Court’s historic decision that same sex marriage be declared legal across the United States. The most recent book\, Ode to the Castro\, is her dedication to the neighborhood she loves\, where she has now lived and played for nearly two decades. \nMICHAEL HELQUIST is an awarding-winning author\, journalist\, and historian. He has published in “Ms. Magazine\,” “The Advocate”\, “American Medical News”\, and “The Oregon Historical Quarterly.” As a medical journalist\, he consulted for the World Health Organization\, the Centers for Disease Control\, and the U.S. State Department. He was inspired to write the biography\, Marie Equi: Radical Politics & Outlaw Passions\, because of Dr. Equi’s fierce struggle as an outsider to achieve independence\, and her commitment to social and economic justice. Helquist lived in Noe Valley for five years before relocating to the North Panhandle neighborhood. \nAfter years of traveling\, ANDREW McINTYRE has found a settled existence in San Francisco. He attended universities in England\, Scotland\, Japan\, and the United States\, and holds master’s degrees in Economics and Comparative Literature. His stories have appeared in numerous magazines\, including “The Mississippi Review\,” “3:AM Magazine”\, “Long Story Short”\, “The Copperfield Review”\, and “Pindeldyboz.” In 2002\, he was a finalist in Ireland’s Fish Short Story Prize. His short story collection\, The Short\, the Long\, and the Tall\, was published by Merilang Press in December\, 2010. He lives in San Francisco. \nLAYNIE TZENA is a writer\, performer\, and visual artist based in San Francisco. Her work has been published in “Bayou”\, “Event”\, “The Michigan Quarterly Review”\, “Sonora Review”\, and “Zone 3\,” among others; she has received an Avery Hopwood Award in Poetry\, was named on of the “New Voices in Michigan Poetry”\, and has been a Cranbrook Fiction Scholar. “Glimmer Train” recently included her short story\, “Egg\,” in the top 25 of its “Family Matters” competition. Tzena has been a featured performer at the Austin International Poetry Festival\, the Marsh Café\, the Monkey House\, and on Michigan Public Radio. \nConsider joining us for a no-host pizza/salad or other entré dinner ($15-20)\, before the reading\, 5:30 p.m. at the Haystack Pizza Restaurant\, south side of 24th near Sanches Street. \nThe 24 line and the 48 line and the J Church are the nearby Muni transportation lines available. \nwww.oddmondays.com \nOdd Mondays is presented by Judith and Ramón Sender and Folio Books. \n“You shall know the truth\, and the truth shall make you odd.” -Flannery O’Connor
URL:https://litseen.com/event/the-odd-mondays-series/
LOCATION:Folio Books\, 3957 24th St\, San Francisco \, CA\, 94114\, United States
CATEGORIES:Free,San Francisco
END:VEVENT
BEGIN:VEVENT
DTSTART;TZID=UTC:20170515T193000
DTEND;TZID=UTC:20170515T213000
DTSTAMP:20260421T115721
CREATED:20161223T032904Z
LAST-MODIFIED:20161223T032904Z
UID:24339-1494876600-1494883800@litseen.com
SUMMARY:Hala Alyan
DESCRIPTION:Join us to celebrate a dazzling new literary voice\, Hala Alyan\, and her debut novel\, Salt Houses\, about a Palestinian family caught between present and past\, between displacement and home. \nOn the eve of her daughter Alia’s wedding\, Salma reads the girl’s future in a cup of coffee dregs. She sees an unsettled life for Alia and her children; she also sees travel\, and luck. While she chooses to keep her predictions to herself that day\, they will all soon come to pass when the family is uprooted in the wake of the Six-Day War of 1967. Salma is forced to leave her home in Nablus; Alia’s brother gets pulled into a politically militarized world he can’t escape; and Alia and her gentle-spirited husband move to Kuwait City\, where they reluctantly build a life with their three children. When Saddam Hussein invades Kuwait in 1990\, Alia and her family once again lose their home\, their land\, and their story as they know it\, scattering to Beirut\, Paris\, Boston\, and beyond. Soon Alia’s children begin families of their own\, once again navigating the burdens (and blessings) of assimilation in foreign cities. Lyrical and heartbreaking\, Salt Houses is a remarkable debut novel that challenges and humanizes an age-old conflict we might think we understand—one that asks us to confront that most devastating of all truths: you can’t go home again.
URL:https://litseen.com/event/hala-alyan/
LOCATION:The Booksmith\, 1644 Haight St\, San Francisco \, CA\, 94117\, United States
CATEGORIES:Free,San Francisco
END:VEVENT
END:VCALENDAR