BEGIN:VCALENDAR
VERSION:2.0
PRODID:-//Litseen - ECPv6.15.11//NONSGML v1.0//EN
CALSCALE:GREGORIAN
METHOD:PUBLISH
X-WR-CALNAME:Litseen
X-ORIGINAL-URL:https://litseen.com
X-WR-CALDESC:Events for Litseen
REFRESH-INTERVAL;VALUE=DURATION:PT1H
X-Robots-Tag:noindex
X-PUBLISHED-TTL:PT1H
BEGIN:VTIMEZONE
TZID:UTC
BEGIN:STANDARD
TZOFFSETFROM:+0000
TZOFFSETTO:+0000
TZNAME:UTC
DTSTART:20160101T000000
END:STANDARD
END:VTIMEZONE
BEGIN:VEVENT
DTSTART;TZID=UTC:20170510T190000
DTEND;TZID=UTC:20170611T233000
DTSTAMP:20260419T102418
CREATED:20170429T031921Z
LAST-MODIFIED:20170510T173954Z
UID:26502-1494442800-1497223800@litseen.com
SUMMARY:Smut: An Unseemly Story (The Greening of Mrs. Donaldson)
DESCRIPTION:One of England’s finest and most loved writers\, Alan Bennett\, explores the uncomfortable and tragicomic gap between people’s public appearance and their private desires in this tender and surprising story. In The Greening of Mrs. Donaldson\, a recently bereaved widow finds interesting ways to supplement her income by performing as a patient for medical students\, and renting out her spare room. Quiet\, middle-class\, and middle-aged\, Mrs. Donaldson will soon discover that she rather enjoys role-play at the hospital\, and the irregular and startling entertainment provided by her tenants.A master storyteller dissects a very English form of secrecy with this story of the unexpected in otherwise apparently ordinary lives.  Directed by Amy Kossow.
URL:https://litseen.com/event/smut-an-unseemly-story-the-greening-of-mrs-donaldson/
LOCATION:Z Space\, 450 Florida Street\, San Francisco\, CA\, 94110\, United States
CATEGORIES:Free,San Francisco
END:VEVENT
BEGIN:VEVENT
DTSTART;TZID=UTC:20170522T190000
DTEND;TZID=UTC:20170522T213000
DTSTAMP:20260419T102418
CREATED:20170511T035629Z
LAST-MODIFIED:20170511T035629Z
UID:26815-1495479600-1495488600@litseen.com
SUMMARY:Bay Area Generations #45
DESCRIPTION:May 22 in San Francisco\, California at Hotel Rex\n\nGuest Curator: Teri Lee Kline\nBay Area Generations Curators: Sandra Wassilie + Amos White\nREADERS\nTBA\n\nMUSICAL GUEST\nTBA\n\nBAY AREA GENERATIONS\, EDITION #45\nMonday\, May 22\, 2017\nat Hotel Rex\, 562 Sutter St.\, San Francisco\, CA\n* Free On-street After 6pm * Full bar and menu *  Walkable from BART\n6:30 p.m. –  Writers Mixer at the bar\n7:00 p.m.  – Doors open to Public\n7:30 p.m.  – Show Starts\nSuggested donation $7.00 (admission)\, $10.00 with a souvenir chapbook\nDirections  Hotel Rex is located in San Francisco at 562 Sutter Street\, SF\, CA\, near Union Square\, and walkable from BART. Hotel Rex is a full service hotel offering a full bar and kitchen.. Map\, Event Page.\nBay Area Generations: a literary reading series features notable authors\, poets\, writers\, playwrights and musicians in a paired reading show\, monthly. \nWeb:  www.bayareagenerations.com\nFB Page:  www.facebook.com/bayareagenerations\nTwitter:  www.twitter.com/bayareagenerati \nBAG Events: www.facebook.com/events\nLiterary and Poetry Submissions: www.bayareagenerations.com/how-to-submit/
URL:https://litseen.com/event/bay-area-generations-45/
LOCATION:Hotel Rex\, 562 Sutter Street\, San Francisco\, CA\, 94102\, United States
CATEGORIES:San Francisco
END:VEVENT
BEGIN:VEVENT
DTSTART;TZID=UTC:20170522T193000
DTEND;TZID=UTC:20170522T213000
DTSTAMP:20260419T102418
CREATED:20170504T234002Z
LAST-MODIFIED:20170504T234002Z
UID:26713-1495481400-1495488600@litseen.com
SUMMARY:Amber Flame w/ Arisa White
DESCRIPTION:Booksmith is excited to host Amber Flame for the San Francisco launch of her debut poetry collection\,Ordinary Cruelty! With Amber will be the poet Arisa White—please join us! \nIn Ordinary Cruelty\, Flame spells out rituals in everyday decisions to hold on or let go. While questioning the role of elder\, mentor\, mother in the face of losing those figures\, Flame details the unrelenting nature of parenthood through the cycles of grief. Her poems rejoice in the brown skin of the female body\, while soberly acknowledging the societal dangers of claiming such skin as home. Flame takes the reader through a visceral examination of the body’s processes of both dying and continuing to live and the joy to be found while we do. \nAn award-winning writer\, composer and performer\, Amber Flame is also a professional singer\, Hedgebrook alum\, and member of The Watering Hole tribe. Flame’s original work has been published and recorded in diverse arenas\, including Def Jam Poetry\, Winter Tangerine\, The Dialogist\, Split This Rock\, Black Heart Magazine\, Sundress Publications\, Redivider Journal and more. A Jack Straw Writer and recipient of the CityArtist grant from Seattle’s Office of Arts and Cultural Affairs\, Flame’s first full-length collection\, Ordinary Cruelty is just out with Write Bloody Press. Flame works with a Black independent media company\, This Week in Blackness\, co-produces the Oakland Slam\, and teaches workshops for all ages. Amber Flame is a queer Black single mama just one magic trick away from growing her unicorn horn. \nArisa White is a Cave Canem fellow\, a graduate from the University of Massachusetts\, Amherst\, and author of the books Disposition for Shininess\,dear Gerald\, and Black Pearl. Her most recent book is the full length poetry collection You’re The Most Beautiful Thing That Happened (Augury Books\, 2016.)
URL:https://litseen.com/event/amber-flame-w-arisa-white/
LOCATION:The Booksmith\, 1644 Haight St\, San Francisco \, CA\, 94117\, United States
CATEGORIES:Free,San Francisco
END:VEVENT
BEGIN:VEVENT
DTSTART;TZID=UTC:20170522T193000
DTEND;TZID=UTC:20170522T213000
DTSTAMP:20260419T102418
CREATED:20170505T000623Z
LAST-MODIFIED:20170505T000631Z
UID:26735-1495481400-1495488600@litseen.com
SUMMARY:Peter Cole w/ Matthew Zapruder
DESCRIPTION:Praise for Peter Cole: \n“A matchless translator and one of the handful of authentic poets in his own American generation. Hymns & Qualms is a majestic work\, a chronicle of the imaginative life of a profoundly spiritual consciousness.” — Harold Bloom \n“His vivid\, sonorous English translations of secular and mystical Hebrew verse that was previously ­neglected or regarded as esoteric\, parochial\, or simply too difficult have remade the American Jewish canon.” — Joshua Cohen\, The Paris Review
URL:https://litseen.com/event/peter-cole-w-matthew-zapruder/
LOCATION:Green Apple Books on the Park\, 1231 9th Ave\, San Francisco \, CA\, 94122\, United States
CATEGORIES:Free,San Francisco
END:VEVENT
BEGIN:VEVENT
DTSTART;TZID=UTC:20170522T193000
DTEND;TZID=UTC:20170522T213000
DTSTAMP:20260419T102418
CREATED:20170522T134812Z
LAST-MODIFIED:20170523T014916Z
UID:27018-1495481400-1495488600@litseen.com
SUMMARY:Clark Coolidge
DESCRIPTION:Moe’s welcomes poet\, musician and old friend Clark Coolidge in celebration of two new releases\, Selected Poems 1962-1985 (Barrytown/Station Hill Press) and The Circus (Flow Press). \nClark Coolidge is the author of more than forty books\, including SELECTED POEMS: 1962-1985\, Space\, Solution Passage\, The Crystal Text\, At Egypt\, NOW IT’S JAZZ: WRITINGS ON KEROUAC & THE SOUNDS\, THE ACT OF PROVIDENCE\, and most recently 88 SONNETS and A BOOK BEGINNING WHAT AND ENDING AWAY. In 2011 he edited a collection of Philip Guston’s writings and talks for University of California Press. Initially a drummer\, he was a member of David Meltzer’s Serpent Power in 1967 and Mix group in 1993-94. Currently he has returned to active drumming with Thurston Moore and the free jazz band Ouroboros.
URL:https://litseen.com/event/clark-coolidge-2/
LOCATION:Moe’s Books\, 2476 Telegraph Ave\, Berkeley\, CA\, 94704\, United States
CATEGORIES:East Bay,Free
END:VEVENT
END:VCALENDAR