BEGIN:VCALENDAR
VERSION:2.0
PRODID:-//Litseen - ECPv6.15.11//NONSGML v1.0//EN
CALSCALE:GREGORIAN
METHOD:PUBLISH
X-ORIGINAL-URL:https://litseen.com
X-WR-CALDESC:Events for Litseen
REFRESH-INTERVAL;VALUE=DURATION:PT1H
X-Robots-Tag:noindex
X-PUBLISHED-TTL:PT1H
BEGIN:VTIMEZONE
TZID:UTC
BEGIN:STANDARD
TZOFFSETFROM:+0000
TZOFFSETTO:+0000
TZNAME:UTC
DTSTART:20160101T000000
END:STANDARD
END:VTIMEZONE
BEGIN:VEVENT
DTSTART;TZID=UTC:20170510T190000
DTEND;TZID=UTC:20170611T233000
DTSTAMP:20260421T101125
CREATED:20170429T031921Z
LAST-MODIFIED:20170510T173954Z
UID:26502-1494442800-1497223800@litseen.com
SUMMARY:Smut: An Unseemly Story (The Greening of Mrs. Donaldson)
DESCRIPTION:One of England’s finest and most loved writers\, Alan Bennett\, explores the uncomfortable and tragicomic gap between people’s public appearance and their private desires in this tender and surprising story. In The Greening of Mrs. Donaldson\, a recently bereaved widow finds interesting ways to supplement her income by performing as a patient for medical students\, and renting out her spare room. Quiet\, middle-class\, and middle-aged\, Mrs. Donaldson will soon discover that she rather enjoys role-play at the hospital\, and the irregular and startling entertainment provided by her tenants.A master storyteller dissects a very English form of secrecy with this story of the unexpected in otherwise apparently ordinary lives.  Directed by Amy Kossow.
URL:https://litseen.com/event/smut-an-unseemly-story-the-greening-of-mrs-donaldson/
LOCATION:Z Space\, 450 Florida Street\, San Francisco\, CA\, 94110\, United States
CATEGORIES:Free,San Francisco
END:VEVENT
BEGIN:VEVENT
DTSTART;TZID=UTC:20170524T064500
DTEND;TZID=UTC:20170524T204500
DTSTAMP:20260421T101125
CREATED:20170519T110253Z
LAST-MODIFIED:20170519T110253Z
UID:26978-1495608300-1495658700@litseen.com
SUMMARY:Whistlestop Writers Open Mic
DESCRIPTION:Another Whistlestop Writers Open Mic at Swirl on the Square is rolling into town. The event\, which is open to writers of all genres (and lit lovers)\, occurs on Wednesday\, May 24th at 6:45 p.m. Come join us!
URL:https://litseen.com/event/whistlestop-writers-open-mic/
LOCATION:Swirl on the Square\, 21 S Livermore Ave\, Livermore\, CA\, 94550\, United States
CATEGORIES:East Bay,Free
END:VEVENT
BEGIN:VEVENT
DTSTART;TZID=UTC:20170524T180000
DTEND;TZID=UTC:20170524T190000
DTSTAMP:20260421T101125
CREATED:20170524T013618Z
LAST-MODIFIED:20170524T013618Z
UID:27048-1495648800-1495652400@litseen.com
SUMMARY:Peg Alford Pursell + Robert Thomas Reading
DESCRIPTION:Award-winning local authors Peg Alford Pursell and Robert Thomas will be stopping by our store to read excerpts from their works!
URL:https://litseen.com/event/peg-alford-pursell-robert-thomas-reading/
LOCATION:Mad Monk Center for Anachronistic Media\, 2454 Telegraph Ave\, Berkeley\, CA\, 94704\, United States
CATEGORIES:East Bay,Free
END:VEVENT
BEGIN:VEVENT
DTSTART;TZID=UTC:20170524T180000
DTEND;TZID=UTC:20170524T200000
DTSTAMP:20260421T101125
CREATED:20170504T232449Z
LAST-MODIFIED:20170504T232449Z
UID:26704-1495648800-1495656000@litseen.com
SUMMARY:Magazine Launch Party: Forum (CCSF)
DESCRIPTION:Established in 1937\, Forum Magazine is a student-run literary journal that serves the City College of San Francisco community. Dedicated to providing a platform for the contemporary\, urban voices of our institution\, Forum collects\, edits and publishes quality works of literature and the visual arts as produced by the CCSF family. Publication is open to any who have ever been involved with the school\, whether as student\, educator or employee. Forum is published twice each year\, once in both the Fall and Spring semesters. \nForum Magazine is a student-produced publication of the City College of San Francisco and the stories\, artwork and views expressed within its pages are not necessarily those of\, or shared by\, the college as a whole or its administration. \nFor those who wish to view or purchase copies of Forum\, you can find them for purchase at the Ocean Campus bookstore\, at the English department on the 5th floor of Batmale Hall\, or you can request a copy via email through editor@forumccsf.org. \nQuestions or comments concerning Forum? Interested in sharing a short piece regarding literary matters? You can also email us at editor@forumccsf.org.
URL:https://litseen.com/event/magazine-launch-party-forum-ccsf/
LOCATION:Adobe Books\, 3130 24th St.\, San Francisco\, CA\, 94110\, United States
CATEGORIES:Free,San Francisco
END:VEVENT
BEGIN:VEVENT
DTSTART;TZID=UTC:20170524T190000
DTEND;TZID=UTC:20170524T200000
DTSTAMP:20260421T101125
CREATED:20170118T063951Z
LAST-MODIFIED:20170204T041757Z
UID:24751-1495652400-1495656000@litseen.com
SUMMARY:David Brazil w/ Julien Poirier
DESCRIPTION:David Brazil celebrates the release of \nHoly Ghost  \npublished by City Lights Books \nThe third full-length collection from poet-scholar-activist David Brazil\, Holy Ghost is a hymnal with secular burdens\, poured from the mold of our actual life in common\, sung against its limits. It seeks a way to find and build a soul together\, and records the seekers’ findings along the way\, proposing love as our common human denominator. A record of the author’s struggle to forge a relationship between two distinct vocations—one historical\, as an activist (with Occupy Oakland\, among other projects)\, and one spiritual\, as he explores the path of radical Christian discipleship (in his life as a pastor)—Holy Ghost attempts to articulate an understanding of where class struggle meets the will of God. \nDavid Brazil is a poet\, translator\, and novelist. His books include The Ordinary and Antisocial Patience. With Kevin Killian\, he edited the Kenning Anthology of Poets Theater 1945-1985. From 2008 to 2011 he published over sixty issues of the seminal TRY! magazine with Sara Larsen. David co-pastors a house church in Oakland and works for social justice with the Faith Alliance for a Moral Economy. He’s a Scorpio. \nJulien Poirier is a co-founder of Ugly Duckling Presse. He has taught poetry in New York City and San Francisco public schools and at San Quentin State Prison. Previous books include Way Too West (2015) and El Golpe Chileño (2010). City Lights Books recently published his poetry collection titled OUT OF PRINT\, as volume 14 in the Spotlight Poetry Series.\nPraise for Holy Ghost: \n“All singing is contemporaneous in the heart\, & thus I’d call Holy Ghost heart-felt. It keeps time with the forms of its devotion\, touching various eras of diction\, prayer & song & verse & hymn. In the mind then\, all at once\, it does becomes a work of love; for the reader\, for paths of grace & liberation\, & for the singing that refuses to abide our time but takes its measure\, day by day\, in wounded\, contemplative poems. Everywhere it must be poor it is. It comes to us in penury because the search for company & love is the struggle of students & poets who seeks out such wealth in an era when they’re ever more in peril. So it arrives rich\, by which I mean empty handed\, & so doing makes the book into a little ball of light\, a trove of mercy’s tone\, & my heart’s treasure.” ––Dana Ward\n“Musings on Holy Ghost . . . remarkable loveliness . . . a Soul singing praises to souls\, free of general rancor . . . One of the special books of this decade and should be read by Souls or Ghosts or Geists in search of assurance and aware of Ecclesiastes’ Preacher who says that the souls of men fly up\, up\, up\, and that the undersoul of beasts dives down\, down into the earth. A key to Holy Ghost is that it’s all going at once in all directions. Each time Brazil’s extended poem folds\, or curls\, or shifts\, the point of concentration or consideration is experienced as if under a loupe of the spirit. It is clear that the Holy Ghost is everywhere at all times at once. The poem is not held to historical imaginings of time-space. Resembling the speech of Dogen in his visionary 13th-century fascicles\, or the Cloud of Unknowing\, or Saint Francis’ lamb in the furnace\, Holy Ghost does not speak about itself—it is itself. There is not wisdom to speak of because the field for wisdom does not exist except in a convention that is elsewhere. Brazil’s Holy Ghost is as Romantic as a long poem by Percy Shelley. An act of beauty—breath-taking. As unexpected as A.N. Whitehead’s Function of Reason and Christian Morgenstern’s nonsense poetry. Brazil brings to mind the tenseless\, non-subjective (not centered on the ‘I’ figure)\, and numberless of some Asian languages. I free-float in the presence of this wholly Kindness-Ghost as I would float in a Navajo world—like that world\, the surrounding is strange and natural. Bask in it . . . Slip in or out of it . . . Any muscular ring or reflection in\, on\, or part of the Holy Ghost\, is the Ghost. The Holy Ghost shimmers with Jack Kerouac’s Blues\, and on the page (typographically) can be as precise as Diane di Prima’s poetry and Leslie Scalapino’s . . . It’s not impossible to hear Kurt Cobain humming in the background.”––Michael McClure \n\n\n\n\n 
URL:https://litseen.com/event/david-brazil-w-julien-poirier/
LOCATION:City Lights Bookstore\, 261 Columbus Ave\, San Francisco \, CA\, 94133\, United States
CATEGORIES:Free,San Francisco
END:VEVENT
BEGIN:VEVENT
DTSTART;TZID=UTC:20170524T190000
DTEND;TZID=UTC:20170524T200000
DTSTAMP:20260421T101125
CREATED:20170502T004222Z
LAST-MODIFIED:20170502T004222Z
UID:26510-1495652400-1495656000@litseen.com
SUMMARY:Perfectly Queer-East Bay: Sea Change Story Hour
DESCRIPTION:Julian Shendelman\, Mya Byrne\, + Daniel Riddle Rodgriguez read from their works.\nMusic by Mya Byrne.
URL:https://litseen.com/event/perfectly-queer-east-bay-sea-change-story-hour/
LOCATION:Nomadic Press: Uptown\, 2301 Telegraph Ave.\, Oakland\, CA\, 94612\, United States
CATEGORIES:East Bay,Free
END:VEVENT
BEGIN:VEVENT
DTSTART;TZID=UTC:20170524T193000
DTEND;TZID=UTC:20170524T213000
DTSTAMP:20260421T101125
CREATED:20170504T234600Z
LAST-MODIFIED:20170504T234600Z
UID:26719-1495654200-1495661400@litseen.com
SUMMARY:Claire Dederer w/ Peggy Orenstein
DESCRIPTION:From the New York Times best-selling author of Poser: My Life in Twenty-Three Yoga Poses\, a ferocious\, sexy\, hilarious memoir about going off the rails at midlife and trying to reconcile the girl she was with the woman she has become. \nJoin us as we welcome Claire Dederer to celebrate Love and Trouble: A Midlife Reckoning. She’ll be reading and in conversation with Peggy Orenstein! \nClaire Dederer is a happily married mother of two\, ages nine and twelve\, when she suddenly finds herself totally despondent and\, simultaneously\, suffering through a kind of erotic reawakening. This exuberant memoir shifts between her present experience as a middle-aged mom in the grip of mysterious new hungers and herself as a teenager – when she last experienced life with such heightened sensitivity and longing. From her hilarious chapter titles (“How to Have Sex with Your Husband of Seventeen Years”) to her subjects – from the boyfriend she dumped at fourteen the moment she learned how to give herself an orgasm\, to the girls who ruled her elite private school (“when I left Oberlin I thought I had done with them forever\, but it turned out …they also edited all the newspapers and magazines\, and wrote all the books”)\, to raising a teenage daughter herself – Dederer writes with an electrifying blend of wry wit and raw honesty. She exposes herself utterly\, and in doing so captures something universal about the experience of being a woman\, a daughter\, a wife. \nClaire Dederer is the author of the New York Times best-selling memoir Poser: My Life in Twenty-Three Yoga Poses\, which has been translated into twelve languages\, and which Elizabeth Gilbert called “the book we all need.” A book critic\, essayist\, and reporter\, Dederer is a longtime contributor to The New York Timesand has also written for The Atlantic\, Vogue\, Slate\, The Nation\, and New York magazine\, among other publications. She lives on an island near Seattle with her family. \n Peggy Orenstein is the author of The New York Times best-sellers Girls & Sex\, Cinderella Ate My Daughter and Waiting for Daisy as well asFlux: Women on Sex\, Work\, Kids\, Love and Life in a Half-Changed World and the classic SchoolGirls: Young Women\, Self-Esteem and the Confidence Gap. A contributing writer for The New York Times Magazine\, Peggy has also written for such publications as The Los Angeles Times\, Vogue\, Elle\, Time\, Mother Jones\, Slate\, O: The Oprah Magazine\, and The New Yorker\, and has contributed commentaries to NPR’s All Things Considered and the PBS Newshour. Her articles have been anthologized multiple times\, including in The Best American Science Writing.
URL:https://litseen.com/event/claire-dederer-w-peggy-orenstein/
LOCATION:The Booksmith\, 1644 Haight St\, San Francisco \, CA\, 94117\, United States
CATEGORIES:Free,San Francisco
END:VEVENT
END:VCALENDAR