BEGIN:VCALENDAR
VERSION:2.0
PRODID:-//Litseen - ECPv6.15.11//NONSGML v1.0//EN
CALSCALE:GREGORIAN
METHOD:PUBLISH
X-ORIGINAL-URL:https://litseen.com
X-WR-CALDESC:Events for Litseen
REFRESH-INTERVAL;VALUE=DURATION:PT1H
X-Robots-Tag:noindex
X-PUBLISHED-TTL:PT1H
BEGIN:VTIMEZONE
TZID:UTC
BEGIN:STANDARD
TZOFFSETFROM:+0000
TZOFFSETTO:+0000
TZNAME:UTC
DTSTART:20160101T000000
END:STANDARD
END:VTIMEZONE
BEGIN:VEVENT
DTSTART;TZID=UTC:20170510T190000
DTEND;TZID=UTC:20170611T233000
DTSTAMP:20260421T114640
CREATED:20170429T031921Z
LAST-MODIFIED:20170510T173954Z
UID:26502-1494442800-1497223800@litseen.com
SUMMARY:Smut: An Unseemly Story (The Greening of Mrs. Donaldson)
DESCRIPTION:One of England’s finest and most loved writers\, Alan Bennett\, explores the uncomfortable and tragicomic gap between people’s public appearance and their private desires in this tender and surprising story. In The Greening of Mrs. Donaldson\, a recently bereaved widow finds interesting ways to supplement her income by performing as a patient for medical students\, and renting out her spare room. Quiet\, middle-class\, and middle-aged\, Mrs. Donaldson will soon discover that she rather enjoys role-play at the hospital\, and the irregular and startling entertainment provided by her tenants.A master storyteller dissects a very English form of secrecy with this story of the unexpected in otherwise apparently ordinary lives.  Directed by Amy Kossow.
URL:https://litseen.com/event/smut-an-unseemly-story-the-greening-of-mrs-donaldson/
LOCATION:Z Space\, 450 Florida Street\, San Francisco\, CA\, 94110\, United States
CATEGORIES:Free,San Francisco
END:VEVENT
BEGIN:VEVENT
DTSTART;TZID=UTC:20170531T180000
DTEND;TZID=UTC:20170531T200000
DTSTAMP:20260421T114640
CREATED:20170427T025717Z
LAST-MODIFIED:20170427T025717Z
UID:26464-1496253600-1496260800@litseen.com
SUMMARY:Such a Nasty Woman: Female Writers Respond to Trump
DESCRIPTION:Many women woke up on November 9\, 2016 and wondered if clocks had been set back 100 years. A man who bragged about his sexual assaults\, referred to women as pigs and bimbos\, and in a televised debate\, called Hillary Clinton “a nasty woman\,” had just been elected president. \nThis man has threatened to defund Planned Parenthood\, and implied that military rape is to be expected. His vice president boasts of consigning Roe v. Wade “to the ash heap of history where it belongs.” It’s enough to make a female pacifist take up arms. \nThis panel of brave\, outspoken\, and articulate authors will ask some tough questions. How can women hold their ground in such a cultural recession? And what kind of vital role can female writers play during this age of ignorance and fear? Moderated by author/journalist Vanessa Hua.
URL:https://litseen.com/event/such-a-nasty-woman-female-writers-respond-to-trump/
LOCATION:San Francisco Public Library\, 100 Larkin St\, San Francisco \, CA\, 94102\, United States
CATEGORIES:Free,San Francisco
END:VEVENT
BEGIN:VEVENT
DTSTART;TZID=UTC:20170531T190000
DTEND;TZID=UTC:20170531T210000
DTSTAMP:20260421T114640
CREATED:20170201T045915Z
LAST-MODIFIED:20170201T045915Z
UID:25044-1496257200-1496264400@litseen.com
SUMMARY:Wendy Lesser
DESCRIPTION:Wendy Lesser\, founder and editor of The Threepenny Review\, discusses her landmark biography\, You Say to Brick: The Life of Louis Kahn. \nBorn to a Jewish family in Estonia in 1901 and brought to America in 1906\, the architect Louis Kahn grew up in poverty in Philadelphia; by the time of his death in 1974\, he was widely recognized as one of the greatest architects of his era. Yet this enormous reputation was based on only a handful of masterpieces\, all built during the last fifteen years of his life. \nPerfectly complementing Nathaniel Kahn’s award-winning documentary\, My Architect\, Wendy Lesser’s You Say to Brick is a major exploration of the architect’s life and work. Kahn\, perhaps more than any other twentieth-century American architect\, was a public architect. Eschewing the usual corporate skyscrapers\, hotels\, and condominiums\, he focused on medical and educational research facilities\, government centers\, museums\, libraries\, parks\, religious buildings\, and other structures that would serve the public good. Yet this warm\, captivating person\, beloved by students and admired by colleagues\, was also a secretive and mysterious character hiding behind a series of masks. \nDrawing on extensive original research; lengthy interviews with his children\, his colleagues\, and his students; and travel to the far-flung sites of his career-defining buildings\, Lesser has written a landmark biography of this elusive man\, which reveals the mind behind some of the twentieth century’s most celebrated architecture.
URL:https://litseen.com/event/wendy-lesser/
LOCATION:Books Inc. Berkeley\, 1491 Shattuck Ave\, Berkeley \, CA\, 94710\, United States
CATEGORIES:East Bay,Free
END:VEVENT
END:VCALENDAR