BEGIN:VCALENDAR
VERSION:2.0
PRODID:-//Litseen - ECPv6.15.11//NONSGML v1.0//EN
CALSCALE:GREGORIAN
METHOD:PUBLISH
X-WR-CALNAME:Litseen
X-ORIGINAL-URL:https://litseen.com
X-WR-CALDESC:Events for Litseen
REFRESH-INTERVAL;VALUE=DURATION:PT1H
X-Robots-Tag:noindex
X-PUBLISHED-TTL:PT1H
BEGIN:VTIMEZONE
TZID:UTC
BEGIN:STANDARD
TZOFFSETFROM:+0000
TZOFFSETTO:+0000
TZNAME:UTC
DTSTART:20160101T000000
END:STANDARD
END:VTIMEZONE
BEGIN:VEVENT
DTSTART;TZID=UTC:20170510T190000
DTEND;TZID=UTC:20170611T233000
DTSTAMP:20260419T120740
CREATED:20170429T031921Z
LAST-MODIFIED:20170510T173954Z
UID:26502-1494442800-1497223800@litseen.com
SUMMARY:Smut: An Unseemly Story (The Greening of Mrs. Donaldson)
DESCRIPTION:One of England’s finest and most loved writers\, Alan Bennett\, explores the uncomfortable and tragicomic gap between people’s public appearance and their private desires in this tender and surprising story. In The Greening of Mrs. Donaldson\, a recently bereaved widow finds interesting ways to supplement her income by performing as a patient for medical students\, and renting out her spare room. Quiet\, middle-class\, and middle-aged\, Mrs. Donaldson will soon discover that she rather enjoys role-play at the hospital\, and the irregular and startling entertainment provided by her tenants.A master storyteller dissects a very English form of secrecy with this story of the unexpected in otherwise apparently ordinary lives.  Directed by Amy Kossow.
URL:https://litseen.com/event/smut-an-unseemly-story-the-greening-of-mrs-donaldson/
LOCATION:Z Space\, 450 Florida Street\, San Francisco\, CA\, 94110\, United States
CATEGORIES:Free,San Francisco
END:VEVENT
BEGIN:VEVENT
DTSTART;TZID=UTC:20170601T000000
DTEND;TZID=UTC:20170604T233000
DTSTAMP:20260419T120740
CREATED:20170430T015807Z
LAST-MODIFIED:20170502T010649Z
UID:26512-1496275200-1496619000@litseen.com
SUMMARY:2017 San Francisco Silent Film Festival
DESCRIPTION:JUNE 1\, 2017 – JUNE 4\, 2017 \n2017 San Francisco Silent Film Festival \nCastro Theatre | San Francisco\, CA \nJoin the Center for the Art of Translation at the 2017 San Francisco Silent Film Festival! Each year the Center sponsors new translations of silent film intertitles. Stay tuned for more information. \nSFSFF recently announced the rediscovery of a lost Cecil B. DeMille production—Silence—which is being restored by the Cinémathèque Française and the San Francisco Silent Film Festival as we speak. Silence will have its world premiere at SFSFF 2017. \nAlso\, the cat is out of the bag: Alloy Orchestra will premiere its new score for one of the most intriguing films of the silent era\, Teinosuke Kinugasa’s A Page of Madness\, in a new restoration. \nThe complete schedule will be revealed in late March 2017. \n\nCONTACT: \n\nLeslie-Ann Woofter \nlwoofter@catranslation.org \n(415) 512-8812
URL:https://litseen.com/event/2017-san-francisco-silent-film-festival/
LOCATION:Castro Theater\, 429 Castro Street\, San Francisco \, CA\, 94114\, United States
CATEGORIES:San Francisco
END:VEVENT
BEGIN:VEVENT
DTSTART;TZID=UTC:20170602T123000
DTEND;TZID=UTC:20170602T130000
DTSTAMP:20260419T120740
CREATED:20170513T010116Z
LAST-MODIFIED:20170513T010116Z
UID:26826-1496406600-1496408400@litseen.com
SUMMARY:Have a Poet for Lunch w/ Juliana Delgado Lopera
DESCRIPTION:Enjoy a lunchtime poetic performance in the gallery with Juliana Delgado Lopera in conjunction with Pride Month and the exhibition Cary Leibowitz: Museum Show. \n  \nJuliana Delgado Lopera is an award-winning Colombian writer/educator/oral-historian based in San Francisco. The recipient of the 2014 Jackson Literary award\, and a finalist of the Clark-Gross Novel award\, she’s the author of ¡Cuéntamelo! an illustrated bilingual collection of oral histories by LGBT Latin@ immigrants awarded the Regen Ginaa Grant from Galería de la Raza and a 2014 National Queer Arts Festival Grant from the Queer Cultural Center. Her work has been nominated for a Pushcart Prize and published in Four Way Review\, Eleven Eleven\, Foglifter\, The Bold Italic\, Weird Sister\, Black Girl Dangerous\, and SF Weekly\, among others. Lopera has performed in countless venues around the West Coast and lectured at San Francisco State University\, Wayward Writers and 826 Valencia. She’s the executive director of RADAR Productions\, a queer literary non-profit in San Francisco.
URL:https://litseen.com/event/have-a-poet-for-lunch-w-juliana-delgado-lopera/
LOCATION:CA
CATEGORIES:San Francisco
END:VEVENT
BEGIN:VEVENT
DTSTART;TZID=UTC:20170602T180000
DTEND;TZID=UTC:20170602T200000
DTSTAMP:20260419T120740
CREATED:20170516T002007Z
LAST-MODIFIED:20170516T002007Z
UID:26919-1496426400-1496433600@litseen.com
SUMMARY:Charmaine Craig
DESCRIPTION:National-bestselling author Charmaine Craig shares her masterful new novel\, Miss Burma. Based on Charmaine’s mother and grandparents\, Miss Burmais a captivating portrait of how modern Burma came to be and of the ordinary people swept up in the struggle for self-determination and freedom.
URL:https://litseen.com/event/charmaine-craig/
LOCATION:Books Inc. Burlingame\, 1375 Burlingame Ave\, Burlingame\, CA\, 94010\, United States
CATEGORIES:Free,South Bay
END:VEVENT
BEGIN:VEVENT
DTSTART;TZID=UTC:20170602T183000
DTEND;TZID=UTC:20170602T203000
DTSTAMP:20260419T120740
CREATED:20170502T004123Z
LAST-MODIFIED:20170502T004123Z
UID:26563-1496428200-1496435400@litseen.com
SUMMARY:Play: Exhibit + Reading
DESCRIPTION:The AfroSurreal Writers and the Kiss My Black Arts Collective will open Let’s Play: Intuition\, Imagination\, and Black Creativity on Fri.\, June 2 at Pro Arts Gallery (150 Frank Ogawa Plaza). \n\n\n\nThis exhibit features more than a dozen Black writers and artists\, with digital and audio projections of their work\, and follows a year of readings/workshops\, cleanings and plantings along Oakland’s San Pablo Avenue. The exhibit will be a celebration of Black neighborhoods and creativity. \nReaders include women from  Serenity House and the AfroSurreal Writers Workshop’s reading series on Intuition and Creativity\, as well as writers/artists Jacqueline Bishop\, Renee Alexander Craft\, Rachel Eliza Griffiths\, Jewelle Gomez\, Victor LaValle\, James Lee\, Kyla Marshell\, Sharan Strange\,  Sheree Renée Thomas\, and Dawnie Walton\, and artwork from the Members of the Kiss My Black Arts Collective\, who will create a mural inside the gallery based on their outdoor mural at San Pablo and Market.  \n  \n\nAbout the Kiss My Black Arts Collective: The Kiss My Black Arts Collective exists to help artists take your creativity to the next level Economically. Together\, they create social economics through Mural projects\, workshops and art exhibitions\, while encouraging participation and collaboration amongst their members\, local artists\, and community leaders through democratic controlled enterprises.  About the AfroSurreal Writers Workshop: The AfroSurreal Writers Workshop amplifies the voices of emerging and established writers and artists of color who create surreal\, futurist\, speculative fiction\, fantasy\, science fiction\, horror\, dystopian\, apocalyptic\, weird\, or absurdist literature and art\, centered in perspectives of people of color. About Serenity House: Serenity House was originally established as a recovery program for women suffering from addiction. Today\, we provide services for women who have been raped or molested as children\, suffer from addiction\, homelessness\, mental health\, and/or emotional issues caused by trauma.
URL:https://litseen.com/event/play-exhibit-reading/
LOCATION:Pro Arts Gallery\, 150 Frank H Ogawa Plaza\, Oakland\, CA\, 94612\, United States
CATEGORIES:East Bay,Free
END:VEVENT
BEGIN:VEVENT
DTSTART;TZID=UTC:20170602T183000
DTEND;TZID=UTC:20170602T203000
DTSTAMP:20260419T120740
CREATED:20170505T004322Z
LAST-MODIFIED:20170505T004322Z
UID:26752-1496428200-1496435400@litseen.com
SUMMARY:San Francisco Grotto Writers: 3 Minute Reads
DESCRIPTION:3 Minute Reads from San Francisco Grotto Writers • 50+ Writers\, 3 Minutes Each! \nJoin us for a fast-paced and irreverent evening\, showcasing new work from the students of the San Francisco Writer’s Grotto writing classes. On this Friday evening\, both fiction and nonfiction writers will read their work — but only for 3 minutes each! Their instructors (Grotto authors) will enforce the time limit. Join us for wine\, fun\, and fresh new writing.
URL:https://litseen.com/event/san-francisco-grotto-writers-3-minute-reads-2/
LOCATION:Book Passage San Francisco\, 1 Ferry Building\, San Francisco\, CA\, 94111\, United States
CATEGORIES:Free,San Francisco
END:VEVENT
BEGIN:VEVENT
DTSTART;TZID=UTC:20170602T190000
DTEND;TZID=UTC:20170602T210000
DTSTAMP:20260419T120740
CREATED:20170503T232455Z
LAST-MODIFIED:20170503T232455Z
UID:26658-1496430000-1496437200@litseen.com
SUMMARY:Brian Hassett's Beat Cafe
DESCRIPTION:Author of The Hitchhiker’s Guide to Jack Kerouac and keynote essayist in The Rolling Stone Book of the Beats\, Brian Hassett performs a comical collage of original and Beat works including a nobody’s-ever-done-it-before chapter from Kerouac’s final novel Pic. \nLongtime friend of Edie Kerouac-Parker\, Carolyn Cassady\, Henri Cru\, and numerous other Beat and Prankster luminaries\, Hassett is a natural and funny storyteller\, and has preformed Kerouac & the Beats on stage in Amsterdam\, London\, Toronto\, New York\, L.A. & at The Beat Museum’s own Beatnik Shindig in 2015. \nThis appearance is celebrating a new special “Summer of Love Edition” of The Hitchhiker’s Guide to Jack Kerouac with additional photos\, bringing the total in the book to 70! \nThis will be his first Bay Area performance in two years and the only one this Summer of Love. \nSpecial guests are likely. \nLively guests are a certainty. \nCharming event.
URL:https://litseen.com/event/brian-hassetts-beat-cafe/
LOCATION:The Beat Museum\, 540 Broadway\, San Francisco \, CA\, 94133\, United States
CATEGORIES:Free,San Francisco
END:VEVENT
BEGIN:VEVENT
DTSTART;TZID=UTC:20170602T190000
DTEND;TZID=UTC:20170602T210000
DTSTAMP:20260419T120740
CREATED:20170504T004252Z
LAST-MODIFIED:20170504T004252Z
UID:26686-1496430000-1496437200@litseen.com
SUMMARY:First Friday: Naked Truth real.stories.live
DESCRIPTION:Registration highly recommended. Registration will open Friday May 19th. \nFor Adults and High School Students only. \nSit back\, enjoy a glass of wine and watch as the Library is transformed into a venue for real people telling real-life stories\, raw and without notes.\nIt’s the 50th anniversary of the summer of love\, when tens of thousands of young people\, in search of something different\, came to San Francisco to find it. In honor of this very special moment in time\, our line-up of talented storytellers will share their own present-day stories of peace\, love\, and liberation. \nJosh Healey is back to emcee with storytellers Emily Epstein White\, Phil Surkis\, and others. \nIf you have a story to tell from the summer of love\, we want to hear it. Throw your name in the hat to tell a one minute story in our optional audience lightening round.
URL:https://litseen.com/event/first-friday-naked-truth-real-stories-live/
LOCATION:Main Reading Room\, Mill Valley Public Library\, 375 Throckmorton Ave\, Mill Valley \, CA\, 94941\, United States
CATEGORIES:Free,North Bay
ORGANIZER;CN="Mill Valley Public Library":MAILTO:abrenner@cityofmillvalley.org
END:VEVENT
BEGIN:VEVENT
DTSTART;TZID=UTC:20170602T190000
DTEND;TZID=UTC:20170602T210000
DTSTAMP:20260419T120740
CREATED:20170515T234728Z
LAST-MODIFIED:20170515T234728Z
UID:26898-1496430000-1496437200@litseen.com
SUMMARY:RHINO Poetry Magazine's 40th Anniversary Reading Series
DESCRIPTION:Adobe Bookstore welcomes RHINO Poetry magazine and hosting a the reading as part of their 40 Readings in 40 Cities tour! A great series of readings to celebrate RHINO Poetry magazine’s 40th anniversary. \nSpecial guests: \nPeter Kline\, Brittany Perham\, Roy Mash and Cintia Santana. \nhttp://rhinopoetry.org/
URL:https://litseen.com/event/rhino-poetry-magazines-40th-anniversary-reading-series/
LOCATION:Adobe Books\, 3130 24th St.\, San Francisco\, CA\, 94110\, United States
CATEGORIES:Free,San Francisco
END:VEVENT
BEGIN:VEVENT
DTSTART;TZID=UTC:20170602T190000
DTEND;TZID=UTC:20170602T210000
DTSTAMP:20260419T120740
CREATED:20170527T005609Z
LAST-MODIFIED:20170527T005609Z
UID:27086-1496430000-1496437200@litseen.com
SUMMARY:Poets of Color Podcast
DESCRIPTION:Fundraiser: Poets of Color Podcast\nFriday\, June 2\, 2017 | 7:00 pm \nFundraiser and Showcase for the upcoming Poets of Color Podcast. \nThe Poets of Color Podcast is dropping June 2017 and your host’s Asha Sudra & Chris “L7” Cuadrado need your help to make it happen! \nCome enjoy some poetry from local bay area poets of color\, find out what we have planned for the show\, and meet other folks in the community invested in PoC words and narratives. \nFeaturing: \nAsha Sudra \nChris “L7” Cuadrado \nFlavia Mora \nSharif Zakout \nHablo Rw \n\n& More TBA! \n$5 – $10 (NOTAFLOF)
URL:https://litseen.com/event/poets-of-color-podcast/
LOCATION:Galería de la Raza\, 2857 24th Street\, San Francisco \, CA\, 94110\, United States
CATEGORIES:San Francisco
END:VEVENT
END:VCALENDAR