BEGIN:VCALENDAR
VERSION:2.0
PRODID:-//Litseen - ECPv6.15.11//NONSGML v1.0//EN
CALSCALE:GREGORIAN
METHOD:PUBLISH
X-WR-CALNAME:Litseen
X-ORIGINAL-URL:https://litseen.com
X-WR-CALDESC:Events for Litseen
REFRESH-INTERVAL;VALUE=DURATION:PT1H
X-Robots-Tag:noindex
X-PUBLISHED-TTL:PT1H
BEGIN:VTIMEZONE
TZID:UTC
BEGIN:STANDARD
TZOFFSETFROM:+0000
TZOFFSETTO:+0000
TZNAME:UTC
DTSTART:20160101T000000
END:STANDARD
END:VTIMEZONE
BEGIN:VEVENT
DTSTART;TZID=UTC:20170615T190000
DTEND;TZID=UTC:20170615T210000
DTSTAMP:20260419T072104
CREATED:20170604T230042Z
LAST-MODIFIED:20170604T230042Z
UID:27174-1497553200-1497560400@litseen.com
SUMMARY:Borderlands Lectura Reading Series
DESCRIPTION:The bi-monthly Borderlands Lectura reading series returns with writers exploring the issues of borders and boundaries. Featured readers: Scott Duncan\, Noam Zelaya\, Sara Campos\, Norma Liliana Valdez and John Jota Leaños.
URL:https://litseen.com/event/borderlands-lectura-reading-series/
LOCATION:Alley Cat Books\, 3036 24th St\, San Francisco\, CA\, 94110\, United States
CATEGORIES:Free,San Francisco
END:VEVENT
BEGIN:VEVENT
DTSTART;TZID=UTC:20170615T193000
DTEND;TZID=UTC:20170615T213000
DTSTAMP:20260419T072104
CREATED:20170425T011755Z
LAST-MODIFIED:20170425T011755Z
UID:26319-1497555000-1497562200@litseen.com
SUMMARY:Thomas Centonella
DESCRIPTION:Thomas Centonella presents his new poetry collection\, Almost Human\, winner of the Dorset Prize\, selected by Edward Hirsch. \n\n\n\n\n\n\nAs in a profound love affair\, Thomas Centolella’s new poems register attraction\, delight\, expectations fulfilled and foiled\, and moments of great feeling cherished and/or lamented. Employing the vividness of narrative without yielding to its linear strictures and overly familiar tonalities\, many of the first person protagonists in Almost Human are mysterious figures at once engaging and idiosyncratic\, even outright eccentric. Often betwixt and between\, neither here nor there\, they are uncertain of actually getting anywhere. Almost Human documents the restive life-force incarnated in an endangered species—our own—and charts the movement of the self between spirit and human\, recalling the idea\, attributed to Teilhard de Chardin\, that we aren’t human beings having a spiritual experience but spiritual beings having a human experience. \nThomas Centolella has published three previous books of poetry: American Book Award-winner Terra Firma\, Lights & Mysteries\, and Views from Along the Middle Way. He was a Stegner Fellow at Stanford and has taught literature and creative writing at San Francisco State\, UC extension\, the College of Marin\, and in the California Poets in the Schools Program as well as for the Institute on Aging and WritersCorps. He lives in San Francisco.
URL:https://litseen.com/event/thomas-centonella/
LOCATION:Mrs. Dalloway’s Bookstore\, 2904 College Ave\, Berkeley\, CA\, 94705\, United States
CATEGORIES:East Bay,Free
END:VEVENT
BEGIN:VEVENT
DTSTART;TZID=UTC:20170615T200000
DTEND;TZID=UTC:20170615T220000
DTSTAMP:20260419T072104
CREATED:20170519T111257Z
LAST-MODIFIED:20170523T020624Z
UID:26984-1497556800-1497564000@litseen.com
SUMMARY:You're Going to Die: Poetry\, Prose & Everything Goes
DESCRIPTION:YOU’RE GOING TO DIE: Poetry\, Prose & Everything Goes\nis a total open mic event\, with no set or featured performers\,\nbut only the communal offering for us to explore the conversation of death & dying\, to embrace our losses & mortality\,\nto grieve\, bereave & honor those we’ve lost & love…\nwhile all the while making room for simply being ALIVE. \nSign-ups will be the night of & the list fills up quickly\, so if you want to perform\, you’d better get there early… \nIf you’re going to perform\, keep it under 5 MINUTES. That’s right: 5 MINUTES. WE WILL TIME YOU. And we will hug you when we have to stop you [just to make it easier on you (or harder – depending on your propensity for intimacy)]. \nPoetry\, prose\, music\, dancing\, comedy\, drama\, happy\, sad\, & on & on & on… Remember: EVERYTHING GOES… so do whatever you want. \nYou don’t have to perform anything; the audience is as essential as the performers. \nPlease don’t perform anything with a setup that takes much more time than the time it takes for you to walk onstage. Honestly\, plugging things in is endlessly boring. If you need to borrow an instrument\, figure it out before you’re called to the stage. \nIMPORTANT ::: DON’T TAKE YOURSELF SO SERIOUSLY. Come and have fun. The end. Remember. Someday\, we won’t exist and neither will the English language. If you choose to take yourself seriously\, then take yourself so seriously that it’s stupid. Ridiculousness is encouraged. \nYou’re Going to Die. No. Really. You are.
URL:https://litseen.com/event/youre-going-to-die-poetry-prose-everything-goes-6/
LOCATION:The Lost Church\, 65 Capp Street\, San Francisco\, CA\, 94103\, United States
CATEGORIES:San Francisco
END:VEVENT
END:VCALENDAR