BEGIN:VCALENDAR
VERSION:2.0
PRODID:-//Litseen - ECPv6.15.11//NONSGML v1.0//EN
CALSCALE:GREGORIAN
METHOD:PUBLISH
X-WR-CALNAME:Litseen
X-ORIGINAL-URL:https://litseen.com
X-WR-CALDESC:Events for Litseen
REFRESH-INTERVAL;VALUE=DURATION:PT1H
X-Robots-Tag:noindex
X-PUBLISHED-TTL:PT1H
BEGIN:VTIMEZONE
TZID:UTC
BEGIN:STANDARD
TZOFFSETFROM:+0000
TZOFFSETTO:+0000
TZNAME:UTC
DTSTART:20160101T000000
END:STANDARD
END:VTIMEZONE
BEGIN:VEVENT
DTSTART;TZID=UTC:20170616T080000
DTEND;TZID=UTC:20170618T130000
DTSTAMP:20260419T140200
CREATED:20170323T002808Z
LAST-MODIFIED:20170323T002808Z
UID:25568-1497600000-1497790800@litseen.com
SUMMARY:Americans for the Arts 2017 Annual Convention
DESCRIPTION:Registration is now open! \nThe Americans for the Arts 2017 Annual Convention is heading to San Francisco! Mark your calendars for June 16-18 and join your fellow arts leaders and professionals for the arts networking event of the year\, including: \n• 100+ speakers\n• 35+ sessions\n• 2 preconferences on equity and public art\n• 10+ ARTventure tours across San Francisco \nWith a vibrant culture and history of experimentation in everything from fashion to technology\, San Francisco has long been a haven for artists and innovators. During the tumultuous summer of 1967\, thousands sought out San Francisco for refuge in expression\, community and art. \nOn the 50th anniversary of the Summer of Love\, we’re heading to San Francisco to not only explore this iconic arts center but also discuss the pressing issues of equity\, accessibility and community building in arts world.
URL:https://litseen.com/event/americans-for-the-arts-2017-annual-convention/
LOCATION:Hilton San Francisco Union Square\, 333 O'Farrell St.\, San Francisco\, CA\, 94102\, United States
CATEGORIES:San Francisco
END:VEVENT
BEGIN:VEVENT
DTSTART;TZID=UTC:20170617T110000
DTEND;TZID=UTC:20170617T180000
DTSTAMP:20260419T140200
CREATED:20170606T015125Z
LAST-MODIFIED:20170607T015838Z
UID:27220-1497697200-1497722400@litseen.com
SUMMARY:Bay Area Queer Zine Fest 2017
DESCRIPTION:👽 :: Q U E E R S : I N : S P A C E :: 👽 \nJoin us on Saturday\, June 17th\, as we celebrate independent publishing and the Bay Area’s diverse queer histories. Admission is FREE\, the event is FAMILY FRIENDLY\, and is also ACCESSIBLE. The fest runs from 11 AM – 6 PM! \n  \n🌞 FEATURING 🌞\n– ZINE LIBRARY\n– MAKE YOUR OWN ZINE WORKSHOP\n– ZINE READINGS\n– 40 TABLERS \n  \n🌠 TABLERS 🌠\nAlexis Jimenez\nAnand Vedawala\nBreena Nuñez\nCabronas Healing\nCameron Simmons\nCenter for Sex and Culture\nChulita Vinyl Club\nChris Mancinas\nDating Between the Lines\nDarcy Crash Distro\nThe Degenderettes\nDiscantbelife Press\nElliott Sky Case\nEnola Dismay\nFoglifter\nGlamboyant Zine\nThe Grand Newsstand\nIvy Atoms\nLindsay Rodriguez\nLisa Sy\nMaia Kobabe\nMarie Njoku-Obi\nMixed Race Queer and Feminist Zine\nMixed Rice Zines\nNia King\nNiko Nada\nPatrick Woolf\nQueer Fat Crafts for Ghosts and Cuties\nRadical Queereans\nRoxana Dhada\nSe’mana Thompson\nSilver Sprocket Bicycle Club\nSarah Grace Gladstone\nSonia Nickles\nSouth Bay DIY Zine Collective\nTYFN Zine\, Megalodude & Queen Sen Sen\nVanessa Hernandez\nViolet Zitola\nXicanx Crybaby\nZerena Diaz \n  \n🚀 TRANSPORTATION 🚀\nThe East Bay Community Space is located at 507 55th St in Oakland\, right in the middle of Ashby\, MacArthur\, and Rockridge BART stations! There is limited street parking! No bikes allowed inside the Space! For more transit information\, please visit http://511.org/ \n  \n🌛 ACCESSIBILITY 🌜\nEBCS is fully ADA compliant. There is a lift to both levels of the mezzanine areas. Each of the six gender-neutral bathroom stalls is wheelchair accessible. Only service animals are allowed in the Space. THIS WILL BE A SCENT-FREE EVENT! For more information on how to be scent-free\, visit:http://thinkagaintraining.com/about/fragrance-free/#forparticipants \n  \n☄️ SAFETY ☄️\nBAQZF is a safe space and we won’t tolerate ANY BULLSHIT. This means no discrimination based on gender identity or presentation\, race\, class\, body\, ability\, religion\, or sexuality. No racism\, homophobia\, transphobia\, ableism of any kind will be tolerated. RESPECT the space\, the artists\, their property\, and their work. If at any time you feel unsafe during the event\, grab one of our volunteers\, and we’ll handle the situation. There will be no alcohol allowed on the premises. \n  \n✨ BAQZF MISSION STATEMENT ✨\nThe goal of the Bay Area Queer Zine Fest (BAQZF) is to showcase and promote the DIY publishing scene of the Bay\, while highlighting its diverse queer histories. We aim to illustrate these histories by bringing marginalized voices to the forefront of the fest – specifically those of people of color\, femmes\, disabled folks\, and trans folks. Our mission is clear: we are queer and love zines. This fest is for and by queer people. \n  \n🖖 #arajoforever
URL:https://litseen.com/event/baqzf/
LOCATION:East Bay Community Space\, 507 55th St.\, Oakland\, CA\, 94609\, United States
CATEGORIES:East Bay,Free
END:VEVENT
BEGIN:VEVENT
DTSTART;TZID=UTC:20170617T140000
DTEND;TZID=UTC:20170617T150000
DTSTAMP:20260419T140200
CREATED:20170524T122520Z
LAST-MODIFIED:20170524T122520Z
UID:27061-1497708000-1497711600@litseen.com
SUMMARY:MK Chavez: Guest Poet @Claremont
DESCRIPTION:MK Chavez reads her poems\, followed by an interview and discussion. Pick up a free chapbook of MK Chavez poems at any BPL branch!
URL:https://litseen.com/event/mk-chavez-guest-poet-claremont/
LOCATION:Claremont Branch\, Berkeley Public Library\, 2940 Benvenue Ave\, Berkeley\, CA\, 94705\, United States
CATEGORIES:East Bay,Free
END:VEVENT
BEGIN:VEVENT
DTSTART;TZID=UTC:20170617T190000
DTEND;TZID=UTC:20170617T210000
DTSTAMP:20260419T140200
CREATED:20170615T001803Z
LAST-MODIFIED:20170615T001803Z
UID:27274-1497726000-1497733200@litseen.com
SUMMARY:Poetry Real Life
DESCRIPTION:Guest curator: Tongo Eisen-Martin\nReaders: A’aron Heard\nDavid Lau\nTanea Lunsford\nAndrea Murphy\nIndiana Pehlivanova\nAsh Phillips\nMathew Siegel\nSB Stokes\nRene Vaz
URL:https://litseen.com/event/poetry-real-life/
LOCATION:Alley Cat Books\, 3036 24th St\, San Francisco\, CA\, 94110\, United States
CATEGORIES:Free,San Francisco
END:VEVENT
END:VCALENDAR