BEGIN:VCALENDAR
VERSION:2.0
PRODID:-//Litseen - ECPv6.15.11//NONSGML v1.0//EN
CALSCALE:GREGORIAN
METHOD:PUBLISH
X-ORIGINAL-URL:https://litseen.com
X-WR-CALDESC:Events for Litseen
REFRESH-INTERVAL;VALUE=DURATION:PT1H
X-Robots-Tag:noindex
X-PUBLISHED-TTL:PT1H
BEGIN:VTIMEZONE
TZID:UTC
BEGIN:STANDARD
TZOFFSETFROM:+0000
TZOFFSETTO:+0000
TZNAME:UTC
DTSTART:20160101T000000
END:STANDARD
END:VTIMEZONE
BEGIN:VEVENT
DTSTART;TZID=UTC:20170626T190000
DTEND;TZID=UTC:20170626T200000
DTSTAMP:20260421T095848
CREATED:20170515T235255Z
LAST-MODIFIED:20170621T004430Z
UID:26906-1498503600-1498507200@litseen.com
SUMMARY:The Racket #8: The Body
DESCRIPTION:Our eighth edition of our monthly reading series\, THE RACKET\, is coming to Adobe Books on Monday\, June 26th at 7:00PM. \nThe theme: THE BODY. \nWe’re gathering a talented cast of readers to share their thoughts on the body. Is it erotic? Is it repulsive? Is it a creepy arm of a futuristic government attempting to sway the leanings of a disenfranchised population? \nThe readers: \nJoe Wadlington\nKrista Varela Posell\nJared Roehrig\nChristina Gardner\nSarah Broderick\nChad Koch \nYou’ll have to come and find out. \nAdobe Books\, Monday\, June 26th\, 7:00PM. \nBe there.
URL:https://litseen.com/event/the-racket-the-body/
LOCATION:Adobe Books\, 3130 24th St.\, San Francisco\, CA\, 94110\, United States
CATEGORIES:Free,San Francisco
END:VEVENT
BEGIN:VEVENT
DTSTART;TZID=UTC:20170626T190000
DTEND;TZID=UTC:20170626T210000
DTSTAMP:20260421T095848
CREATED:20170619T132333Z
LAST-MODIFIED:20170620T022057Z
UID:27396-1498503600-1498510800@litseen.com
SUMMARY:Thrity Umrigar
DESCRIPTION:In Everybody’s Son\, during a terrible heat wave in 1991–the worst in a decade–ten-year-old Anton has been locked in an apartment in the projects\, alone\, for seven days\, without air conditioning or a fan. With no electricity\, the refrigerator and lights do not work. Hot\, hungry\, and desperate\, Anton shatters a window and climbs out. Cutting his leg on the broken glass\, he is covered in blood when the police find him. \nJuanita\, his mother\, is discovered in a crack house less than three blocks away\, nearly unconscious and half-naked. When she comes to\, she repeatedly asks for her baby boy. She never meant to leave Anton–she went out for a quick hit and was headed right back\, until her drug dealer raped her and kept her high. Though the bond between mother and son is extremely strong\, Anton is placed with child services while Juanita goes to jail. \nThe Harvard-educated son of a US senator\, Judge David Coleman is a scion of northeastern white privilege. Desperate to have a child in the house again after the tragic death of his teenage son\, David uses his power and connections to keep his new foster son\, Anton\, with him and his wife\, Delores–actions that will have devastating consequences in the years to come. \nFollowing in his adopted family’s footsteps\, Anton\, too\, rises within the establishment. But when he discovers the truth about his life\, his birth mother\, and his adopted parents\, this man of the law must come to terms with the moral complexities of crimes committed by the people he loves most. \nThrity Umrigar is the author of six novels—The Story Hour\, The World We Found\, The Weight of Heaven\, The Space Between Us\, If Today Be Sweet\, and Bombay Time—and the memoir First Darling of the Morning. The Armington Professor of English at Case Western Reserve University and a journalist for nearly twenty years\, she is the winner of the Nieman Fellowship to Harvard and was a 2006 finalist for the PEN/Beyond Margins Award. She lives in Cleveland\, Ohio.
URL:https://litseen.com/event/thrity-umrigar-2/
LOCATION:Book Passage Corte Madera\, 51 Tamal Vista Blvd.\, Corte Madera\, CA\, 94925\, United States
CATEGORIES:Free,South Bay
END:VEVENT
BEGIN:VEVENT
DTSTART;TZID=UTC:20170626T190000
DTEND;TZID=UTC:20170626T210000
DTSTAMP:20260421T095848
CREATED:20170622T013615Z
LAST-MODIFIED:20170622T013615Z
UID:27645-1498503600-1498510800@litseen.com
SUMMARY:Johanna Ely
DESCRIPTION:Johanna Ely is a retired teacher who has been published in several anthologies and online journals including\, Autumn Sky Poetry Daily\, Poetry Breakfast\, California Quarterly\, and most recently\, The Poeming Pigeon. In 2015\, Johanna published a small collection of her poetry titled Transformation. Johanna is the host of a monthly poetry series in Benicia at Rosanna’s European Delights\, and also facilitates the First Tuesday Poetry Group at the Benicia Public Library. She is honored to be the current Poet Laureate of Benicia\, California.
URL:https://litseen.com/event/johanna-ely/
LOCATION:Himalayan Flavors\, 1585 University Ave\, Berkeley\, CA\, 94703\, United States
CATEGORIES:East Bay,Free
END:VEVENT
BEGIN:VEVENT
DTSTART;TZID=UTC:20170626T193000
DTEND;TZID=UTC:20170626T210000
DTSTAMP:20260421T095848
CREATED:20170522T132640Z
LAST-MODIFIED:20170523T020751Z
UID:27010-1498505400-1498510800@litseen.com
SUMMARY:Amelia Gray + Rosecrans Baldwin
DESCRIPTION:Booksmith is doubly excited to host a joint reading by Amelia Gray and Rosecrans Baldwin to celebrate their anticipated new books\, Isadora and The Last Kid Left. Don’t miss this! \nIsadora \nAmelia Gray’s Isadora is a shocking and visceral portrait of an artist and woman drawn to the brink of destruction by the cruelty of life; a legendary artist churning through prewar Europe. Isadora seeks to obliterate the mannered portrait of a dancer and to introduce the reader to a woman who lived and loved without limits\, even in the darkest days of her life. \nThe Last Kid Left \nRosecrans Baldwin’s The Last Kid Left is loosely inspired by a true crime in 1930’s New England. After a double-murder kicks off a scandal in a beach town\, a young woman struggles to create a life for herself and escape the lurid interest of a tight-knit community. This novel is a sort of modern day witch hunt\, involving the precarious lives of two teens\, a small town sheriff\, a retired big-city police officer\, and an aspiring young journalist desperate to make the pages of the New Yorker— they all collide in a media firestorm that threatens to swallow them whole. \n 
URL:https://litseen.com/event/amelia-gray-and-rosecrans-baldwin/
LOCATION:The Booksmith\, 1644 Haight St\, San Francisco \, CA\, 94117\, United States
CATEGORIES:Free,San Francisco
END:VEVENT
BEGIN:VEVENT
DTSTART;TZID=UTC:20170626T193000
DTEND;TZID=UTC:20170626T213000
DTSTAMP:20260421T095848
CREATED:20170615T000858Z
LAST-MODIFIED:20170624T003717Z
UID:27269-1498505400-1498512600@litseen.com
SUMMARY:Bay Area Generations #46
DESCRIPTION:Bay Area Generations Show #46\nLiterary & Poetry Reading\nMonday\, June 26th\, 2017 \nA curated selection of\nSan Francisco Bay Area poets\,\nwriters & storytellers!\nREADERS\nPeter Bullen + Hollie Hardy\nAlexandra Naughton + Keeley Ann Finn\nDaniel Ari + Britt Peter\nEric Kurhi + Josey Rose Duncan\nLenore Weiss + Margaret Spillman\nNatasha Dennerstein + René Vaz\nCaeser Kent + Bronwyn Emery \nSPECIAL MUSIC GUEST\nGia\, of The Open Minds \nCURATORS\nJoel Landmine (Guest)\nSandra Wassilie + Thea Matthews (Board) \nat The Bellevue Club in Oakland\n525 Bellevue Ave.\, Oakland\, CA.\n(on Lake Merritt)\nMap: https://goo.gl/maps/pjv7KpvvWv62 \n**Free Parking in garage\n**Full bar + refreshments\n**Minutes from BART (19th St): http://bit.ly/2i8VgW9 \nDoors & Bar: 6:30 p.m.\nShow: 7:30 p.m.\nSuggested donation\, $7. With chapbook\, $10\n*No one turned away for lack of funds.* \nGet Tickets: http://bit.ly/2svijTT \nBay Area Generations literary reading series features paired readers of differing generations in a curated submission based show. Since 2013\, over 250 notable authors\, poets\, writers\, playwrights and musicians have read poetry and stories\, or performed at this celebrated literary salon. \nTickets: http://bit.ly/2svijTT\nWebsite: http://www.bayareagenerations.com\nFB: http://www.facebook.com/bayareagenerations\nEvents: http://www.facebook.com/bayareagenerations/events \nBay Area Generations * literary reading * authors * poets * writers * playwrights\nmusic * poetry * reading * storytelling * short stories * plays * memoir * flash fiction
URL:https://litseen.com/event/bay-area-generations-show-46/
LOCATION:The Bellevue Club\, 525 Bellevue Drive\, Oakland\, CA\, 94610\, United States
CATEGORIES:East Bay
END:VEVENT
END:VCALENDAR