BEGIN:VCALENDAR
VERSION:2.0
PRODID:-//Litseen - ECPv6.15.11//NONSGML v1.0//EN
CALSCALE:GREGORIAN
METHOD:PUBLISH
X-WR-CALNAME:Litseen
X-ORIGINAL-URL:https://litseen.com
X-WR-CALDESC:Events for Litseen
REFRESH-INTERVAL;VALUE=DURATION:PT1H
X-Robots-Tag:noindex
X-PUBLISHED-TTL:PT1H
BEGIN:VTIMEZONE
TZID:UTC
BEGIN:STANDARD
TZOFFSETFROM:+0000
TZOFFSETTO:+0000
TZNAME:UTC
DTSTART:20160101T000000
END:STANDARD
END:VTIMEZONE
BEGIN:VEVENT
DTSTART;TZID=UTC:20170701T150000
DTEND;TZID=UTC:20170701T170000
DTSTAMP:20260419T072112
CREATED:20170511T040841Z
LAST-MODIFIED:20170511T040841Z
UID:26820-1498921200-1498928400@litseen.com
SUMMARY:Bay Area Poets Coalition First Saturday Readings
DESCRIPTION:BAPC OPEN POETRY READING\n\n\n \n\n\n\nUpcoming First Saturday Readings in 2017:\n \nJune 3\, July 1\, August 5\n\n3:00 – 5:00 PM\n\n\n\n \n \nSTRAWBERRY CREEK LODGE\n1320 Addison St.\, Berkeley\, CA\n \nAddison is one block south of and parallel to University Ave.\nbetween Acton & Bonar St.\nParking on the street (NOT in the S.C.L. parking lot)\n\nCheck in at the front desk and you will be directed to the meeting location\n(usually Movie Room\, or backyard garden)\n \nAll Ages Welcome\n\nCome and enjoy a friendly and informal read-around —\n3-5 minutes per poet/reader\, or “just listening” is fine too 🙂
URL:https://litseen.com/event/bay-area-poets-coalition-first-saturday-readings/
LOCATION:Strawberry Creek Lodge\, 1320 Addison Street\, Berkeley\, CA\, 94702\, United States
CATEGORIES:East Bay,Free
END:VEVENT
BEGIN:VEVENT
DTSTART;TZID=UTC:20170701T193000
DTEND;TZID=UTC:20170701T213000
DTSTAMP:20260419T072112
CREATED:20170515T232703Z
LAST-MODIFIED:20170603T022006Z
UID:26887-1498937400-1498944600@litseen.com
SUMMARY:Yuri Herrera: Kingdom Cons
DESCRIPTION:The Center for the Art of Translation and Green Apple Books on the Park welcomes Mexican author Yuri Herrera in conversation with Bay Area writer Caille Millner. Come hear “Mexico’s greatest novelist\,” according to Francisco Goldman\, discuss his new book Kingdom Cons.  \nTranslated by Lisa Dillman and published by And Other Stories\, Kingdom Cons is part surreal fable and part narco-lit romance. In the court of the King\, everyone knows their place. But as the Artist wins hearts and egos with his ballads\, uncomfortable truths emerge that shake the Kingdom to its core. In Kingdom Cons\, Herrera questions the price of keeping your integrity in a world ruled by patronage and power. \n  \n\nPraise for Yuri Herrera \n“Herrera’s metaphors grasp the freedom\, and the alarming disorientation\, of transition and translation.” Maya Jaggi\, The Guardian  \n“Yuri Herrera’s tiny\, beautiful novels each conjure myth and metaphor from a contemporary experience in a precise location\, transformed by archaic-colloquial prose.” Lorna Scott-Fox\, Times Literary Supplement
URL:https://litseen.com/event/yuri-herrera-kingdom-cons/
LOCATION:Green Apple Books on the Park\, 1231 9th Ave\, San Francisco \, CA\, 94122\, United States
CATEGORIES:Free,San Francisco
END:VEVENT
END:VCALENDAR