BEGIN:VCALENDAR
VERSION:2.0
PRODID:-//Litseen - ECPv6.15.11//NONSGML v1.0//EN
CALSCALE:GREGORIAN
METHOD:PUBLISH
X-ORIGINAL-URL:https://litseen.com
X-WR-CALDESC:Events for Litseen
REFRESH-INTERVAL;VALUE=DURATION:PT1H
X-Robots-Tag:noindex
X-PUBLISHED-TTL:PT1H
BEGIN:VTIMEZONE
TZID:UTC
BEGIN:STANDARD
TZOFFSETFROM:+0000
TZOFFSETTO:+0000
TZNAME:UTC
DTSTART:20160101T000000
END:STANDARD
END:VTIMEZONE
BEGIN:VEVENT
DTSTART;TZID=UTC:20170705T190000
DTEND;TZID=UTC:20170705T210000
DTSTAMP:20260419T165840
CREATED:20170605T102355Z
LAST-MODIFIED:20170607T020655Z
UID:27211-1499281200-1499288400@litseen.com
SUMMARY:Mackenzi Lee w/ Anna-Marie McLemore
DESCRIPTION:Join us to celebrate McKenzi Lee’s hilarious and swashbuckling 18th-century romantic adventure\, The Gentleman’s Guide to Vice and Virtue about a young bisexual British lord who embarks on an unforgettable Grand Tour of Europe. This is a witty\, romantic\, and exceedingly smart look at discovering one’s place in the world and explores the undeniably fine lines between friendship and love. Mackenzi will be in conversation with Anna-Marie McLemore\, author of The Weight of Feathers and When the Moon was Ours
URL:https://litseen.com/event/mackenzi-lee-in-conversation-with-anna-marie-mclemore/
LOCATION:Kepler’s Books\, 1010 El Camino Real\, Menlo Park \, CA\, 94025\, United States
CATEGORIES:Free,South Bay
END:VEVENT
BEGIN:VEVENT
DTSTART;TZID=UTC:20170705T190000
DTEND;TZID=UTC:20170705T210000
DTSTAMP:20260419T165840
CREATED:20170616T123253Z
LAST-MODIFIED:20170616T123253Z
UID:27305-1499281200-1499288400@litseen.com
SUMMARY:Pandemonium Press Reading
DESCRIPTION:Featured readers: Dennis J. Bernstein\, Sharon Coleman\, James Cagney\, and Sara McAulay. On guitar: Barry Ebner. Curated by Leila Rae. An open mic follows the featured readers.
URL:https://litseen.com/event/pandemonium-press-reading/
LOCATION:The Octopus Literary Salon\, 2101 Webster St #170\, Oakland \, CA\, 94612\, United States
CATEGORIES:Free,San Francisco
END:VEVENT
END:VCALENDAR