BEGIN:VCALENDAR
VERSION:2.0
PRODID:-//Litseen - ECPv6.15.11//NONSGML v1.0//EN
CALSCALE:GREGORIAN
METHOD:PUBLISH
X-ORIGINAL-URL:https://litseen.com
X-WR-CALDESC:Events for Litseen
REFRESH-INTERVAL;VALUE=DURATION:PT1H
X-Robots-Tag:noindex
X-PUBLISHED-TTL:PT1H
BEGIN:VTIMEZONE
TZID:UTC
BEGIN:STANDARD
TZOFFSETFROM:+0000
TZOFFSETTO:+0000
TZNAME:UTC
DTSTART:20160101T000000
END:STANDARD
END:VTIMEZONE
BEGIN:VEVENT
DTSTART;TZID=UTC:20170710T190000
DTEND;TZID=UTC:20170710T200000
DTSTAMP:20260419T121928
CREATED:20170619T113922Z
LAST-MODIFIED:20170619T114100Z
UID:27288-1499713200-1499716800@litseen.com
SUMMARY:Perfectly Queer: YOU Are the Author!
DESCRIPTION:If you are a Queer-identified author and have a book (or similar media) to sell\, write to us at: PerfectlyQueerSF@gmail.com \nEach reader will have 5 minutes to discuss and read from their work.
URL:https://litseen.com/event/perfectly-queer-you-are-the-author/
LOCATION:Dog Eared Books Castro\, 489 Castro Street\, San Francisco \, CA\, 94114\, United States
CATEGORIES:Free,San Francisco
END:VEVENT
BEGIN:VEVENT
DTSTART;TZID=UTC:20170710T190000
DTEND;TZID=UTC:20170710T210000
DTSTAMP:20260419T121928
CREATED:20170622T013844Z
LAST-MODIFIED:20170622T013844Z
UID:27649-1499713200-1499720400@litseen.com
SUMMARY:Nadine Lockhart
DESCRIPTION:Nadine Lockhart received her MA and MFA from Arizona State University. She is currently working toward her PhD; for which she received the Lattie and Elva Coor Fellowship for Building Communities toward her research on the ability of poetry to transform into continued relevancy through hybridity and cultural relativism. This is serious stuff. Lockhart is an editorial assistant for Poetry Flash\, a Berkeley-based literary review and calendar.
URL:https://litseen.com/event/nadine-lockhart/
LOCATION:Himalayan Flavors\, 1585 University Ave\, Berkeley\, CA\, 94703\, United States
CATEGORIES:East Bay,Free
END:VEVENT
END:VCALENDAR