BEGIN:VCALENDAR
VERSION:2.0
PRODID:-//Litseen - ECPv6.15.11//NONSGML v1.0//EN
CALSCALE:GREGORIAN
METHOD:PUBLISH
X-ORIGINAL-URL:https://litseen.com
X-WR-CALDESC:Events for Litseen
REFRESH-INTERVAL;VALUE=DURATION:PT1H
X-Robots-Tag:noindex
X-PUBLISHED-TTL:PT1H
BEGIN:VTIMEZONE
TZID:UTC
BEGIN:STANDARD
TZOFFSETFROM:+0000
TZOFFSETTO:+0000
TZNAME:UTC
DTSTART:20160101T000000
END:STANDARD
END:VTIMEZONE
BEGIN:VEVENT
DTSTART;TZID=UTC:20170715T100000
DTEND;TZID=UTC:20170715T120000
DTSTAMP:20260419T165903
CREATED:20170622T011431Z
LAST-MODIFIED:20170622T011431Z
UID:27619-1500112800-1500120000@litseen.com
SUMMARY:Warehouse Sale Extravaganza at Books Inc. HQ!
DESCRIPTION:Books Inc. Midsummer Warehouse Sale Extravaganza!\nEverything 30-80% off of 1000’s of books. Greeting Cards 4 for $1. Toys and gift items marked down to extreme discounts. July 15 open 10am to 4pm\, one day only-come early for the best selection. Free swag with purchase!\nAll items on a first come\, first served basis\nNo special orders\nAll sales final\nBooks Inc. Warehouse is located at 1501 Vermont Street @ Cesar Chavez\nLimited parking available in the Books Inc. parking lot + street parking\n20 minute walk from 24th St. BART Station\nSF MUNI lines 9\, 10\, 19\, 27\, 48\nClose proximity to 22nd St Caltrain Station
URL:https://litseen.com/event/warehouse-sale-extravaganza-at-books-inc-hq/
LOCATION:Books Inc. HQ\, 1501 Vermont St.\, San Francisco\, CA\, 94107\, United States
CATEGORIES:Free,San Francisco
END:VEVENT
BEGIN:VEVENT
DTSTART;TZID=UTC:20170715T130000
DTEND;TZID=UTC:20170715T150000
DTSTAMP:20260419T165903
CREATED:20170712T032302Z
LAST-MODIFIED:20170712T035702Z
UID:27914-1500123600-1500130800@litseen.com
SUMMARY:Brenda Peterson: Creative Nonfiction Reading/Talk
DESCRIPTION:In conversation with Amaroq Weiss \nBrenda Peterson brings the full complement of science\, history\, and memoir to the century-long battle to save wild wolves\, the keystone species of our nation. \nIn the tradition of Peter Matthiessen’s Wildlife in America or Aldo Leopold\, Wolf Nation tells the 300-year history of wild wolves in America. It is also our own history\, seen through our relationship with wolves. The earliest Americans revered them. Settlers zealously exterminated them. Now\, scientists\, writers\, and ordinary citizens are fighting to bring them back to the wild. Peterson\, an eloquent voice in the battle for twenty years\, makes the powerful case that without wolves\, not only will our whole ecology unravel\, but we’ll lose much of our national soul. \nBrenda Peterson is a novelist and nature writer whose curiosity about and for the respect of nature radiates through her twenty books. For the past two decades she has studied and written about animals\, especially marine animals and wolves. She has contributed environmental commentary to NPR and the Huffington Post. \nAmaroq Weiss has worked in wolf conservation for more than 20 years and is the West Coast Wolf Advocate for the Center for Biological Diversity\, a national nonprofit conservation organization with more than 1.3 million members and online activists dedicated to the protection of endangered species and wild places.
URL:https://litseen.com/event/brenda-peterson-creative-nonfiction-readingtalk/
LOCATION:Book Passage San Francisco\, 1 Ferry Building\, San Francisco\, CA\, 94111\, United States
CATEGORIES:Free,San Francisco
END:VEVENT
BEGIN:VEVENT
DTSTART;TZID=UTC:20170715T183000
DTEND;TZID=UTC:20170715T203000
DTSTAMP:20260419T165903
CREATED:20170615T002414Z
LAST-MODIFIED:20170615T002414Z
UID:27278-1500143400-1500150600@litseen.com
SUMMARY:Laborfest
DESCRIPTION:NOT OUR BROTHERS AND SISTERS!\nAGAINST DEPORTATIONS AND RACISM \npresented by the Revolutionary Poets Brigade\nand The Juana Briones Cultural Committee \nFeaturing Readers: \n\nJorge Argueta\nMahnaz Badihian\nLisbit Bailey\nJudith Ayn Bernhard\nCharles Curtis Blackwell\nBoadiba\nKristina Brown\nJames Cagney\nPauline Craig\nJohn Curl\nDiego De Leo\nAja Couchois Duncan\nTongo Eisen-Martin\nAgneta Falk\nMauro Fortissimo\nq.r. hand\nChristina Herrera\nFrancisco Hererra\nMartin Hickel\nJack Hirschman\nGenny Lim\nRosemary Manno\nSarah Menefee\nJorge Molino\nBarbara Paschke\nDottie Payne\nGregory Pond\nMaria Medina Serafin\nDavid Volpemdesta
URL:https://litseen.com/event/laborfest/
LOCATION:The Beat Museum\, 540 Broadway\, San Francisco \, CA\, 94133\, United States
CATEGORIES:Free,San Francisco
END:VEVENT
BEGIN:VEVENT
DTSTART;TZID=UTC:20170715T190000
DTEND;TZID=UTC:20170715T210000
DTSTAMP:20260419T165903
CREATED:20170702T111433Z
LAST-MODIFIED:20170706T223923Z
UID:27831-1500145200-1500152400@litseen.com
SUMMARY:David Brazil
DESCRIPTION:Join us to celebrate the release of David Brazil’s “Holy Ghost” new from City Light’s Spotlight poetry series.
URL:https://litseen.com/event/david-brazil/
LOCATION:Alley Cat Books\, 3036 24th St\, San Francisco\, CA\, 94110\, United States
CATEGORIES:Free,San Francisco
END:VEVENT
END:VCALENDAR