BEGIN:VCALENDAR
VERSION:2.0
PRODID:-//Litseen - ECPv6.15.11//NONSGML v1.0//EN
CALSCALE:GREGORIAN
METHOD:PUBLISH
X-WR-CALNAME:Litseen
X-ORIGINAL-URL:https://litseen.com
X-WR-CALDESC:Events for Litseen
REFRESH-INTERVAL;VALUE=DURATION:PT1H
X-Robots-Tag:noindex
X-PUBLISHED-TTL:PT1H
BEGIN:VTIMEZONE
TZID:America/Los_Angeles
BEGIN:DAYLIGHT
TZOFFSETFROM:-0800
TZOFFSETTO:-0700
TZNAME:PDT
DTSTART:20160313T100000
END:DAYLIGHT
BEGIN:STANDARD
TZOFFSETFROM:-0700
TZOFFSETTO:-0800
TZNAME:PST
DTSTART:20161106T090000
END:STANDARD
BEGIN:DAYLIGHT
TZOFFSETFROM:-0800
TZOFFSETTO:-0700
TZNAME:PDT
DTSTART:20170312T100000
END:DAYLIGHT
BEGIN:STANDARD
TZOFFSETFROM:-0700
TZOFFSETTO:-0800
TZNAME:PST
DTSTART:20171105T090000
END:STANDARD
BEGIN:DAYLIGHT
TZOFFSETFROM:-0800
TZOFFSETTO:-0700
TZNAME:PDT
DTSTART:20180311T100000
END:DAYLIGHT
BEGIN:STANDARD
TZOFFSETFROM:-0700
TZOFFSETTO:-0800
TZNAME:PST
DTSTART:20181104T090000
END:STANDARD
END:VTIMEZONE
BEGIN:VTIMEZONE
TZID:UTC
BEGIN:STANDARD
TZOFFSETFROM:+0000
TZOFFSETTO:+0000
TZNAME:UTC
DTSTART:20160101T000000
END:STANDARD
END:VTIMEZONE
BEGIN:VEVENT
DTSTART;TZID=America/Los_Angeles:20170717T190000
DTEND;TZID=America/Los_Angeles:20170717T210000
DTSTAMP:20260419T165720
CREATED:20170324T014120Z
LAST-MODIFIED:20170714T043156Z
UID:25621-1500318000-1500325200@litseen.com
SUMMARY:POETS! - featured readers followed by an open mic
DESCRIPTION:
URL:https://litseen.com/event/poets-featured-readers-followed-by-an-open-mic-4/
LOCATION:CA
CATEGORIES:San Francisco
END:VEVENT
BEGIN:VEVENT
DTSTART;TZID=UTC:20170717T190000
DTEND;TZID=UTC:20170717T210000
DTSTAMP:20260419T165720
CREATED:20170712T023749Z
LAST-MODIFIED:20170712T035826Z
UID:27908-1500318000-1500325200@litseen.com
SUMMARY:Rose Mark Features at Poetry Express
DESCRIPTION:Rose Mark’s curiosity has led her into many worlds. Food\, travel\, behavioral shaping\, interior design and erotica are just some of topics she has explored in her writing. In her book “Tasting Life”\, published by Redhead Press\, readers can enter into her love life with food through stories\, poems and recipes. Her poems have been included in “Oakland Neighborhoods” and “Dirty Old Women”. Her latest book\, “Interior Design for Small Dwellings” published by Routledge is slated to be on the shelf in 2018. \nNo charge except for any optional restaurant purchases. Open Mic before and after feature.
URL:https://litseen.com/event/rose-mark-features-at-poetry-express/
LOCATION:Himalayan Flavors\, 1585 University Ave\, Berkeley\, CA\, 94703\, United States
CATEGORIES:East Bay,Free
END:VEVENT
END:VCALENDAR