BEGIN:VCALENDAR
VERSION:2.0
PRODID:-//Litseen - ECPv6.15.11//NONSGML v1.0//EN
CALSCALE:GREGORIAN
METHOD:PUBLISH
X-ORIGINAL-URL:https://litseen.com
X-WR-CALDESC:Events for Litseen
REFRESH-INTERVAL;VALUE=DURATION:PT1H
X-Robots-Tag:noindex
X-PUBLISHED-TTL:PT1H
BEGIN:VTIMEZONE
TZID:UTC
BEGIN:STANDARD
TZOFFSETFROM:+0000
TZOFFSETTO:+0000
TZNAME:UTC
DTSTART:20160101T000000
END:STANDARD
END:VTIMEZONE
BEGIN:VEVENT
DTSTART;TZID=UTC:20170718T183000
DTEND;TZID=UTC:20170718T203000
DTSTAMP:20260419T200541
CREATED:20170622T012253Z
LAST-MODIFIED:20170622T012253Z
UID:27630-1500402600-1500409800@litseen.com
SUMMARY:Sharon Doubiago + Art Montecon
DESCRIPTION:Tuesdays at North Beach is a highly-respected weekly poetry series celebrating internationally acclaimed poets and showcasing local talent. Past guests have included Jonathan Richman\, Diane di Prima\, California Poet Laureate Al Young and freshly-discovered poets from our sister program\, Poets 11. \nThe series is presented by Friends and curated by Friends’ Poet-in-Residence\, Jack Hirschman. \nInterested in reading? Please contact Friends’ Literary Director Byron Spooner at byron.spooner@friendssfpl.org or call (415) 522-8602.
URL:https://litseen.com/event/sharon-doubiago-art-montecon/
LOCATION:North Beach\, SF Public Library\, 850 Columbus Ave\, San Francisco\, CA\, 94133\, United States
CATEGORIES:Free,San Francisco
END:VEVENT
BEGIN:VEVENT
DTSTART;TZID=UTC:20170718T190000
DTEND;TZID=UTC:20170718T200000
DTSTAMP:20260419T200541
CREATED:20170619T113754Z
LAST-MODIFIED:20170701T122111Z
UID:27332-1500404400-1500408000@litseen.com
SUMMARY:Queer Words: In Conversation w/ Dr. Ajuan Mance
DESCRIPTION:It’s International Mandela Day!\nCome celebrate South Africa\, as well as 19th Century African-American Literature (“Before Harlem”) with Professor Ajuan Mance of Mills College. Also to be presented: “1001 Black Men” and “Gender Studies” series.
URL:https://litseen.com/event/queer-words-in-conversation-with-dr-ajuan-mance/
LOCATION:Folio Books\, 3957 24th St\, San Francisco \, CA\, 94114\, United States
CATEGORIES:Free,San Francisco
END:VEVENT
BEGIN:VEVENT
DTSTART;TZID=UTC:20170718T190000
DTEND;TZID=UTC:20170718T210000
DTSTAMP:20260419T200541
CREATED:20170604T231111Z
LAST-MODIFIED:20170607T021052Z
UID:27180-1500404400-1500411600@litseen.com
SUMMARY:Janelle Brown w/ Vanessa Hua
DESCRIPTION:Essayist\, journalist\, and New York Times-bestselling author Janelle Brown shares her new novel\, Watch Me Disappear. Janelle will be in conversation with Vanessa Hua\, award-winning journalist and author of Deceit and Other Possibilities. \nThe disappearance of a beautiful\, charismatic mother leaves her family to piece together her secrets in this propulsive novel for fans of Big Little Lies–from the bestselling author of All We Ever Wanted Was Everything.\n“Tantalizing and twisty . . . a spider’s web of a novel . . . You won’t be able to put it down.”–Megan Abbott\nWho you want people to be makes you blind to who they really are.\nIt’s been a year since Billie Flanagan–a Berkeley mom with an enviable life–went on a solo hike in Desolation Wilderness and vanished from the trail. Her body was never found\, just a shattered cellphone and a solitary hiking boot. Her husband and teenage daughter have been coping with Billie’s death the best they can: Jonathan drinks as he works on a loving memoir about his marriage; Olive grows remote\, from both her father and her friends at the all-girls school she attends.\nBut then Olive starts having strange visions of her mother\, still alive. Jonathan worries about Olive’s emotional stability\, until he starts unearthing secrets from Billie’s past that bring into question everything he thought he understood about his wife. Who was the woman he knew as Billie Flanagan?\nTogether\, Olive and Jonathan embark on a quest for the truth–about Billie\, but also about themselves\, learning\, in the process\, about all the ways that love can distort what we choose to see. Janelle Brown’s insights into the dynamics of intimate relationships will make you question the stories you tell yourself about the people you love\, while her nervy storytelling will keep you guessing until the very last page.
URL:https://litseen.com/event/janelle-brown-with-vanessa-hua/
LOCATION:Books Inc. in The Marina\, 2251 Chestnut St\, San Francisco \, CA\, 94123\, United States
CATEGORIES:Free,San Francisco
END:VEVENT
BEGIN:VEVENT
DTSTART;TZID=UTC:20170718T190000
DTEND;TZID=UTC:20170718T210000
DTSTAMP:20260419T200541
CREATED:20170709T123240Z
LAST-MODIFIED:20170709T123240Z
UID:27899-1500404400-1500411600@litseen.com
SUMMARY:Red Light Lit at The Armory Club
DESCRIPTION:Red Light Lit entertains at The Armory Club! Join us for an intimate evening of live music\, storytelling and poetry set to a live score. Featured readers include: Devin Copeland\, Allyson Darling\, Sarah Bethe Nelson\,Christine No\, Kimberly Reyes and musical guest Nick Jaina. \n$10 in advance\, $15 at the door. We strongly suggest buying advanced tickets. The venue only seats 30 people. \nNick Jaina (www.nickjaina.com) is a musician and writer from Portland\, Oregon. He has recorded many albums and composed music for ballet and film. His book Get It While You Can is an Oregon Book Award finalist.\nAdvanced tickets are suggested.
URL:https://litseen.com/event/red-light-lit-at-the-armory-club/
LOCATION:The Armory Club\, 1799 Mission St\, San Francisco\, CA\, 94103\, United States
CATEGORIES:San Francisco
END:VEVENT
BEGIN:VEVENT
DTSTART;TZID=UTC:20170718T190000
DTEND;TZID=UTC:20170718T213000
DTSTAMP:20260419T200541
CREATED:20170515T233343Z
LAST-MODIFIED:20170515T233343Z
UID:26891-1500404400-1500413400@litseen.com
SUMMARY:Get Lit #26
DESCRIPTION:An amazing gathering of writers will read NEVER-BEFORE-READ material (rough drafts / debuts) within a three-minute time limit. \nThe emcee for the night will be the one and only NO ‘HARE (Isobel O’Hareand Christine No.) \nFeatured lineup of writers include:  and more TBA! \nMusical Guest: \nBeer made by Ale Industries on site and coffee by our good friends next door\, Red Bay Coffee. \nDonations will be kindly requested\, though no one will be turned away for lack of funds. All ages are welcome\, though profanity will be present.
URL:https://litseen.com/event/get-lit-26/
LOCATION:Ale Industries\, 3096 E 10th Street\, Oakland\, CA\, 94601\, United States
CATEGORIES:East Bay
END:VEVENT
BEGIN:VEVENT
DTSTART;TZID=UTC:20170718T190000
DTEND;TZID=UTC:20170718T213000
DTSTAMP:20260419T200541
CREATED:20170709T124132Z
LAST-MODIFIED:20170709T124132Z
UID:27903-1500404400-1500413400@litseen.com
SUMMARY:The WordParty Poetry & Jazz Night
DESCRIPTION:The WordParty Poetry & Jazz Night: Every 3rd Tuesday of the Month from 7:00-9:30pm\n\nNEXT: Tuesday July 18th\, 2017\nFeatured Poet: Avotcja!\n\nat PianoFight: 144 Taylor Street (between Turk & Eddy)\, San Francisco\, CA 94102 – Powell Street BART \nHosted by Jennifer Barone\, Ingrid Keir. Live jazz with Daniel Heffez\, Geordie Van Der Bosch and friends. Open Mic for poetry only – 3min time limit\, pick your best poem to read with live jazz accompaniment\, a few open slots to read without music mid-set. FREE admission\, full menu and bar in the front room.
URL:https://litseen.com/event/the-wordparty-poetry-jazz-night-5/
LOCATION:PianoFight\, 144 Taylor St\, San Francisco \, CA\, 94102\, United States
CATEGORIES:Free,San Francisco
END:VEVENT
BEGIN:VEVENT
DTSTART;TZID=UTC:20170718T193000
DTEND;TZID=UTC:20170718T213000
DTSTAMP:20260419T200541
CREATED:20170621T124601Z
LAST-MODIFIED:20170621T124601Z
UID:27542-1500406200-1500413400@litseen.com
SUMMARY:Rachel Khong
DESCRIPTION:Rachel Khong discusses her debut novel\, Goodbye\, Vitamin. \n\nPraise for Rachel Khong \n“Incredibly poignant . . . Rachel Khong’s first novel sneaks up on you ― just like life . . . and heartbreak. And love.”―Miranda July \n\n“The novel Goodbye\,Vitamin builds with humor\, with gusto and with such deceptive lightness that the reader wonders\, at its devastating end\, how in the world the debut author Rachel Khong managed to pull it off so beautifully. The only possible answer is this\, that Khong is a magician\, and that we are lucky to fall under her spell at the beginning of her brilliant writing life.” ―Lauren Groff\, author of Fates and Furies \n\n“Half stand-up comic\, half a seismographer of the human heart\, Khong writes with vulnerability and penetrating insight\, and with a gentle humor that moves you not only to care for her characters\, but also to care more fervently for the people in your life.”―Alexandra Kleeman\, author of You Too Can Have A Body Like Mine \n\nAbout Goodbye\, Vitamin \nFreshly disengaged from her fiancé and feeling that life has not turned out quite the way she planned\, thirty-year-old Ruth quits her job\, leaves town and arrives at her parents’ home to find that situation more complicated than she’d realized. Her father\, a prominent history professor\, is losing his memory and is only erratically lucid. Ruth’s mother\, meanwhile\, is lucidly erratic. But as Ruth’s father’s condition intensifies\, the comedy in her situation takes hold\, gently transforming all her grief. \nTold in captivating glimpses and drawn from a deep well of insight\, humor\, and unexpected tenderness\, Goodbye\, Vitamin pilots through the loss\, love\, and absurdity of finding one’s footing in this life.
URL:https://litseen.com/event/rachel-khong-2/
LOCATION:Green Apple Books on the Park\, 1231 9th Ave\, San Francisco \, CA\, 94122\, United States
CATEGORIES:Free,San Francisco
END:VEVENT
END:VCALENDAR