BEGIN:VCALENDAR
VERSION:2.0
PRODID:-//Litseen - ECPv6.15.11//NONSGML v1.0//EN
CALSCALE:GREGORIAN
METHOD:PUBLISH
X-ORIGINAL-URL:https://litseen.com
X-WR-CALDESC:Events for Litseen
REFRESH-INTERVAL;VALUE=DURATION:PT1H
X-Robots-Tag:noindex
X-PUBLISHED-TTL:PT1H
BEGIN:VTIMEZONE
TZID:UTC
BEGIN:STANDARD
TZOFFSETFROM:+0000
TZOFFSETTO:+0000
TZNAME:UTC
DTSTART:20160101T000000
END:STANDARD
END:VTIMEZONE
BEGIN:VEVENT
DTSTART;TZID=UTC:20170720T170000
DTEND;TZID=UTC:20170720T173000
DTSTAMP:20260424T071213
CREATED:20170619T113300Z
LAST-MODIFIED:20170619T113315Z
UID:27322-1500570000-1500571800@litseen.com
SUMMARY:Community Voices: Poets Speak Raina León
DESCRIPTION:Every Thursday at 5pm from June 29 – August 10\, join us for Community Voices: Poets Speak at the Museum of the African Diaspora where Bay Area Cave Canem poets reflect on themes of our current exhibition. Now on view\, The Ease of Fiction presents the work of four African artists living in the United States as the foundation of a critical discussion about history\, fact and fiction. The readings and discussion of original work will take place in the gallery for a maximum of 30 minutes. The series culminates with a reception and an evening of poetry by the participating poets\, along with Arisa White and James Cagney\, on Thursday\, August 17\, 6:30-8pm. Free Admission. \nFounded by Toi Derricotte and Cornelius Eady in 1996 to remedy the under-representation and isolation of African American poets in the literary landscape\, Cave Canem Foundation is a home for the many voices of African American poetry and is committed to cultivating the artistic and professional growth of African American poets. \nCommunity Voices: Poets Speak is curated by Arisa White\, poet\, writer & educator. \nRaina León \nRaina J. León is the author of three collections of poetry\, Canticle of Idols\, Boogeyman Dawn\, sombra: (dis)locate (2016) and the chapbook\, profeta without refuge (2016).  She has received fellowships and residencies with Macondo\, Cave Canem\, CantoMundo\, Montana Artists Refuge\, the Macdowell Colony\, Kimmel Harding Nelson Center for the Arts\, Vermont Studio Center\, among others.  She is a founding editor of The Acentos Review\, an online quarterly\, international journal devoted to the promotion and publication of Latinx arts.
URL:https://litseen.com/event/community-voices-poets-speak-raina-leon/
LOCATION:Museum of the African Diaspora\, 685 Mission Street\, San Francisco\, CA\, 94105\, United States
CATEGORIES:Free,San Francisco
END:VEVENT
BEGIN:VEVENT
DTSTART;TZID=UTC:20170720T190000
DTEND;TZID=UTC:20170720T210000
DTSTAMP:20260424T071213
CREATED:20170616T121311Z
LAST-MODIFIED:20170718T033909Z
UID:27298-1500577200-1500584400@litseen.com
SUMMARY:InsideStorytime RESILIENCE
DESCRIPTION:InsideStorytime RESILIENCE\, on Thursday July 20th\, 7-9 pm\, at Octopus Literary Salon\, 2101 Webster Street\, Oakland\, will feature Sarah Gailey (River of Teeth)\, September Williams (Chasing Mercury)\, Fisayo Adeyeye (Cradles)\, Andrea Passwater\, and Alex Ivey. MCd by James Warner (All Her Father’s Guns).
URL:https://litseen.com/event/insidestorytime-resilience/
LOCATION:The Octopus Literary Salon\, 2101 Webster St #170\, Oakland \, CA\, 94612\, United States
CATEGORIES:Free,San Francisco
END:VEVENT
BEGIN:VEVENT
DTSTART;TZID=UTC:20170720T190000
DTEND;TZID=UTC:20170720T210000
DTSTAMP:20260424T071213
CREATED:20170718T035126Z
LAST-MODIFIED:20170718T035126Z
UID:27973-1500577200-1500584400@litseen.com
SUMMARY:Casey FitzSimons
DESCRIPTION:Casey FitzSimons has poems in Red Wheelbarrow\, Mezzo Cammin\, and numerous other print and online journals. She has first place awards from Bay Area Poets Coalition\, Mendocino Coast Writers Conference\, and Ina Coolbrith Circle and has been honored by River Styx\, Writecorner Press\, The Rita Dove Awards\, and the Soul-Making Keats competitions. She has published 12 chapbooks\, including Pushing Sky Aside (2016) and The Sharp Edges of Knowing (2015). She donates all her book proceeds to Doctors Without Borders. Casey taught art for many years and her reviews of Bay Area exhibitions appeared often in Artweek. She has a master’s degree in Fine Arts from San Jose State University.
URL:https://litseen.com/event/casey-fitzsimons/
LOCATION:Willow Glen Library\, 1157 Minnesota Ave\, San Jose \, CA\, 95125\, United States
CATEGORIES:Free,South Bay
END:VEVENT
BEGIN:VEVENT
DTSTART;TZID=UTC:20170720T193000
DTEND;TZID=UTC:20170720T210000
DTSTAMP:20260424T071213
CREATED:20170619T134151Z
LAST-MODIFIED:20170621T012216Z
UID:27412-1500579000-1500584400@litseen.com
SUMMARY:Andrew Roe w/ Ethel Rohan
DESCRIPTION:Booksmith is excited to host Andrew Roe reading from his new book\, the collection of stories Where You Live. He’ll be in conversation with our friend and yours Ethel Rohan. Please join us! \nThe California of Where You Live might have sun\, surf\, and sand\, but it’s more densely populated with cracking marriages\, accidental pregnancies\, and shitty jobs. Andrew Roe’s Californians face sharp points of change: Stay or go? Love or leave? Run or get stuck? Their choices\, like our own\, reveal life’s stark limitations and its wide-open vistas all at once. \nFull of lush prose and unforgettable imagery\, the stories in Where You Live shine an unforgiving yet shimmering light on longing\, loss\, and the everyday catastrophes of life.
URL:https://litseen.com/event/andrew-roe-with-ethel-rohan/
LOCATION:The Booksmith\, 1644 Haight St\, San Francisco \, CA\, 94117\, United States
CATEGORIES:Free,San Francisco
END:VEVENT
BEGIN:VEVENT
DTSTART;TZID=UTC:20170720T193000
DTEND;TZID=UTC:20170720T213000
DTSTAMP:20260424T071213
CREATED:20170605T102702Z
LAST-MODIFIED:20170607T021127Z
UID:27215-1500579000-1500586200@litseen.com
SUMMARY:Sherman Alexie
DESCRIPTION:Sherman Alexie’s work is canonical. Novels like The Absolutely True Story of a Part-Time Indian and The Lone Ranger and Tonto Fistfight in Heaven are standards in classrooms across the country. Few writers have captured the American experience in quite the way Alexie has. \nNow he faces head-on the ghosts of his past\, grappling with the life and the upbringing that inspired the novels and stories that vaulted him to literary stardom. Join us for an evening of raw and honest reflection with Sherman Alexie.
URL:https://litseen.com/event/sherman-alexie/
LOCATION:Kepler’s Books\, 1010 El Camino Real\, Menlo Park \, CA\, 94025\, United States
CATEGORIES:Free,South Bay
END:VEVENT
BEGIN:VEVENT
DTSTART;TZID=UTC:20170720T193000
DTEND;TZID=UTC:20170720T213000
DTSTAMP:20260424T071213
CREATED:20170621T124927Z
LAST-MODIFIED:20170621T124927Z
UID:27547-1500579000-1500586200@litseen.com
SUMMARY:Tamara Shopsin
DESCRIPTION:Tamara Shopsin discusses her new book from MCD\, Arbitrary Stupid Goal. \n\nPraise for Arbitrary Stupid Goal \n“Tamara Shopsin’s new memoir is hilarious. Just in like the West Village itself\, you zigzag along on a fun adventure never knowing who you are going to meet.  What a fun read!”—Amy Sedaris \n  \n“Arbitrary Stupid Goal is a completely riveting world―when I looked up from its pages regular life seemed boring and safe and modern like one big iPhone. This book captures not just a lost New York but a whole lost way of life.”―Miranda July  \n  \n“Tamara Shopsin’s memoir is a funny and absorbing portrait of the city in a grubbier\, less corporate incarnation. If you believe\, as she does—and I do—that New York is ‘matter-of-fact\, the best place on earth\,’ then read this book. And if you don’t believe that\, after you read this book\, you will.”—Roz Chast \n\nAbout Arbitrary Stupid Goal \nIn Arbitrary Stupid Goal\, Tamara Shopsin takes the reader on a pointillist time-travel trip to the Greenwich Village of her bohemian 1970s childhood\, a funky\, tight-knit small town in the big city\, long before Sex and the City tours and luxury condos. The center of Tamara’s universe is Shopsin’s\, her family’s legendary greasy spoon\, aka The Store\, run by her inimitable dad\, Kenny a loquacious\, contrary\, huge-hearted man who\, aside from dishing up New York’s best egg salad on rye\, is Village sheriff\, philosopher\, and fixer all at once. All comers find a place at Shopsin’s table and feast on Kenny’s tall tales and trenchant advice along with the incomparable chili con carne. \n  \nFilled with clever illustrations and witty\, nostalgic photographs and graphics\, and told in a sly\, elliptical narrative that is both hilarious and endearing\, Arbitrary Stupid Goal is an offbeat memory-book mosaic about the secrets of living an unconventional life\, which is becoming a forgotten art.
URL:https://litseen.com/event/tamara-shopsin/
LOCATION:Green Apple Books on the Park\, 1231 9th Ave\, San Francisco \, CA\, 94122\, United States
CATEGORIES:Free,San Francisco
END:VEVENT
BEGIN:VEVENT
DTSTART;TZID=UTC:20170720T193000
DTEND;TZID=UTC:20170720T213000
DTSTAMP:20260424T071213
CREATED:20170720T045418Z
LAST-MODIFIED:20170720T045418Z
UID:28020-1500579000-1500586200@litseen.com
SUMMARY:Poetry Flash: Noah Blaustein\, Kathryn Nuernberger\, + Jacques J. Rancourt
DESCRIPTION:Noah Blaustein’s book of poems is Flirt. Christopher Merrill says\, “Like all great lovers\, he promises the world—and then delivers\, in poems that…address the central issues of the heart: how we flirt before we think—and how we then discern order in the new dispensation in which we find ourselves.” Widely published in literary journals\, he is the editor of the anthology Motion: American Sports Poems\, which was an editor’s pick of National Public Radio and a Librarian’s pick of the New York Public Library. \nKathryn Nuernberger’s latest book of poems is The End of Pink. Aimee Nezhukumatahil says\, “The remarkable designs of a landscape created by Kathryn Nuernberger give us such a stamp of hoof\, wonder\, and wit…This is an unforgettable collection of sly-sexy poems of desire\, grief\, and motherhood.” Her first collection\, Rag & Bone\, won the 2010 Elixir Press Antivenom Prize. She is the director of Pleiades Press and has received fellowships from the American Antiquarian Society and the Bakken Museum of Electricity in Life to research aspects of the history of science and medicine. \nJacques J. Rancourt’s debut book of poems is Novena\, winner of the Lena-Miles Wever Todd Prize from Pleiades Press. D. A. Powell says\, “Jacques Rancourt is a votary of desire and a faithful disciple to memory…This is a holy book\, a pilgrim’s progress of erotic\, mystical and terrifying beauty.” A former Wallace Stegner Fellow at Stanford University\, his poems have been widely published in literary journals\, including Kenyon Review and Best New Poets 2014.
URL:https://litseen.com/event/poetry-flash-noah-blaustein-kathryn-nuernberger-jacques-j-rancourt/
LOCATION:Moe’s Books\, 2476 Telegraph Ave\, Berkeley\, CA\, 94704\, United States
CATEGORIES:East Bay,Free
END:VEVENT
END:VCALENDAR