BEGIN:VCALENDAR
VERSION:2.0
PRODID:-//Litseen - ECPv6.15.11//NONSGML v1.0//EN
CALSCALE:GREGORIAN
METHOD:PUBLISH
X-ORIGINAL-URL:https://litseen.com
X-WR-CALDESC:Events for Litseen
REFRESH-INTERVAL;VALUE=DURATION:PT1H
X-Robots-Tag:noindex
X-PUBLISHED-TTL:PT1H
BEGIN:VTIMEZONE
TZID:UTC
BEGIN:STANDARD
TZOFFSETFROM:+0000
TZOFFSETTO:+0000
TZNAME:UTC
DTSTART:20160101T000000
END:STANDARD
END:VTIMEZONE
BEGIN:VEVENT
DTSTART;TZID=UTC:20170723T150000
DTEND;TZID=UTC:20170723T170000
DTSTAMP:20260419T121923
CREATED:20170702T111947Z
LAST-MODIFIED:20170702T111947Z
UID:27833-1500822000-1500829200@litseen.com
SUMMARY:Open Mic: Fiestas Fridas Edition
DESCRIPTION:All topics\, all styles\, all skill levels welcome! Come in at 2:30 to sign up.
URL:https://litseen.com/event/open-mic-fiestas-fridas-edition/
LOCATION:Adobe Books\, 3130 24th St.\, San Francisco\, CA\, 94110\, United States
CATEGORIES:Free,San Francisco
END:VEVENT
BEGIN:VEVENT
DTSTART;TZID=UTC:20170723T170000
DTEND;TZID=UTC:20170723T190000
DTSTAMP:20260419T121923
CREATED:20170702T110915Z
LAST-MODIFIED:20170703T072534Z
UID:27827-1500829200-1500836400@litseen.com
SUMMARY:Fateme Banishoeib
DESCRIPTION:Adobe welcomes poet Fateme Banishoeib reading from her new book. \nThe Whisper  is a lyrical engagement with the intimacy and audacity of being human and it reminds of what it is to hide from the world\, and in doing so become hidden to our own selves. It speaks of leadership of self first before the leadership of others. \nFateme is a strategic leadership consultant. She defines herself many and multitudes.  She gives talks on leadership and human-centered business. Her book of poetry called The Whisper\,  charts the journey of leadership of self before the leadership of others
URL:https://litseen.com/event/fateme-banishoeib/
LOCATION:Adobe Books\, 3130 24th St.\, San Francisco\, CA\, 94110\, United States
CATEGORIES:Free,San Francisco
END:VEVENT
BEGIN:VEVENT
DTSTART;TZID=UTC:20170723T190000
DTEND;TZID=UTC:20170723T210000
DTSTAMP:20260419T121923
CREATED:20170604T124006Z
LAST-MODIFIED:20170622T023058Z
UID:27140-1500836400-1500843600@litseen.com
SUMMARY:Bay Area Poetry Marathon
DESCRIPTION:Guest curator: Chloe Veylit.\nReaders:  Brandon Brown\, Kazumi Chin\, Vanessa Flores\, Nick Johnson\, Joseph Lease\, Michelle Lin\, Carrie Murphy\, and Denise Newman.
URL:https://litseen.com/event/bay-area-poetry-marathon-2/
LOCATION:Alley Cat Books\, 3036 24th St\, San Francisco\, CA\, 94110\, United States
CATEGORIES:Free,San Francisco
END:VEVENT
END:VCALENDAR