BEGIN:VCALENDAR
VERSION:2.0
PRODID:-//Litseen - ECPv6.15.11//NONSGML v1.0//EN
CALSCALE:GREGORIAN
METHOD:PUBLISH
X-WR-CALNAME:Litseen
X-ORIGINAL-URL:https://litseen.com
X-WR-CALDESC:Events for Litseen
REFRESH-INTERVAL;VALUE=DURATION:PT1H
X-Robots-Tag:noindex
X-PUBLISHED-TTL:PT1H
BEGIN:VTIMEZONE
TZID:UTC
BEGIN:STANDARD
TZOFFSETFROM:+0000
TZOFFSETTO:+0000
TZNAME:UTC
DTSTART:20160101T000000
END:STANDARD
END:VTIMEZONE
BEGIN:VEVENT
DTSTART;TZID=UTC:20170724T190000
DTEND;TZID=UTC:20170724T210000
DTSTAMP:20260421T135419
CREATED:20170622T014002Z
LAST-MODIFIED:20170622T014002Z
UID:27651-1500922800-1500930000@litseen.com
SUMMARY:Elaine Brown
DESCRIPTION:Elaine Brown – “E Spoken”\nI have been writing ever since my Mother and siblings taught me how to hold a pen. I grew up listening to the stories my Grandmother and Mother would tell me about my family and their struggles wondering how I could change things. So\, history and writing became my passion. I have been writing Free Style Poetry for almost 30 years combining past and present issues that affect our daily lives; motivating people to change their mindsets.
URL:https://litseen.com/event/elaine-brown/
LOCATION:Himalayan Flavors\, 1585 University Ave\, Berkeley\, CA\, 94703\, United States
CATEGORIES:East Bay,Free
END:VEVENT
BEGIN:VEVENT
DTSTART;TZID=UTC:20170724T190000
DTEND;TZID=UTC:20170724T210000
DTSTAMP:20260421T135420
CREATED:20170709T115550Z
LAST-MODIFIED:20170709T115550Z
UID:27880-1500922800-1500930000@litseen.com
SUMMARY:Bay Area Generations #47
DESCRIPTION:OUR NEXT SHOW: Bay Area Generations Edition #47 on July 24\n\n\nBAY AREA GENERATIONS #47\nJuly in San Francisco\, California at Hotel Rex\n\nGuest Curator: Eileen Malone\nBay Area Generations Curators: TBD\nREADERS TBA\nMUSICAL GUEST TBA\n \nGet tickets \nBAY AREA GENERATIONS\, EDITION #47\nMonday\, July 24\, 2017\nat Hotel Rex\, 562 Sutter Street\, San Francisco\, CA\n*On Street Parking * Full bar and refreshments * Walkable from Powell Street BART Station\n6:30 p.m. –  Writers Mixer at the bar\n7:00 p.m.  – Doors open to Public\n7:30 p.m.  – Show Starts\nSuggested donation $7.00 (admission)\, $10.00 with a souvenir chapbook\nRSVP Today!\nBay Area Generations: a literary reading series features notable authors\, poets\, writers\, playwrights and musicians in a paired reading show\, monthly. \nWeb:  www.bayareagenerations.com\nFB Page:  www.facebook.com/bayareagenerations\nTwitter:  www.twitter.com/bayareagenerati \nBAG Events: www.facebook.com/events\nLiterary and Poetry Submissions: www.bayareagenerations.com/how-to-submit/
URL:https://litseen.com/event/bay-area-generations-47/
LOCATION:Hotel Rex\, 562 Sutter Street\, San Francisco\, CA\, 94102\, United States
CATEGORIES:San Francisco
END:VEVENT
BEGIN:VEVENT
DTSTART;TZID=UTC:20170724T190000
DTEND;TZID=UTC:20170724T213000
DTSTAMP:20260421T135420
CREATED:20170709T114953Z
LAST-MODIFIED:20170709T114953Z
UID:27876-1500922800-1500931800@litseen.com
SUMMARY:Standing O Storytelling Graduate Showcase
DESCRIPTION:Standing O Storytelling Workshop Showcase \nJoin Standing O Storytelling’s brand new crop of storytellers as they step onstage to tell their own true stories – without notes – as part of our storytelling workshop graduation show. These brave tellers signed up a mere 6 weeks ago to learn the craft of story with Dixiem and have vowed to tell their tale onstage for you. \nThis is One Night Only and this intimate venue will sell out fast\, so buy your tickets in advance. \nTickets:\n$10 in advance (buy online)\n$15 at the door (if available) \nFeaturing Stories by: \n– Jeff Hanson\n \n– Gene Alston \n– Christina Olsen \n– Amy Butcher \n– Alan Marwill\n \n– Kristen Krauss \n– Gil Stancourt \n– Lokesh Rai \nHosted by Bawdy Storytelling /Bona Fide story maven Dixie De La Tou \n 
URL:https://litseen.com/event/standing-o-storytelling-graduate-showcase/
LOCATION:SAFEhouse Arts\, 1 Grove St.\, San Francisco \, CA\, 94103\, United States
CATEGORIES:San Francisco
END:VEVENT
END:VCALENDAR