BEGIN:VCALENDAR
VERSION:2.0
PRODID:-//Litseen - ECPv6.15.11//NONSGML v1.0//EN
CALSCALE:GREGORIAN
METHOD:PUBLISH
X-WR-CALNAME:Litseen
X-ORIGINAL-URL:https://litseen.com
X-WR-CALDESC:Events for Litseen
REFRESH-INTERVAL;VALUE=DURATION:PT1H
X-Robots-Tag:noindex
X-PUBLISHED-TTL:PT1H
BEGIN:VTIMEZONE
TZID:UTC
BEGIN:STANDARD
TZOFFSETFROM:+0000
TZOFFSETTO:+0000
TZNAME:UTC
DTSTART:20160101T000000
END:STANDARD
END:VTIMEZONE
BEGIN:VEVENT
DTSTART;TZID=UTC:20170725T180000
DTEND;TZID=UTC:20170725T200000
DTSTAMP:20260419T165732
CREATED:20170503T234247Z
LAST-MODIFIED:20170503T234247Z
UID:26668-1501005600-1501012800@litseen.com
SUMMARY:A Bunch of Bad Hombres: Immigrant Writers Respond to Trump
DESCRIPTION:More details coming soon.
URL:https://litseen.com/event/a-bunch-of-bad-hombres-immigrant-writers-respond-to-trump/
LOCATION:SF Public Library\, 100 Larkin Street\, San Francisco\, 94102\, United States
CATEGORIES:Free,San Francisco
END:VEVENT
BEGIN:VEVENT
DTSTART;TZID=UTC:20170725T183000
DTEND;TZID=UTC:20170725T203000
DTSTAMP:20260419T165732
CREATED:20170622T012355Z
LAST-MODIFIED:20170622T012355Z
UID:27632-1501007400-1501014600@litseen.com
SUMMARY:Bob Anbian + Randy Fingland
DESCRIPTION:Tuesdays at North Beach is a highly-respected weekly poetry series celebrating internationally acclaimed poets and showcasing local talent. Past guests have included Jonathan Richman\, Diane di Prima\, California Poet Laureate Al Young and freshly-discovered poets from our sister program\, Poets 11. \nThe series is presented by Friends and curated by Friends’ Poet-in-Residence\, Jack Hirschman. \nInterested in reading? Please contact Friends’ Literary Director Byron Spooner at byron.spooner@friendssfpl.org or call (415) 522-8602.
URL:https://litseen.com/event/bob-anbian-randy-fingland/
LOCATION:North Beach\, SF Public Library\, 850 Columbus Ave\, San Francisco\, CA\, 94133\, United States
CATEGORIES:Free,San Francisco
END:VEVENT
BEGIN:VEVENT
DTSTART;TZID=UTC:20170725T183000
DTEND;TZID=UTC:20170725T203000
DTSTAMP:20260419T165732
CREATED:20170720T034356Z
LAST-MODIFIED:20170720T034356Z
UID:28003-1501007400-1501014600@litseen.com
SUMMARY:Anita Cruz + Chris Carosi
DESCRIPTION:Join us every Tuesday evening in the historic literary epicenter of San Francisco to hear poets from near and far read their work! \nTuesdays at North Beach is a highly-respected weekly poetry series celebrating internationally acclaimed poets and showcasing local talent. Past guests have included Jonathan Richman\, Diane di Prima\, California Poet Laureate Al Young and freshly-discovered poets from our sister program\, Poets 11. \nThe series is presented by Friends and curated by Friends’ Poet-in-Residence\, Jack Hirschman. \nInterested in reading? Please contact Friends’ Literary Director Byron Spooner at byron.spooner@friendssfpl.org or call (415) 522-8602.
URL:https://litseen.com/event/anita-cruz-chris-carosi/
LOCATION:North Beach\, SF Public Library\, 850 Columbus Ave\, San Francisco\, CA\, 94133\, United States
CATEGORIES:Free,San Francisco
END:VEVENT
BEGIN:VEVENT
DTSTART;TZID=UTC:20170725T193000
DTEND;TZID=UTC:20170725T210000
DTSTAMP:20260419T165732
CREATED:20170619T134555Z
LAST-MODIFIED:20170621T012320Z
UID:27416-1501011000-1501016400@litseen.com
SUMMARY:Michelle Richmond
DESCRIPTION:Booksmith is elated to host a launch party for the one and only Michelle Richmond\, reading from her new novel The Marriage Pact. Join us! \nNewlyweds Alice and Jake are a picture-perfect couple. Alice\, once a singer in a well-known rock band\, is now a successful lawyer. Jake is a partner in an up-and-coming psychology practice. Their life together holds endless possibilities. After receiving an enticing wedding gift from one of Alice’s prominent clients\, they decide to join an exclusive and mysterious group known only as The Pact. \nThe goal of The Pact seems simple: to keep marriages happy and intact. And most of its rules make sense. Always answer the phone when your spouse calls. Exchange thoughtful gifts monthly. Plan a trip together once per quarter. . . .  \nNever mention The Pact to anyone.\n            \nAlice and Jake are initially seduced by the glamorous parties\, the sense of community\, their widening social circle of like-minded couples. \nAnd then one of them breaks the rules. \nThe young lovers are about to discover that for adherents to The Pact\, membership\, like marriage\, is for life. And The Pact will go to any lengths to enforce that rule. \nFor Jake and Alice\, the marriage of their dreams is about to become their worst nightmare.
URL:https://litseen.com/event/michelle-richmond/
LOCATION:The Booksmith\, 1644 Haight St\, San Francisco \, CA\, 94117\, United States
CATEGORIES:Free,San Francisco
END:VEVENT
END:VCALENDAR