BEGIN:VCALENDAR
VERSION:2.0
PRODID:-//Litseen - ECPv6.15.11//NONSGML v1.0//EN
CALSCALE:GREGORIAN
METHOD:PUBLISH
X-WR-CALNAME:Litseen
X-ORIGINAL-URL:https://litseen.com
X-WR-CALDESC:Events for Litseen
REFRESH-INTERVAL;VALUE=DURATION:PT1H
X-Robots-Tag:noindex
X-PUBLISHED-TTL:PT1H
BEGIN:VTIMEZONE
TZID:UTC
BEGIN:STANDARD
TZOFFSETFROM:+0000
TZOFFSETTO:+0000
TZNAME:UTC
DTSTART:20160101T000000
END:STANDARD
END:VTIMEZONE
BEGIN:VEVENT
DTSTART;TZID=UTC:20170729T110000
DTEND;TZID=UTC:20170729T170000
DTSTAMP:20260419T134606
CREATED:20170622T070819Z
LAST-MODIFIED:20170623T022422Z
UID:27687-1501326000-1501347600@litseen.com
SUMMARY:ARC Youth Fest 2017
DESCRIPTION:ARC Youth Fest is the only outdoor summer art festival put on for youth by youth artists. Artists range from 13 to 24 years old. \nARC Youth Fest takes place on Saturday\, July 29th in front of Oakland’s City Hall. From 11AM to 5PM some of the hottest aspiring and emerging artists will perform and showcase their work. \n\nMusic\, DJs and MCs\, dance\, visual arts\, fashion\, culinary arts\, film/TV production\, health/wellness and fitness\, including a Kids Zone and more.FEATURES: \nCatch the Turf Inc dance battle\, iVisionary music competition\, two fashion shows\, free makeovers and haircuts\, free food samples and much more! We will have live performances by last year’s youth stars\, along with emerging artists Neah Rose and Mani Draper and band. Last year we also featured IAMSU and Netta Brielle. \nPARTNERS: \nThis year\, our partners include City of Oakland Parks and Recs\, Clorox\, EOYDC\, Flight Deck\, Trap Art\, Oakland Tech Fashion Art and Design Academy and more. \nAdmission is free to students or bring donated food items for free entry. \nFor more info\, go to www.arcyouthfest.com. \n#sooaklandweekend  #foryouthbyyouth  #arcyouthfest
URL:https://litseen.com/event/arc-youth-fest-2017/
LOCATION:Oakland City Hall\, 1 Frank Ogawa Plaze\, Oakland\, CA\, 94612\, United States
CATEGORIES:East Bay,Free
ORGANIZER;CN="ARC Oakland":MAILTO:events@arcoakland.org
END:VEVENT
BEGIN:VEVENT
DTSTART;TZID=UTC:20170729T140000
DTEND;TZID=UTC:20170729T170000
DTSTAMP:20260419T134606
CREATED:20170721T231322Z
LAST-MODIFIED:20170721T231322Z
UID:28041-1501336800-1501347600@litseen.com
SUMMARY:Cipactli release party
DESCRIPTION:Join us to celebrate the release of a new volume of Cipactli\, SF State’s Latinx studies literary journal! Readers TBA.
URL:https://litseen.com/event/cipactli-release-party/
LOCATION:Alley Cat Books\, 3036 24th St\, San Francisco\, CA\, 94110\, United States
CATEGORIES:Free,San Francisco
END:VEVENT
BEGIN:VEVENT
DTSTART;TZID=UTC:20170729T190000
DTEND;TZID=UTC:20170729T210000
DTSTAMP:20260419T134606
CREATED:20170709T115851Z
LAST-MODIFIED:20170709T115851Z
UID:27882-1501354800-1501362000@litseen.com
SUMMARY:Bay Area Poetry Marathon
DESCRIPTION:* Saturday\, July 29\n____ Guest curators: Simon Craft & Raul Ruiz ____\nReaders:  Jennifer Cheng  *  Lorraine Lupo  *  Tatiana Luboviski-Acosta\nand more
URL:https://litseen.com/event/bay-area-poetry-marathon-3/
LOCATION:Alley Cat Books\, 3036 24th St\, San Francisco\, CA\, 94110\, United States
CATEGORIES:Free,San Francisco
END:VEVENT
BEGIN:VEVENT
DTSTART;TZID=UTC:20170729T190000
DTEND;TZID=UTC:20170729T213000
DTSTAMP:20260419T134606
CREATED:20170709T123622Z
LAST-MODIFIED:20170709T123622Z
UID:27901-1501354800-1501363800@litseen.com
SUMMARY:Saturday Night Special\, A "Freedom" Open Mic
DESCRIPTION:In the patriotic month of July\, in honor of our 6th Anniversary\, Saturday Night Special is celebrating “freedom.” Freedom of self expression\, stories about freedom\, poems about liberty lost\, a lack of supervision\, a pet named Freedom you once loved\, a pot-bellied pig\, perhaps? Put on your party hat and bring us your true\, personal\, political\, confessional\, hilarious\, surreal\, and/or fictional accounts of FREEDOM. \nAs always\, we’d love to hear your (three-minute) poems\, stories\, comedic sketches\, songs\, or dances\, on our optional theme (or any topic). \nOur July features are: Bronwyn Emery and René Vaz\n— \nFirst come first served. Sign-up starts at 7pm and closes when it fills up or when the reading starts\, so get there early if you want to read! (Note: Sometimes the list is full by 7:03pm) \nEach reader will have 3 minutes maximum. For prose writers this is about one and a half double-spaced pages. \nPLEASE NOTE: We are strict about the 3 minute max. When you reach your time limit at SNS\, we turn on the disco lights! So\, please plan ahead. Practice your piece out loud. Time yourself! \nAfter the reading\, stick around for karaoke starting at 10pm \nSaturday\, July 29th\, 2017\n7 – 9:30 pm \nNick’s Lounge (21+)\n3218 Adeline Street\, Berkeley\, CA\n1 block south of Ashby BART\nBetween Fairview St & Martin Luther King Jr Way \nFREE!\nBut bring CASH if you want to buy drinks (which you sort of have to\, because there’s a 1-drink minimum!) \nHosted by Hollie Hardy \nPlease help out by liking our FB page\, where you can also find more details and photos from past events: \nhttps://www.facebook.com/Saturday-Night-Special-an-East-Bay-open-mic-112174188880786/ \nBIOS \nBronwyn Emery is the founder and facilitator of To Live and Write in Alameda\, a writing community that exists on Facebook and IRL. She is a former columnist and Our Town editor at the Tracy Press\, and ghostwriter for self-help gurus. She has mentored new writers since 2002 and is currently a writing coach\, developmental editor\, novelist\, and co-host of the monthly Story Slam at Books\, Inc. Alameda. \nRené Vaz is a Bay Area writer. He curates the reading series Voz Sin Tinta and Uptown Fridays. He is a lecturer at San Francisco State University and is committed to providing space for POC/ marginalized voices. His book\, “The Planet of the Dead”\, is forthcoming from Nomadic Press.
URL:https://litseen.com/event/saturday-night-special-a-freedom-open-mic/
LOCATION:Nick’s Lounge\, 3218 Adeline St.\, Berkeley\, CA\, 94703\, United States
CATEGORIES:East Bay,Free
END:VEVENT
BEGIN:VEVENT
DTSTART;TZID=UTC:20170729T193000
DTEND;TZID=UTC:20170729T213000
DTSTAMP:20260419T134606
CREATED:20170630T013743Z
LAST-MODIFIED:20170630T013743Z
UID:27794-1501356600-1501363800@litseen.com
SUMMARY:July 2017 Poetry at Florey's
DESCRIPTION:Featured poets\, followed by an open mic. Share your poems\, or just listen.
URL:https://litseen.com/event/july-2017-poetry-at-floreys/
LOCATION:Florey’s Book Co.\, 2120 Palmetto Ave.\, Pacifica\, CA\, 94044\, United States
ORGANIZER;CN="Florey's Book Co.":MAILTO:FloreysBookCo@yahoo.com
END:VEVENT
END:VCALENDAR