BEGIN:VCALENDAR
VERSION:2.0
PRODID:-//Litseen - ECPv6.15.11//NONSGML v1.0//EN
CALSCALE:GREGORIAN
METHOD:PUBLISH
X-WR-CALNAME:Litseen
X-ORIGINAL-URL:https://litseen.com
X-WR-CALDESC:Events for Litseen
REFRESH-INTERVAL;VALUE=DURATION:PT1H
X-Robots-Tag:noindex
X-PUBLISHED-TTL:PT1H
BEGIN:VTIMEZONE
TZID:UTC
BEGIN:STANDARD
TZOFFSETFROM:+0000
TZOFFSETTO:+0000
TZNAME:UTC
DTSTART:20160101T000000
END:STANDARD
END:VTIMEZONE
BEGIN:VEVENT
DTSTART;TZID=UTC:20170731T190000
DTEND;TZID=UTC:20170731T210000
DTSTAMP:20260419T165733
CREATED:20170703T110556Z
LAST-MODIFIED:20170707T003128Z
UID:27846-1501527600-1501534800@litseen.com
SUMMARY:Tim Taranto
DESCRIPTION:Please join Green Apple Books on Clement street Monday\, July 31st at 7:00pm as we welcome Author Tim Taranto\, reading from and discussing his book Ars Botanica.\n\n Written as letters to his unborn child\, Tim Taranto’s Ars Botanica describes the infinite pleasures of falling in love — the small discoveries of each other’s otherness\, the crush of desire\, the frightening closeness — and the terrifying impossibility of losing someone. Through examinations of the ways in which various cultures and religions carry grief\, Taranto discovers the emotional instincts that shape his own mourning. He seeks solace in the natural elements of our world\, divining meaning from the Iowa fields that stretch around him\, the stones he collects\, the plants he discovers on walks through the woods. His letters\, then\, are the honest wanderings of someone earnestly seeking meaning and belonging\, ultimately resulting in a field guide for love\, grief\, and celebrating life. At times astonishingly personal and even painful\, Ars Botanica is also playfully funny\, a rich hybrid of memoir\, poetry\, and illustration that delightfully defies categorization.\n\n Tim Taranto is a writer\, visual artist\, and poet from New York. His work has been featured in Buzzfeed\, FSG’s Works in Progress\, Harper’s\, The Iowa Review\, McSweeney’s Internet Tendency\, The Paris Review Daily\, The Rumpus\, and The Saint Ann’s Review. Tim is a graduate of Cornell University and the Iowa Writers’ Workshop.
URL:https://litseen.com/event/tim-taranto/
LOCATION:Green Apple Books\, 506 Clement St\, San Francisco \, CA\, 94118\, United States
CATEGORIES:Free,San Francisco
END:VEVENT
END:VCALENDAR