BEGIN:VCALENDAR
VERSION:2.0
PRODID:-//Litseen - ECPv6.15.11//NONSGML v1.0//EN
CALSCALE:GREGORIAN
METHOD:PUBLISH
X-WR-CALNAME:Litseen
X-ORIGINAL-URL:https://litseen.com
X-WR-CALDESC:Events for Litseen
REFRESH-INTERVAL;VALUE=DURATION:PT1H
X-Robots-Tag:noindex
X-PUBLISHED-TTL:PT1H
BEGIN:VTIMEZONE
TZID:UTC
BEGIN:STANDARD
TZOFFSETFROM:+0000
TZOFFSETTO:+0000
TZNAME:UTC
DTSTART:20160101T000000
END:STANDARD
END:VTIMEZONE
BEGIN:VEVENT
DTSTART;TZID=UTC:20170804T190000
DTEND;TZID=UTC:20170804T210000
DTSTAMP:20260419T165719
CREATED:20170718T033558Z
LAST-MODIFIED:20170718T033558Z
UID:27964-1501873200-1501880400@litseen.com
SUMMARY:Jack Micheline: Cockymoon Book Release
DESCRIPTION:Join The Beat Museum and Zeitgeist Press for the release of Cockymoon\, the first new collection of poems by Jack Micheline in a decade\, edited by SF poet William Taylor\, Jr. This collection includes such Micheline favorites as “Rock Song\,” “Zero is Nothing\,” “Imaginary Conversation with Jack Kerouac\,” and “Ballad of Benny Roads\,” among others. \nJack Micheline was the greatest street poet of the 20th century\, a memorable bardic balladeer celebrating the distress and divinity of urban Americans. original Beat poets\, he was an innovative artist who was active in the San Francisco Poetry Renaissance of the 1950s and 1960s. To celebrate this poet\, our night will include readings from Jack Hirschman\, Bruce Isaacson\, William Taylor Jr.\, Richard Loranger and surprise guests!
URL:https://litseen.com/event/jack-micheline-cockymoon-book-release/
LOCATION:The Beat Museum\, 540 Broadway\, San Francisco \, CA\, 94133\, United States
CATEGORIES:Free,San Francisco
END:VEVENT
END:VCALENDAR