BEGIN:VCALENDAR
VERSION:2.0
PRODID:-//Litseen - ECPv6.15.11//NONSGML v1.0//EN
CALSCALE:GREGORIAN
METHOD:PUBLISH
X-ORIGINAL-URL:https://litseen.com
X-WR-CALDESC:Events for Litseen
REFRESH-INTERVAL;VALUE=DURATION:PT1H
X-Robots-Tag:noindex
X-PUBLISHED-TTL:PT1H
BEGIN:VTIMEZONE
TZID:UTC
BEGIN:STANDARD
TZOFFSETFROM:+0000
TZOFFSETTO:+0000
TZNAME:UTC
DTSTART:20160101T000000
END:STANDARD
END:VTIMEZONE
BEGIN:VEVENT
DTSTART;TZID=UTC:20170805T150000
DTEND;TZID=UTC:20170805T170000
DTSTAMP:20260419T134621
CREATED:20170616T115924Z
LAST-MODIFIED:20170616T115924Z
UID:27292-1501945200-1501952400@litseen.com
SUMMARY:BAPC First Saturday Reading
DESCRIPTION:Come and enjoy a friendly and informal read-around — 3-5 minutes per poet/reader\, or “just listening” is fine too.
URL:https://litseen.com/event/bapc-first-saturday-reading/
LOCATION:Strawberry Creek Lodge\, 1320 Addison Street\, Berkeley\, CA\, 94702\, United States
CATEGORIES:East Bay,Free
END:VEVENT
BEGIN:VEVENT
DTSTART;TZID=UTC:20170805T180000
DTEND;TZID=UTC:20170805T200000
DTSTAMP:20260419T134621
CREATED:20170721T230853Z
LAST-MODIFIED:20170721T230853Z
UID:28039-1501956000-1501963200@litseen.com
SUMMARY:Present Minds\, New Poetry
DESCRIPTION:San Francisco musicians Sarah Elena Palmer and Jason Hoopes invite you to a reading of their original poetry and other creative writing on Saturday\, August 5th\, at Adobe Books in SF. Joining Sarah and Jason will be fellow bay area writers Nora Toomey\, Alicia Franco\, Colin Partch\, and Brett Carson. \nThis evening marks a public reading debut for Sarah and Jason (reading as SEP and Rachtious Palmer respectively) as poets. SEP uses ethereal language to play out her inner controversies; irreverent and hallowing\, she swings through her moods\, seeking neutrality in her observations. Her rhythmic song-like delivery balances the more severe and confrontational style of Rachtious Palmer\, who is concerned with stern angle\, strict conservative imagery\, quietly sharpened thought knives and a lean predatory hunt for relentless truth. Together with Toomey\, Franco\, Partch\, and Carson\, this evening of poetic spoken word promises electricity and blood\, illumination\, off-kilter snickers\, and MUCH reprieve from the modern disease of homogonized communication.
URL:https://litseen.com/event/present-minds-new-poetry/
LOCATION:Adobe Books\, 3130 24th St.\, San Francisco\, CA\, 94110\, United States
CATEGORIES:Free,San Francisco
END:VEVENT
BEGIN:VEVENT
DTSTART;TZID=UTC:20170805T180000
DTEND;TZID=UTC:20170805T200000
DTSTAMP:20260419T134621
CREATED:20170721T233231Z
LAST-MODIFIED:20170721T233231Z
UID:28056-1501956000-1501963200@litseen.com
SUMMARY:Jonny Sun w/ Selena Larson
DESCRIPTION:Booksmith is out-of-this-world excited to welcome Weird Twitter celeb Jonny Sun for his first book\, everyone’s a aliebn when ur a aliebn too. Joining him is Selena Larson. \nPlease note: due to popular demand this event\, originally to be held at The Bindery\, has been moved to Booksmith\, 1644 Haight St. Seating is limited\, and you can reserve a seat by pre-ordering the book. Standing\, sitting\, somewhere in between—however you wish\, please join us! \nAn alien named jomny is dropped onto Earth by a space ship and given a task – “please find out about the earbth creatures …. humabns. Take ur time\, realy take as much time as u need.” What ensues is not only a journey of exploration by a friendly alien introducing himself to anyone he meets\, but it is also a window into the incredibly creative mind of Jonny Sun. \nJonathan Sun is the author behind @jonnysun. When he isn’t tweeting\, he is an architect\, designer\, engineer\, artist\, playwright and comedy writer. His work across multiple disciplines is concerned with narratives of human experience. As a playwright\, Jonathan’s work has been performed at the Yale School of Drama\, Factory Theater in Toronto\, Hart House Theater\, Theater Lab in Toronto\, and the University of Toronto Drama Festival (where he received the President’s Award for Best Production). As an artist and illustrator\, his work has been commissioned by the New Haven ArtSpace\, and exhibited at MIT\, the Yale School of Architecture\, and the University of Toronto. His comedic work has appeared in NPR\, BuzzFeed\, Playboy\, GQ\, and McSweeney’s. He is currently a doctoral student at MIT and a Berkman Klein Fellow at Harvard. \nWhen not writing about tech\, Selena Larson dabbles in fiction and tells jokes on Twitter. She is a reporter for CNNTech covering cybersecurity and tech policy.
URL:https://litseen.com/event/jonny-sun-w-selena-larson/
LOCATION:The Booksmith\, 1644 Haight St\, San Francisco \, CA\, 94117\, United States
CATEGORIES:Free,San Francisco
END:VEVENT
END:VCALENDAR