BEGIN:VCALENDAR
VERSION:2.0
PRODID:-//Litseen - ECPv6.15.11//NONSGML v1.0//EN
CALSCALE:GREGORIAN
METHOD:PUBLISH
X-ORIGINAL-URL:https://litseen.com
X-WR-CALDESC:Events for Litseen
REFRESH-INTERVAL;VALUE=DURATION:PT1H
X-Robots-Tag:noindex
X-PUBLISHED-TTL:PT1H
BEGIN:VTIMEZONE
TZID:UTC
BEGIN:STANDARD
TZOFFSETFROM:+0000
TZOFFSETTO:+0000
TZNAME:UTC
DTSTART:20160101T000000
END:STANDARD
END:VTIMEZONE
BEGIN:VEVENT
DTSTART;TZID=UTC:20170813T150000
DTEND;TZID=UTC:20170813T160000
DTSTAMP:20260419T183318
CREATED:20170619T140132Z
LAST-MODIFIED:20170622T023413Z
UID:27430-1502636400-1502640000@litseen.com
SUMMARY:Christine Evelyn Volker
DESCRIPTION:DIESEL\, A Bookstore in Oakland welcomes Christine Evelyn Volker to the store to discuss and sign\, Venetian Blood\, on Sunday\, August 13th\, at 3:00pm. This will be her publication party and all are welcome to attend. \nA captivating tapestry of murder\, betrayal and family\, Venetian Blood is the story of one woman’s brave quest for the truth—before it’s too late. \nIt’s 1992 when Anna Lucia Lottol visits Venice to see an old friend and escape her failing\, childless marriage. Instead of finding serenity however\, Anna encounters a frightening world where she becomes a ruthless detective’s murder suspect. Dragged into the police station\, she lies about being in Venice the night before. Terrified of foreign justice\, she lies too\, about knowing the dead man—a money launderer from Venice who had made threats after he’d seduced her at financial conference in Milan. Anna\, talented in mathematics and physics\, working in anti-money laundering for the US Treasury Department\, struggles to make sense of an irrational city filled with illusions. With murders of long ago spiraling into the present-day and police working overtime to uncover her lies\, how can Anna find a way to clear her name\, identify the killer and keep her job? She teams up with her old friend\, and together they attempt to pry clues from uncooperative characters—some even denying what Anna has seen or heard. Bewildered\, she can’t tell if they are hiding something or if she is losing touch with reality. As she resists the charms of an Italian banker\, she must ask herself\, “Who is friend\, who is foe?” Anna—nearly killed by an unseen attacker\, beset by haunting dreams\, racing to unlock secrets—unleashes a force bent on destroying her. As the mystery turns personal\, will Anna save herself? Will she vanquish both her enemies and her darkest fears? \nCapturing the delicate beauty of Venice\, the novel is a dark love poem to the city whose sinuous canals it traces. Suspenseful and evocative\, this multi-layered work is an intimate portrayal of a woman’s perilous voyage of self-discovery. The reader is plunged into Venice’s tangled web of alleys and canals\, but soon realizes that the connections do not stop at the shores of the Adriatic. The fates of creatures far away\, the tales of people without a voice\, reverberate through the pages. \nChristine Evelyn Volker was born in New York City and grew up on Long Island. After studying for her undergraduate degree from University at Albany in Spanish Language and Literature\, and securing an MLS\, she moved to the San Francisco Bay Area. She retooled herself with an MBA in Finance from UC Berkeley and worked in corporate and international lending. Her career brought her to live in Milan and London. An intrepid traveler\, she is writing full time\, thanks to the support of her husband\, Stephan\, a public interest environmental lawyer.
URL:https://litseen.com/event/christine-evelyn-volker/
LOCATION:DIESEL\, A Bookstore\, 5433 College Ave\, Oakland\, CA\, 94618\, United States
CATEGORIES:East Bay,Free
END:VEVENT
BEGIN:VEVENT
DTSTART;TZID=UTC:20170813T150000
DTEND;TZID=UTC:20170813T160000
DTSTAMP:20260419T183318
CREATED:20170622T015636Z
LAST-MODIFIED:20170622T015636Z
UID:27676-1502636400-1502640000@litseen.com
SUMMARY:Katharine Harer + Judy Bebelaar
DESCRIPTION:The Bay Area Writing Project presents a poetry reading by Katharine Harer Jazz and Other Hot Subjects\, and BAWP poet Judy Bebelaar\, Walking Across the Pacific\, open mic follows\, light refreshments available.
URL:https://litseen.com/event/katharine-harer-judy-bebelaar/
LOCATION:Expressions Gallery\, 2035 Ashby Ave\, Berkeley\, CA\, 94703\, United States
CATEGORIES:East Bay,Free
END:VEVENT
BEGIN:VEVENT
DTSTART;TZID=UTC:20170813T180000
DTEND;TZID=UTC:20170813T200000
DTSTAMP:20260419T183318
CREATED:20170803T004114Z
LAST-MODIFIED:20170803T004114Z
UID:28166-1502647200-1502654400@litseen.com
SUMMARY:Cary Cordova's "Heart of the Mission" Reading + Release!
DESCRIPTION:Join us for a reading from Cary Cordova’s “Heart of the Mission” newly published by The University of Pennsylvania Press. Book signing to follow. \nIn “The Heart of the Mission” Cary Cordova combines urban\, political\, and art history to examine how the Mission District\, a longtime bohemian enclave in San Francisco\, has served as an important place for an influential and largely ignored Latino arts movement from the 1960s to the present. Well before the anointment of the “Mission School” by art-world arbiters at the dawn of the twenty-first century\, Latino artists\, writers\, poets\, playwrights\, performers\, and filmmakers made the Mission their home and their muse. \nThe Mission\, home to Chileans\, Cubans\, Guatemalans\, Mexican Americans\, Nicaraguans\, Puerto Ricans\, and Salvadorans never represented a single Latino identity. In tracing the experiences of a diverse group of Latino artists from the 1940s to the turn of the century\, Cordova connects wide-ranging aesthetics to a variety of social movements and activist interventions. The book begins with the history of the Latin Quarter in the 1940s and the subsequent cultivation of the Beat counterculture in the 1950s\, demonstrating how these decades laid the groundwork for the artistic and political renaissance that followed. Using oral histories\, visual culture\, and archival research\, she analyzes the Latin jazz scene of the 1940s\, Latino involvement in the avant-garde of the 1950s\, the Chicano movement and Third World movements of the 1960s\, the community mural movement of the 1970s\, the transnational liberation movements in Nicaragua and El Salvador\, and the AIDS activism of the 1980s. Through these different historical frames\, Cordova links the creation of Latino art with a flowering of Latino politics.
URL:https://litseen.com/event/cary-cordovas-heart-of-the-mission-reading-release/
LOCATION:Alley Cat Books\, 3036 24th St\, San Francisco\, CA\, 94110\, United States
CATEGORIES:Free,San Francisco
END:VEVENT
END:VCALENDAR