BEGIN:VCALENDAR
VERSION:2.0
PRODID:-//Litseen - ECPv6.15.11//NONSGML v1.0//EN
CALSCALE:GREGORIAN
METHOD:PUBLISH
X-ORIGINAL-URL:https://litseen.com
X-WR-CALDESC:Events for Litseen
REFRESH-INTERVAL;VALUE=DURATION:PT1H
X-Robots-Tag:noindex
X-PUBLISHED-TTL:PT1H
BEGIN:VTIMEZONE
TZID:UTC
BEGIN:STANDARD
TZOFFSETFROM:+0000
TZOFFSETTO:+0000
TZNAME:UTC
DTSTART:20160101T000000
END:STANDARD
END:VTIMEZONE
BEGIN:VEVENT
DTSTART;TZID=UTC:20170816T180000
DTEND;TZID=UTC:20170816T200000
DTSTAMP:20260419T183408
CREATED:20170604T214118Z
LAST-MODIFIED:20170607T021237Z
UID:27144-1502906400-1502913600@litseen.com
SUMMARY:Tom Perrota: Mrs. Fletcher
DESCRIPTION:From one of the most popular and bestselling authors of our time\, a penetrating and hilarious new novel about sex\, love\, and identity on the frontlines of America’s culture wars. \nEve Fletcher is trying to figure out what comes next. A forty-six-year-old divorcee whose beloved only child has just left for college\, Eve is struggling to adjust to her empty nest when one night her phone lights up with a text message. Sent from an anonymous number\, the mysterious sender tells Eve\, “U R my MILF!” Over the months that follow\, that message comes to obsess Eve. While leading her all-too-placid life—serving as Executive Director of the local senior center by day and taking a community college course on Gender and Society at night—Eve can’t curtail her own interest in a porn website called MILFateria.com\, which features the erotic exploits of ordinary\, middle-aged women like herself. Before long\, Eve’s online fixations begin to spill over into real life\, revealing new romantic possibilities that threaten to upend her quiet suburban existence.
URL:https://litseen.com/event/tom-perrota-mrs-fletcher/
LOCATION:Book Passage San Francisco\, 1 Ferry Building\, San Francisco\, CA\, 94111\, United States
CATEGORIES:Free,San Francisco
END:VEVENT
BEGIN:VEVENT
DTSTART;TZID=UTC:20170816T193000
DTEND;TZID=UTC:20170816T210000
DTSTAMP:20260419T183408
CREATED:20170815T113359Z
LAST-MODIFIED:20170815T113359Z
UID:28284-1502911800-1502917200@litseen.com
SUMMARY:Lucky Seventh Anniversary
DESCRIPTION:Come celebrate our seventh year of presenting the diverse voices of the East Bay!!! The theme is luck! We’re popping bottles of champagn and serving special treats. It’s all on us. Come hear seven extraordinary readers: \nVernon Keeve III\nJulie Thi Underhill\nArisa White\nJulian Mithra\nThea Matthews\nJoshua Escobar\nLark Omura \nHosted and curated by the sparkling duo: Mk Chavez and Sharon Coleman
URL:https://litseen.com/event/lucky-seventh-anniversary/
LOCATION:Pegasus Books Downtown\, 2349 Shattuck Ave\, Berkeley \, CA\, 94704\, United States
CATEGORIES:East Bay,Free
END:VEVENT
BEGIN:VEVENT
DTSTART;TZID=UTC:20170816T193000
DTEND;TZID=UTC:20170816T213000
DTSTAMP:20260419T183408
CREATED:20170720T051127Z
LAST-MODIFIED:20170720T051127Z
UID:28028-1502911800-1502919000@litseen.com
SUMMARY:Jarett Kobek
DESCRIPTION:The Booksmith is pleased to bring Jarett Kobek\, author of I Hate the Internet\, into the store for his brilliant follow-up novel\, The Future Won’t Be Long\, a provocative\, ecstatic story of friendship\, sex\, art\, and ambition in the twilight days of New York City’s East Village (1986-1996). \n  \nThe story centers on Adeline—featured years later in I Hate the Internet—a wealthy art student in New York City who chances upon a young man from the Midwest known only as Baby in a shady East Village squat. The two begin a fiery friendship which propels them through a decade of New York life punctuated by the deaths of Warhol\, Basquiat\, Wojnarowicz\, by the Tompkins Square Park riots\, and by the rise of club kid culture. Adeline is fiercely protective of Baby\, but he soon takes over his own education. Once just a kid off the bus from Wisconsin\, Baby soon finds himself at the center of the club kid social scene\, cavorting with Michael Alig and James St. James at The Tunnel\, Limelight\, and Alig’s infamous “Outlaw Party” at a midtown McDonald’s. \n  \nAs Adeline and Baby both develop into the artists they never expected to become\, Kobek pays tribute to the last gasps of the gritty\, drug-fueled scene of the East Village as gentrifiers begin to trickle in.
URL:https://litseen.com/event/jarett-kobek/
LOCATION:The Bindery\, 1727 Haight St\, San Francisco \, 94117\, United States
CATEGORIES:Free,San Francisco
END:VEVENT
END:VCALENDAR