BEGIN:VCALENDAR
VERSION:2.0
PRODID:-//Litseen - ECPv6.15.11//NONSGML v1.0//EN
CALSCALE:GREGORIAN
METHOD:PUBLISH
X-WR-CALNAME:Litseen
X-ORIGINAL-URL:https://litseen.com
X-WR-CALDESC:Events for Litseen
REFRESH-INTERVAL;VALUE=DURATION:PT1H
X-Robots-Tag:noindex
X-PUBLISHED-TTL:PT1H
BEGIN:VTIMEZONE
TZID:UTC
BEGIN:STANDARD
TZOFFSETFROM:+0000
TZOFFSETTO:+0000
TZNAME:UTC
DTSTART:20160101T000000
END:STANDARD
END:VTIMEZONE
BEGIN:VEVENT
DTSTART;TZID=UTC:20170820T130000
DTEND;TZID=UTC:20170820T150000
DTSTAMP:20260421T195956
CREATED:20170817T121405Z
LAST-MODIFIED:20170817T121405Z
UID:28444-1503234000-1503241200@litseen.com
SUMMARY:Doreen Stock + Kate Peper
DESCRIPTION:Talking With Marcelo is a bio-sketch of Argentine journalist Marcelo Holot\, a chapbook-length interview in which he answers six questions covering his early years\, his life as a student protester during the Dirty Wars\, and also his subsequent career as a journalist in Buenos Aires. Holot met and wrote about some of the most important people of his time\, including Juan Peron and the Argentine soccer hero\, Maradona. His interviewer\, the poet and memoir artist Doreen Stock\, first met him in Argentina in a tango palace\, Confiteria Ideal\, where the long conversation which was to become this interview\, began. Sixteen photographs complete the limited edition\, published by Mine Gallery\, Fairfax\, CA. \nDoreen Stock is a poet\, essayist\, and memoir practitioner who has been exploring creative nonfiction for thirty plus years from the feminine point of view as a wife\, mother of three\, single human\, and grandmother of eleven. Her first book of poems\, The Politics of Splendor\, was part of a New American Writers exhibit at the Frankfurt Book Fair that year. It combined poetry and prose poems with her translations from the work of Marina Tsvetaeva and Anna Akhmatova. A selection of Stock’s poetry and translations has been video-archived at Marin Poets\, Live! She was a founding member of the Marin Poetry Center and is currently living in Fairfax\, California. \nIn this collection of poems\, Dipped in Black Water\, Kate Peper explores the imperfect body\, the flawed spirit and the uneasy balance she strikes between the two. Horror and depression live side-by-side with humor and hope. These poems reveal how hidden losses do not so much define the person\, but once embraced\, lead to wholeness. \nKate Peper is a freelance designer and award-winning watercolor painter. She was a recipient of a Marin Arts Council Individual Artist Grant for poetry and her work has been nominated three times for a Pushcart Prize. Her poetry has appeared in many journals including The Baltimore Review\, Cimarron Review\, Gargoyle\, The Lindenwood Review\, Rattle\, Spillway\, Tar River Review and others.
URL:https://litseen.com/event/doreen-stock-kate-peper/
LOCATION:Book Passage Marin\, 51 Tamal Vista Blvd. \, Corte Madera\, CA\, 94925\, United States
CATEGORIES:Free,North Bay
END:VEVENT
END:VCALENDAR