BEGIN:VCALENDAR
VERSION:2.0
PRODID:-//Litseen - ECPv6.15.11//NONSGML v1.0//EN
CALSCALE:GREGORIAN
METHOD:PUBLISH
X-WR-CALNAME:Litseen
X-ORIGINAL-URL:https://litseen.com
X-WR-CALDESC:Events for Litseen
REFRESH-INTERVAL;VALUE=DURATION:PT1H
X-Robots-Tag:noindex
X-PUBLISHED-TTL:PT1H
BEGIN:VTIMEZONE
TZID:America/Los_Angeles
BEGIN:DAYLIGHT
TZOFFSETFROM:-0800
TZOFFSETTO:-0700
TZNAME:PDT
DTSTART:20160313T100000
END:DAYLIGHT
BEGIN:STANDARD
TZOFFSETFROM:-0700
TZOFFSETTO:-0800
TZNAME:PST
DTSTART:20161106T090000
END:STANDARD
BEGIN:DAYLIGHT
TZOFFSETFROM:-0800
TZOFFSETTO:-0700
TZNAME:PDT
DTSTART:20170312T100000
END:DAYLIGHT
BEGIN:STANDARD
TZOFFSETFROM:-0700
TZOFFSETTO:-0800
TZNAME:PST
DTSTART:20171105T090000
END:STANDARD
BEGIN:DAYLIGHT
TZOFFSETFROM:-0800
TZOFFSETTO:-0700
TZNAME:PDT
DTSTART:20180311T100000
END:DAYLIGHT
BEGIN:STANDARD
TZOFFSETFROM:-0700
TZOFFSETTO:-0800
TZNAME:PST
DTSTART:20181104T090000
END:STANDARD
END:VTIMEZONE
BEGIN:VTIMEZONE
TZID:UTC
BEGIN:STANDARD
TZOFFSETFROM:+0000
TZOFFSETTO:+0000
TZNAME:UTC
DTSTART:20160101T000000
END:STANDARD
END:VTIMEZONE
BEGIN:VEVENT
DTSTART;TZID=America/Los_Angeles:20170821T190000
DTEND;TZID=America/Los_Angeles:20170821T210000
DTSTAMP:20260419T165718
CREATED:20170324T014120Z
LAST-MODIFIED:20170818T051520Z
UID:25623-1503342000-1503349200@litseen.com
SUMMARY:POETS! - featured readers followed by an open mic
DESCRIPTION:
URL:https://litseen.com/event/poets-featured-readers-followed-by-an-open-mic-5/
LOCATION:CA
CATEGORIES:Free,San Francisco
END:VEVENT
BEGIN:VEVENT
DTSTART;TZID=UTC:20170821T190000
DTEND;TZID=UTC:20170821T210000
DTSTAMP:20260419T165718
CREATED:20170622T014107Z
LAST-MODIFIED:20170622T014107Z
UID:27653-1503342000-1503349200@litseen.com
SUMMARY:Cassandra Dallett
DESCRIPTION:Cassandra Dallett lives in Oakland\, CA. Cassandra is a two-time Pushcart nominee and Literary Death Match winner. She has been published online and in many print magazines\, such as Slip Stream\, Sparkle and Blink\, Chiron Review\, Stone Boat Review\, and Great Weather For Media and reads often around the San Francisco Bay Area. A full-length book of poetry Wet Reckless was released on Manic D Press May 2014. In 2015 she authored Bad Sandy (Lucky Bastard Press)\, Pearl Tongue (Be About It Press)\, The Water Wars (Pedestrian Poets Series)\, On Sunday\, A Finch (Nomadic Press) which was nominated for a California Book Award\, and most recently Armadillo Heart (Paper Press) with MK Chavez.
URL:https://litseen.com/event/cassandra-dallett/
LOCATION:Himalayan Flavors\, 1585 University Ave\, Berkeley\, CA\, 94703\, United States
CATEGORIES:East Bay,Free
END:VEVENT
END:VCALENDAR