BEGIN:VCALENDAR
VERSION:2.0
PRODID:-//Litseen - ECPv6.15.11//NONSGML v1.0//EN
CALSCALE:GREGORIAN
METHOD:PUBLISH
X-ORIGINAL-URL:https://litseen.com
X-WR-CALDESC:Events for Litseen
REFRESH-INTERVAL;VALUE=DURATION:PT1H
X-Robots-Tag:noindex
X-PUBLISHED-TTL:PT1H
BEGIN:VTIMEZONE
TZID:UTC
BEGIN:STANDARD
TZOFFSETFROM:+0000
TZOFFSETTO:+0000
TZNAME:UTC
DTSTART:20160101T000000
END:STANDARD
END:VTIMEZONE
BEGIN:VEVENT
DTSTART;TZID=UTC:20170828T183000
DTEND;TZID=UTC:20170828T210000
DTSTAMP:20260419T200545
CREATED:20170815T112343Z
LAST-MODIFIED:20170815T112343Z
UID:28280-1503945000-1503954000@litseen.com
SUMMARY:BAY AREA GENERATIONS #48
DESCRIPTION:Guest Curator: John Rowe\nBay Area Generations Curators: Sandra Wassilie + Amos White \nREADERS \nTBA \nMUSICAL GUEST \nTBA \nGet tickets! \n  \nBAY AREA GENERATIONS\, EDITION #48\nMonday\, August 28\, 2017\nat The Bellevue Club\, 525 Bellevue Ave.\, Oakland\, CA\n*Garage and on street parking\n* Full bar and refreshments\n* Walkable from 19th st. BART\n6:30 p.m. –  Writers Mixer at the bar\n7:00 p.m.  – Doors open to Public\n7:30 p.m.  – Show Starts\nSuggested donation $7.00 (admission)\, $10.00 with a souvenir chapbook\nRSVP Today!\nCall for Submissions to Show #48   BAG #48 Show on FaceBook \nBay Area Generations: a literary reading series features notable authors\, poets\, writers\, playwrights and musicians in a paired reading show\, monthly.\nWeb:  www.bayareagenerations.com\nFB Page:  www.facebook.com/bayareagenerations\nTwitter:  www.twitter.com/bayareagenerati\nBAG Events: www.facebook.com/events\nLiterary and Poetry Submissions: www.bayareagenerations.com/how-to-submit/
URL:https://litseen.com/event/bay-area-generations-48/
LOCATION:The Bellevue Club\, 525 Bellevue Drive\, Oakland\, CA\, 94610\, United States
CATEGORIES:East Bay
END:VEVENT
BEGIN:VEVENT
DTSTART;TZID=UTC:20170828T190000
DTEND;TZID=UTC:20170828T200000
DTSTAMP:20260419T200545
CREATED:20170825T231101Z
LAST-MODIFIED:20170825T231101Z
UID:28577-1503946800-1503950400@litseen.com
SUMMARY:The Racket #10: BIRTH
DESCRIPTION:Our monthly reading series returns with a bevy of writers talking about BIRTH. \nIs it pregnancy? Metamorphosis? A staggering change in life? Well\, we’ll find out. \nOur readers: KAR A. Johnson\, Miah Jeffra\, Mike Hsu\, Jennifer Lewis and Shideh Etaat.
URL:https://litseen.com/event/the-racket-10-birth/
LOCATION:Adobe Books\, 3130 24th St.\, San Francisco\, CA\, 94110\, United States
CATEGORIES:Free,San Francisco
ORGANIZER;CN="Noah B. Sanders":MAILTO:sanders.noah@gmail.com
END:VEVENT
BEGIN:VEVENT
DTSTART;TZID=UTC:20170828T190000
DTEND;TZID=UTC:20170828T210000
DTSTAMP:20260419T200545
CREATED:20170622T014222Z
LAST-MODIFIED:20170622T014222Z
UID:27655-1503946800-1503954000@litseen.com
SUMMARY:Georgette Howington
DESCRIPTION:Georgette Howington is a closet poet and short story writer who came out three years ago. Her poems are published in Iodine\, Sleet and Poeming Pigeons\, among others. Several poems won Honorable Mentions at the North American Women’s Music Festival and Ina Coolbrith Poetry Contest in 2016. As a naturalist and horticulturist\, her niche is Backyard Habitat and secondary-cavity nesters. She is a County Coordinator and Assistant State Program Director for the California Bluebird Recovery Program and an activist in the conservation community in the SF Bay Area for over 30 years. Georgette is also a published garden and environmental writer.
URL:https://litseen.com/event/georgette-howington/
LOCATION:Himalayan Flavors\, 1585 University Ave\, Berkeley\, CA\, 94703\, United States
CATEGORIES:East Bay,Free
END:VEVENT
BEGIN:VEVENT
DTSTART;TZID=UTC:20170828T190000
DTEND;TZID=UTC:20170828T210000
DTSTAMP:20260419T200545
CREATED:20170822T225546Z
LAST-MODIFIED:20170822T225546Z
UID:28492-1503946800-1503954000@litseen.com
SUMMARY:Robert Currier - Marin Shakespeare Company
DESCRIPTION:“A Labour of Love” \nJoin Marin Shakespeare Company Artistic Director Robert Currier and Marin Shakespeare actors as they discuss the complex wordplay and sly wit of Shakespeare’s Love’s Labour’s Lost\, playing through September 24 at Dominican University’s Forest Meadows Amphitheater. \nClick here to purchase tickets
URL:https://litseen.com/event/robert-currier-marin-shakespeare-company/
LOCATION:Book Passage Corte Madera\, 51 Tamal Vista Blvd.\, Corte Madera\, CA\, 94925\, United States
CATEGORIES:Free,North Bay
END:VEVENT
END:VCALENDAR