BEGIN:VCALENDAR
VERSION:2.0
PRODID:-//Litseen - ECPv6.15.11//NONSGML v1.0//EN
CALSCALE:GREGORIAN
METHOD:PUBLISH
X-ORIGINAL-URL:https://litseen.com
X-WR-CALDESC:Events for Litseen
REFRESH-INTERVAL;VALUE=DURATION:PT1H
X-Robots-Tag:noindex
X-PUBLISHED-TTL:PT1H
BEGIN:VTIMEZONE
TZID:UTC
BEGIN:STANDARD
TZOFFSETFROM:+0000
TZOFFSETTO:+0000
TZNAME:UTC
DTSTART:20160101T000000
END:STANDARD
END:VTIMEZONE
BEGIN:VEVENT
DTSTART;TZID=UTC:20170829T183000
DTEND;TZID=UTC:20170829T193000
DTSTAMP:20260419T183259
CREATED:20170718T040545Z
LAST-MODIFIED:20170718T115501Z
UID:27935-1504031400-1504035000@litseen.com
SUMMARY:Jennifer Barone + James Cagney
DESCRIPTION:Jennifer Barone\, host of the WordParty poetry and jazz series and author of “Saporoso – poems of Italian food and love” will be reading from new work along with poet James Cagney\, reading from his latest. Hosted by Jack Hirschman and the North Beach Library. \nvisit: www.jenniferbarone.wordpress.com
URL:https://litseen.com/event/jennifer-barone-and-james-cagney/
LOCATION:North Beach\, SF Public Library\, 850 Columbus Ave\, San Francisco\, CA\, 94133\, United States
CATEGORIES:Free,San Francisco
END:VEVENT
BEGIN:VEVENT
DTSTART;TZID=UTC:20170829T190000
DTEND;TZID=UTC:20170829T200000
DTSTAMP:20260419T183259
CREATED:20170815T005951Z
LAST-MODIFIED:20170815T005951Z
UID:28270-1504033200-1504036800@litseen.com
SUMMARY:The Singing Ship Book Launch
DESCRIPTION:Noe Valley Author Rebecca Winterer discusses her debut novel\, The Singing Ship\, in conversation with Peg Alford Pursell Tuesday\, August 29\, 7 p.m. at Folio Books\, 3957 24th St. in Noe Valley. Pursell is the organizer of the North Bay reading series Why There Are Words. The Singing Ship\, “a novel about traversing boundaries\,” is set in Winterer’s native Australia. It won the Del Sol Press First Novel Prize. It is the story of two sisters who fight an unorthodox battle for truth after an attack in the Australian Outback. Free admission\, champagne\, and cake. An author signing follows the discussion. www.facebook.com/events/124981894791558
URL:https://litseen.com/event/the-singing-ship-book-launch/
LOCATION:Folio Books\, 3957 24th St\, San Francisco \, CA\, 94114\, United States
CATEGORIES:Free,San Francisco
END:VEVENT
BEGIN:VEVENT
DTSTART;TZID=UTC:20170829T193000
DTEND;TZID=UTC:20170829T213000
DTSTAMP:20260419T183259
CREATED:20170621T130322Z
LAST-MODIFIED:20170621T130322Z
UID:27559-1504035000-1504042200@litseen.com
SUMMARY:Daniel Magariel
DESCRIPTION:Daniel Magariel discusses his new book\, One of the Boys. \n\nPraise for One of the Boys \n“Brilliant\, urgent\, darkly funny\, heartbreaking—a tour de force with startling new things to say about class\, masculinity\, addiction\, and family.  Daniel Magariel is an exciting new presence in American writing.” (George Saunders\, author of Tenth of December and Lincoln in the Bardo) \n“Precise and coiled and urgent. Magariel is able–as few writers can–to say so much in so little. A propulsive and intense debut.” (Hanya Yanagihara\, author of A Little Life) \n“With a charismatic\, macho\, drug-addicted dad\, the young narrator pays an awful price to be One of the Boys in the riveting debut novel by Daniel Magariel. Move over Great Santini\, this patriarch is rendered with such artful love\, you’ll be haunted by his presence long after you close this graceful and heartbreaking book.” (Mary Karr\, author of Lit and The Liar’s Club) \n\nAbout One of the Boys \nThe three of them—a twelve-year-old boy\, his older brother\, their father—have won the war: the father’s term for his bitter divorce and custody battle. They leave their Kansas home and drive through the night to Albuquerque\, eager to begin again\, united by the thrilling possibility of carving out a new life together. The boys go to school\, join basketball teams\, make friends. Meanwhile their father works from home\, smoking cheap cigars to hide another smell. But soon the little missteps—the dead-eyed absentmindedness\, the late night noises\, the comings and goings of increasingly odd characters—become worrisome\, and the boys find themselves watching their father change\, grow erratic\, then dangerous. \n\nSet in the sublimely stark landscape of suburban New Mexico and a cramped apartment shut tight to the world\, One of the Boys conveys with propulsive prose and extraordinary compassion a young boy’s struggle to hold onto the pieces of his shattered family. Tender\, moving and beautiful\, Daniel Magariel’s masterful debut is a story of resilience and survival: two foxhole-weary brothers banding together to protect each other from the father they once trusted\, but no longer recognize. With the emotional core of A Little Life and the speed of We the Animals\, One of the Boys is among the most remarkable debut novels you’ll ever read.
URL:https://litseen.com/event/daniel-magariel/
LOCATION:Green Apple Books on the Park\, 1231 9th Ave\, San Francisco \, CA\, 94122\, United States
CATEGORIES:Free,San Francisco
END:VEVENT
END:VCALENDAR