BEGIN:VCALENDAR
VERSION:2.0
PRODID:-//Litseen - ECPv6.15.11//NONSGML v1.0//EN
CALSCALE:GREGORIAN
METHOD:PUBLISH
X-ORIGINAL-URL:https://litseen.com
X-WR-CALDESC:Events for Litseen
REFRESH-INTERVAL;VALUE=DURATION:PT1H
X-Robots-Tag:noindex
X-PUBLISHED-TTL:PT1H
BEGIN:VTIMEZONE
TZID:UTC
BEGIN:STANDARD
TZOFFSETFROM:+0000
TZOFFSETTO:+0000
TZNAME:UTC
DTSTART:20160101T000000
END:STANDARD
END:VTIMEZONE
BEGIN:VEVENT
DTSTART;TZID=UTC:20170831T183000
DTEND;TZID=UTC:20170831T203000
DTSTAMP:20260424T191957
CREATED:20170824T051754Z
LAST-MODIFIED:20170825T004150Z
UID:28517-1504204200-1504211400@litseen.com
SUMMARY:Holloway Reading Series: Annual Faculty Reading
DESCRIPTION:featuring: Cecil Giscombe \nRobert Hass \nLyn Hejinian \nGeoffrey G. O’Brien \nJohn Shoptaw \nand giovani singleton.
URL:https://litseen.com/event/holloway-reading-series-annual-faculty-reading/
LOCATION:Maude Fife Room\, UC Berkeley\, 2000 Carleston Street\, Berkeley\, CA\, 94720\, United States
CATEGORIES:East Bay,Free
END:VEVENT
BEGIN:VEVENT
DTSTART;TZID=UTC:20170831T190000
DTEND;TZID=UTC:20170831T210000
DTSTAMP:20260424T191957
CREATED:20170816T004859Z
LAST-MODIFIED:20170816T004859Z
UID:28355-1504206000-1504213200@litseen.com
SUMMARY:Genny Lim + Nellie Wong
DESCRIPTION:Genny Lim is the SFJAZZ poet laureate. She has performed in poetry and music collaborations with the late jazz legends Max Roach\, Herbie Lewis and Fred Ho\, and with Bay Area musicians John Santos\, Francis Wong and Jon Jang. She has also been featured at World Poetry Festivals in Venezuela\, Bosnia and Italy. Her award-winning play Paper Angels aired on PBS’ American Playhouse in 1985 and was reprised in 2010 at San Francisco Chinatown’s Portsmouth Square\, receiving the San Francisco Fringe Festival’s Best Site-Specific Award. Lim’s performance piece with drummer Marshall Trammell\, Don’t Shoot! A Requiem in Black\, dedicated to Black Lives Matter\, premiered at Safe House this last April to sold-out houses and will be performed at next year’s SF Jazz Poetry Festival at the SFJazz Center. Lim is author of four poetry collections: Winter Place\, Child of War\, Paper Gods and Rebels and KRA!\, and she is co-author of the seminal Island: Poetry and History of Chinese Immigrants on Angel Island. \nNellie Wong is the author of four books of poetry: Dreams in Harrison Railroad Park\, The Death of Long Steam Lady\, Stolen Moments and Breakfast Lunch Dinner. Most recently she edited Talking Back: Voices of Color (Red Letter Press\, 2015)\, a collection of essays and interviews advancing the views of a multiracial\, intergenerational mix of 30 black\, Latina/o\, Indigenous\, Asian Pacific American\, Palestinian and LGBTQ community organizers. The first-born daughter of Chinese immigrants in Oakland\, Wong is active with Radical Women and the Freedom Socialist Party and has worked as a secretary and administrative assistant and affirmative action analyst. She was a delegate to the San Francisco Labor Council for University Professional and Technical Employees. Wong has taught at Mills College and University of Minnesota. Wong has traveled with Alice Walker\, Tillie Olsen\, Paule Marshall and other delegates on the first U.S. Women Writers Tour to China\, and has read throughout the U.S. and in Australia and Cuba. Her work has been translated into Spanish\, Chinese\, French and Italian. She’s featured with Mitsuye Yamada in the documentary film\, Mitsuye and Nellie: Asian American Poets\, by Allie Light and Irving Saraf.
URL:https://litseen.com/event/genny-lim-nellie-wong/
LOCATION:The Poetry Center\, San Francisco State University\, 1600 Holloway Ave\, San Francisco \, CA\, 94132\, United States
CATEGORIES:Free,San Francisco
END:VEVENT
BEGIN:VEVENT
DTSTART;TZID=UTC:20170831T193000
DTEND;TZID=UTC:20170831T213000
DTSTAMP:20260424T191957
CREATED:20170703T111506Z
LAST-MODIFIED:20170707T003610Z
UID:27852-1504207800-1504215000@litseen.com
SUMMARY:Michael Mazza
DESCRIPTION:Michael Mazza discusses his new novel\, That Crazy Perfect Someday. \nThe year is 2024. Climate change has altered the world’s wave patterns. Drones crisscross the sky\, cars drive themselves\, and surfing is a new Olympic sport. Mafuri Long\, UCSD marine biology grad\, champion surfer\, and only female to dominate a record eighty-foot wave\, still has something to prove. Having achieved Internet fame\, along with sponsorship from Google and Nike\, she’s intent on winning Olympic gold. But when her father\, a clinically depressed former Navy captain and widower\, learns that his beloved supercarrier\, the USS Hillary Rodham Clinton\, is to be sunk\, he draws Mafuri into a powerful undertow. Conflicts compound as Mafuri’s personal life comes undone via social media\, and a vicious Aussie competitor levels bogus doping charges against her. Mafuri forms an unlikely friendship with an awkward teen\, a Ferrari-driving professional gamer who will prove to be her support and ballast. Authentic\, brutal\, and at times funny\, Mafuri lays it all out in a sprightly\, hot-wired voice. From San Diego to Sydney\, Key West\, and Manila\, That Crazy Perfect Someday goes beyond the sports/surf cliché to explore the depths of sorrow and hope\, yearning and family bonds\, and the bootstrap power of a bold young woman climbing back into the light. \n 
URL:https://litseen.com/event/michael-mazza/
LOCATION:Green Apple Books on the Park\, 1231 9th Ave\, San Francisco \, CA\, 94122\, United States
CATEGORIES:Free,San Francisco
END:VEVENT
END:VCALENDAR