BEGIN:VCALENDAR
VERSION:2.0
PRODID:-//Litseen - ECPv6.15.11//NONSGML v1.0//EN
CALSCALE:GREGORIAN
METHOD:PUBLISH
X-ORIGINAL-URL:https://litseen.com
X-WR-CALDESC:Events for Litseen
REFRESH-INTERVAL;VALUE=DURATION:PT1H
X-Robots-Tag:noindex
X-PUBLISHED-TTL:PT1H
BEGIN:VTIMEZONE
TZID:UTC
BEGIN:STANDARD
TZOFFSETFROM:+0000
TZOFFSETTO:+0000
TZNAME:UTC
DTSTART:20160101T000000
END:STANDARD
END:VTIMEZONE
BEGIN:VEVENT
DTSTART;TZID=UTC:20170901T140000
DTEND;TZID=UTC:20170901T160000
DTSTAMP:20260419T165853
CREATED:20170817T121121Z
LAST-MODIFIED:20170817T121121Z
UID:28440-1504274400-1504281600@litseen.com
SUMMARY:Louise Penny: Glass Houses
DESCRIPTION:When a mysterious figure appears on the village green on a cold November day in Three Pines\, Armand Gamache\, now Chief Superintendent of the Sûreté du Québec\, knows something is seriously wrong. Yet he does nothing. Legally\, what can he do? Only watch and wait. And hope his mounting fears are not realized. \nFrom the moment its shadow falls over Three Pines\, Gamache suspects the creature has deep roots and a dark purpose. When it suddenly vanishes and a body is discovered\, it falls to Gamache to discover if a debt has been paid or levied. \nIn the early days of the investigation into the murder\, and months later\, as the trial for the accused begins in a Montreal courtroom on a steamy day in July\, the Chief Superintendent continues to struggle with actions he’s set in motion\, from which there is no going back. “This case began in a higher court\,” he tells the judge\, “and it’s going to end there.” \nAnd regardless of the trial’s outcome\, he must face his own conscience. \nIn Glass Houses — her latest utterly gripping book — #1 New York Times bestselling author Louise Penny shatters the conventions of the crime novel to explore what Gandhi called the court of conscience. A court that supersedes all others. \nLouise Penny  is the author of the #1 New York Times and Globe and Mail bestselling series of Chief Inspector Armand Gamache novels. She has won numerous awards\, including a CWA Dagger and the Agatha Award (six times)\, and was a finalist for the Edgar Award for Best Novel. In 2017\, she received the Order of Canada for her contributions to Canadian culture. Louise lives in a small village south of Montréal.
URL:https://litseen.com/event/louise-penny-glass-houses/
LOCATION:Book Passage Marin\, 51 Tamal Vista Blvd. \, Corte Madera\, CA\, 94925\, United States
CATEGORIES:North Bay
END:VEVENT
END:VCALENDAR