BEGIN:VCALENDAR
VERSION:2.0
PRODID:-//Litseen - ECPv6.15.11//NONSGML v1.0//EN
CALSCALE:GREGORIAN
METHOD:PUBLISH
X-WR-CALNAME:Litseen
X-ORIGINAL-URL:https://litseen.com
X-WR-CALDESC:Events for Litseen
REFRESH-INTERVAL;VALUE=DURATION:PT1H
X-Robots-Tag:noindex
X-PUBLISHED-TTL:PT1H
BEGIN:VTIMEZONE
TZID:UTC
BEGIN:STANDARD
TZOFFSETFROM:+0000
TZOFFSETTO:+0000
TZNAME:UTC
DTSTART:20160101T000000
END:STANDARD
END:VTIMEZONE
BEGIN:VEVENT
DTSTART;TZID=UTC:20170909T100000
DTEND;TZID=UTC:20170909T170000
DTSTAMP:20260419T200509
CREATED:20170823T054444Z
LAST-MODIFIED:20170823T054444Z
UID:28513-1504951200-1504976400@litseen.com
SUMMARY:Poetry in Parks 2017
DESCRIPTION:San Francisco Poet Laureate Kim Shuck kicks off the day with a poem and a curated series of youth readings\, followed by a set of performances organized by Vasileia; a submission-based literary mixtape\, curated through a blind selection process by Kelsey Schimmelman and Lisa Church; Quiet Lightning’s annual Neighborhood Heroes show (TBA soon); an interdisciplinary performance by LOAN; live music by Classical Revolution; live painting and an interactive art station by ArtSpan; children’s activities by Bread & Roses; a book swap; books for sale; delicious local food and drink by D’Maize Catering\, Stirm Wine Co.\, Lagunitas Brewing Co. and House Kombucha\, and (ok we can tell you one of our Heroes)\, Jason Bayani spinning some records! \nLiterary mixtape readings by: Gracia Mwamba\, Rich Baiocco\, Lisa Piazza\, Kimberly Gomes\, Raina J. Leòn\, Linda Michel-Cassidy\, Tomas Moniz\, Peter Kline\, William Vlach\, Lenore Weiss\, Abbie Jeanne Amadio\, Yael Hacohen\, and Jill Bronfman! \nSpecial thanks to Poetry in Parks’ sponsors: the San Francisco Arts Commission\, Zellerbach Family Foundation\, SOMArts Cultural Center\, and Booksmith. \nFull schedule + more info coming soon. \nRSVP not required but appreciated.
URL:https://litseen.com/event/poetry-in-parks-2017/
LOCATION:Candlestick Point SRA\, 1150 Carroll Ave.\, SAN FRANCISCO\, CA\, 94124\, United States
CATEGORIES:San Francisco
ORGANIZER;CN="Quiet Lightning":MAILTO:evan AT quietlightning DOT org
END:VEVENT
BEGIN:VEVENT
DTSTART;TZID=UTC:20170909T180000
DTEND;TZID=UTC:20170909T200000
DTSTAMP:20260419T200509
CREATED:20170817T035010Z
LAST-MODIFIED:20170817T035010Z
UID:28382-1504980000-1504987200@litseen.com
SUMMARY:Babylon Salon Fall Reading
DESCRIPTION:Laleh Khadivi\n(A Good Country; The Walking; The Age of Orphans) \nLaleh Khadivi was born in Esfahan\, Iran. Her debut novel\, The Age of Orphans\, received the Whiting Award for Fiction\, the Barnes and Nobles Discover New Writers Award and an Emory Fiction Fellowship. Her debut documentary film 900 WOMEN aired on A&E and premiered at the Human Rights Watch Film Festival. She has worked as director\, producer and cinematographer of documentary films since 1999. Her fiction and non-fiction can be found in The Los Angeles Times\, The San Francisco Chronicle\, VQR\, The Sun and other publications. She is the recipient of a 2016 National Endowment for the Arts Grant and a 2016 Pushcart Prize for her story Wanderlust. \nLee Daniel Kravetz\n(Strange Contagion; Supersurvivors) \nLee Daniel Kravetz is the bestselling author of Supersurvivors (Harpercollins/Harper Wave). His work has been translated into ten languages. He has written for print and television\, including The New York Times\, Psychology Today\, The San Francisco Chronicle\,and PBS. He has been featured in Time Magazine\, theHarvard Business Review\, and Fast Company\, and is a founding board member of the Lit Camp Writers Conference. \nShanthi Sekaran\n(Lucky Boy; The Prayer Room)\nShanthi Sekaran teaches creative writing at California College of the Arts\, and is a member of the Portuguese Artists Colony and the San Francisco Writers’ Grotto. Her work has appeared in Best New American Voices and Canteen\, and online at Zyzzyva and Mutha Magazine. Her first novel\, The Prayer Room\, was published by MacAdam Cage. \nand more!
URL:https://litseen.com/event/babylon-salon-fall-reading-2/
LOCATION:The Armory Club\, 1799 Mission St\, San Francisco\, CA\, 94103\, United States
CATEGORIES:Free,San Francisco
END:VEVENT
BEGIN:VEVENT
DTSTART;TZID=UTC:20170909T190000
DTEND;TZID=UTC:20170909T200000
DTSTAMP:20260419T200509
CREATED:20170902T052805Z
LAST-MODIFIED:20170902T052805Z
UID:28690-1504983600-1504987200@litseen.com
SUMMARY:Christine Evelyn Volker Book Talk: Venetian Blood
DESCRIPTION:Kirkus Reviews calls Venetian Blood: Murder in a Sensuous City\, “A riveting whodunit that makes full use of its dramatic setting.” \nLeft Coast Writers presents Christine Evelyn Volker’s book launch. Come hear her discuss this international mystery and the city which inspired it. \nStruggling to forget a crumbling marriage\, Anna Lucia Lottol travels to Venice to visit an old friend. But instead of finding solace\, she is dragged into the police station and accused of murdering a money-laundering count with whom she had a brief affair.  A US Treasury officer with brains and athleticism\, Anna fights to clear her name in a city of illusions\, with recalcitrant characters denying what she sees and hears.  Her mission stirs up a powerful foe bent on destroying her. Will she overcome her adversaries\, including her deepest fears? \nThis multi-layered work is a mystery\, a personal\, psychological journey\, and a dark love poem to the city of Venice. \n 
URL:https://litseen.com/event/christine-evelyn-volker-book-talk-venetian-blood/
LOCATION:Book Passage Corte Madera\, 51 Tamal Vista Blvd.\, Corte Madera\, CA\, 94925\, United States
CATEGORIES:Free,North Bay
ORGANIZER;CN="Christine Evelyn Volker":MAILTO:christine@christinevolkerauthor.com
END:VEVENT
BEGIN:VEVENT
DTSTART;TZID=UTC:20170909T193000
DTEND;TZID=UTC:20170909T213000
DTSTAMP:20260419T200509
CREATED:20170816T010525Z
LAST-MODIFIED:20170816T010707Z
UID:28373-1504985400-1504992600@litseen.com
SUMMARY:Writers With Drinks September
DESCRIPTION:Daniel H. Wilson (The Clockwork Dynasty\, Robopocalypse)\nAlexandria Marzano-Lesnevich (The Fact of a Body: A Murder and a Memoir)\nMeredith May (I\, Who Did Not Die)\nCeleste Chan (Queer Rebels)\nNatasha Dennerstein (Triptych Caliform)\nJuba Kalamka (Oogabooga Under Fascism)
URL:https://litseen.com/event/writers-with-drinks-september/
LOCATION:Make-Out Room\, 3225 22nd St\, San Francisco\, CA\, 94110\, United States
CATEGORIES:San Francisco
END:VEVENT
END:VCALENDAR