BEGIN:VCALENDAR
VERSION:2.0
PRODID:-//Litseen - ECPv6.15.11//NONSGML v1.0//EN
CALSCALE:GREGORIAN
METHOD:PUBLISH
X-ORIGINAL-URL:https://litseen.com
X-WR-CALDESC:Events for Litseen
REFRESH-INTERVAL;VALUE=DURATION:PT1H
X-Robots-Tag:noindex
X-PUBLISHED-TTL:PT1H
BEGIN:VTIMEZONE
TZID:UTC
BEGIN:STANDARD
TZOFFSETFROM:+0000
TZOFFSETTO:+0000
TZNAME:UTC
DTSTART:20160101T000000
END:STANDARD
END:VTIMEZONE
BEGIN:VEVENT
DTSTART;TZID=UTC:20170913T180000
DTEND;TZID=UTC:20170913T193000
DTSTAMP:20260419T214626
CREATED:20170824T134717Z
LAST-MODIFIED:20170825T003829Z
UID:28552-1505325600-1505331000@litseen.com
SUMMARY:Tales and Legends from Mexico w/ Marcos Barraza
DESCRIPTION:Marcos Barraza is a writer of varied topics such as physics\, society\, history and technology. His latest book\, Cuentos y Legendas (Tales and Legends)\, is a compendium of historical tales from Victoria de Durango\, the capital of the Spanish province of Nueva Vizcaya which today represents the Mexican states of Durango and Chihuahua.
URL:https://litseen.com/event/tales-and-legends-from-mexico-with-marcos-barraza/
LOCATION:San Francisco Public Library\, 100 Larkin St\, San Francisco \, CA\, 94102\, United States
CATEGORIES:Free,San Francisco
END:VEVENT
BEGIN:VEVENT
DTSTART;TZID=UTC:20170913T183000
DTEND;TZID=UTC:20170913T203000
DTSTAMP:20260419T214626
CREATED:20170824T052106Z
LAST-MODIFIED:20170825T004021Z
UID:28520-1505327400-1505334600@litseen.com
SUMMARY:Holloway Reading Series: giovanni singleton
DESCRIPTION:giovanni singleton earned a BA from American University and an MFA from the New College of California. She is the author of the poetry collections AMERICAN LETTERS: works on paper (2017) and Ascension (2011)\, which won a California Book Award for Poetry. The book earned praise for its evocative use of white space\, silence\, and omissions. \nsingleton is founding editor of nocturnes (re)view of the literary arts. Her honors and awards include fellowships from the Squaw Valley Community of Writers\, Cave Canem\, and the Napa Valley Writers Conference. Her work has been anthologized widely and appeared on the Yerba Buena Center for the Arts building. Coordinator for the Lunch Poems reading series at the University of California–Berkeley\, singleton has taught at Saint Mary’s College\, Naropa University\, and New Mexico State University.
URL:https://litseen.com/event/holloway-reading-series-giovanni-singleton/
LOCATION:Maude Fife Room\, UC Berkeley\, 2000 Carleston Street\, Berkeley\, CA\, 94720\, United States
CATEGORIES:East Bay,Free
END:VEVENT
BEGIN:VEVENT
DTSTART;TZID=UTC:20170913T190000
DTEND;TZID=UTC:20170913T210000
DTSTAMP:20260419T214626
CREATED:20170721T234149Z
LAST-MODIFIED:20170721T234149Z
UID:28062-1505329200-1505336400@litseen.com
SUMMARY:Daniel Kane
DESCRIPTION:discussing his new book \nDo You Have a Band?”: Poetry and Punk Rock in New York City \nfrom Columbia University Press \nDuring the late 1960s\, throughout the 1970s\, and into the 1980s\, New York City poets and musicians played together\, published each other\, and inspired one another to create groundbreaking art. In “Do You Have a Band?”\, Daniel Kane reads deeply across poetry and punk music to capture this compelling exchange and its challenge to the status of the visionary artist\, the cultural capital of poetry\, and the lines dividing sung lyric from page-bound poem. \nKane reveals how the new sounds of proto-punk and punk music found their way into the poetry of the 1960s and 1970s downtown scene\, enabling writers to develop fresh ideas for their own poetics and performance styles. Likewise\, groups like The Fugs and the Velvet Underground drew on writers as varied as William Blake and Delmore Schwartz for their lyrics. Drawing on a range of archival materials and oral interviews\, Kane also shows how and why punk musicians drew on and resisted French Symbolist writing\, the vatic resonance of the Beat chant\, and\, most surprisingly and complexly\, the New York Schools of poetry. In bringing together the music and writing of Richard Hell\, Patti Smith\, and Jim Carroll with readings of poetry by Anne Waldman\, Eileen Myles\, Ted Berrigan\, John Giorno\, and Dennis Cooper\, Kane provides a fascinating history of this crucial period in postwar American culture and the cultural life of New York City. \nDaniel Kane is reader in English and American literature at the University of Sussex in Brighton. His books include We Saw the Light: Conversations Between the New American Cinema and Poetry (2009) and All Poets Welcome: The Lower East Side Poetry Scene in the 1960s (2003).
URL:https://litseen.com/event/daniel-kane/
LOCATION:City Lights Bookstore\, 261 Columbus Ave\, San Francisco \, CA\, 94133\, United States
CATEGORIES:Free,San Francisco
END:VEVENT
BEGIN:VEVENT
DTSTART;TZID=UTC:20170913T190000
DTEND;TZID=UTC:20170913T210000
DTSTAMP:20260419T214626
CREATED:20170722T002241Z
LAST-MODIFIED:20170725T034438Z
UID:28089-1505329200-1505336400@litseen.com
SUMMARY:Victor Serge translator James Brook
DESCRIPTION:This is the East Bay book launch for A Blaze in a Desert: Selected Poems by Victor Serge\, translated and edited by James Brook (PM Press). \nVictor Serge (1890-1947) played many parts\, as he recounted in his indelible Memoirs of a Revolutionary. The son of anti-czarist exiles in Brussels\, Serge was a young anarchist in Paris; a syndicalist rebel in Barcelona; a Bolshevik activist in Petrograd; a Comintern agent in Central Europe; a comrade of Trotsky’s; a friend of writers like Andrei Bely\, Boris Pilnyak\, and André Breton; a prisoner of Stalin; a dissident Marxist in exile in Mexico . . . \nLike Serge’s extraordinary novels\, A Blaze in a Desert: Selected Poems bears witness to revolutionary upheavals in Europe and the advent of totalitarian rule. Many of the poems were written during the “immense shipwreck” of Stalin’s ascendancy. In poems datelined Petrograd\, Orenburg\, Paris\, Marseille\, the Caribbean\, and Mexico\, Serge composed elegies for the fallen — as well as tributes to the living who\, like him\, endured prison\, exile\, and bitter disappointment in the revolutions of the first half of the twentieth century. \n“Victor Serge was a major novelist\, a revolutionary\, and a historical witness\, so it is perhaps not surprising that his poetry has been overlooked. But his poetry is for real. It is as grounded in specifics as you might expect from a fighter in some of the twentieth century’s great struggles\, and as visionary as you’d hope from a disciple of Rimbaud and a friend to the Surrealists. Reading it is like coming upon an unsuspected corridor in the house of literature. James Brook’s lucid translation does it full justice.”\n–Luc Sante\, author of The Other Paris \nJames Brook is a poet whose translations include works by Guy Debord\, Henri Michaux\, Gellu Naum\, and Benjamin Péret. He is the principal editor of Resisting the Virtual Life (with Iain Boal) and Reclaiming San Francisco (with Chris Carlsson and Nancy J. Peters). The New York Times named his translation of Jean-Patrick Manchette’s The Prone Gunman a Notable Book.
URL:https://litseen.com/event/victor-serge-translator-james-brook/
LOCATION:Moe’s Books\, 2476 Telegraph Ave\, Berkeley\, CA\, 94704\, United States
CATEGORIES:East Bay,Free
END:VEVENT
BEGIN:VEVENT
DTSTART;TZID=UTC:20170913T190000
DTEND;TZID=UTC:20170913T210000
DTSTAMP:20260419T214626
CREATED:20170826T144848Z
LAST-MODIFIED:20170828T115522Z
UID:28597-1505329200-1505336400@litseen.com
SUMMARY:Novelist Jac Jemc & "Snap Judgement's" Eliza Smith
DESCRIPTION:Jac Jemc will read from her new novel THE GRIP OF IT (FSG Originals) and discuss with Eliza Smith. \nTHE GRIP OF IT by Jac Jemc weaves the tale of a troubled married couple looking for a new start in an old home full of secrets.\n“The Grip of It is a stunning\, smart\, genuinely creepy page-turner that I couldn’t put down. It’s got depth\, thrills\, twists\, and great writing. I’d recommend this novel to anyone. One of the few haunted house stories that sticks the landing.”\n— Jeff VanderMeer\, author of the Southern Reach trilogy (Annihilation\, Authority\, and Acceptance)\, Borne and City of Saints & Madmen \nJac Jemc is the author of The Grip of It newly released from FSG Originals in August 2017. Her first novel\, My Only Wife (Dzanc Books) was a finalist for the 2013 PEN/Robert W. Bingham Prize for Debut Fiction and winner of the Paula Anderson Book Award\, and her collection of stories\, A Different Bed Every Time (Dzanc Books) was named one of Amazon’s best story collections of 2014. She edits nonfiction for Hobart. \nEliza Smith is a producer at WNYC’s Snap Judgment. In addition to producing nonfiction stories\, she is also the fiction editor and adapts work by writers like Manuel Gonzalez\, Amelia Gray\, and Kelly Link into radio plays. Sometimes\, she’ll freelance for publications like The Organist and The Litography Project.
URL:https://litseen.com/event/novelist-jac-jemc-snap-judgements-eliza-smith/
LOCATION:E.M. Wolfman General Interest Small Bookstore\, 410 13th Street\, Oakland \, CA\, 94612\, United States
CATEGORIES:East Bay,Free
END:VEVENT
BEGIN:VEVENT
DTSTART;TZID=UTC:20170913T200000
DTEND;TZID=UTC:20170913T223000
DTSTAMP:20260419T214626
CREATED:20170815T111438Z
LAST-MODIFIED:20170815T111438Z
UID:28278-1505332800-1505341800@litseen.com
SUMMARY:Bawdy Storytelling's 'JoyRide'
DESCRIPTION:Wednesday\, Sept 13th\, 2017\n\n\n\nat the Verdi Club (2424 Mariposa\, San Francisco\, CA)\n\n\nRemember: Bang-O at 7:00 PM\, Stories at 8:00 PM\n\n\nWonder what this show is about? Listen to the Bawdy Storytelling podcast at\n\n\nhttp://bit.ly/bawdypodcast\n\n\nWe don’t limit you. Why are you limiting yourself? #storytelling#Unedited#TheRealDeal\n\n\n\n•••••••••••••••••••••••••••••••••••••••••••••••••••••••••••\n\n\n“The Moth for Pervs” – LA Weekly\n\n\n•••••••••••••••••••••••••••••••••••••••••••••••••••••••••••\n\n\nThis Evening of  ‘We need more Joy’ stories & songs includes:\n\n\n❤ Sexual Folklorist & Carnal Curator Dixie De La Tour\n\n\n❤ Custom Bawdy Songs from the inimitable Rachel Lark\n\n❤ Wanna be part of this show? Pitch your story to Dixie@BawdyStorytelling.com by Aug 18th! \n\n❤ Play Bang-O & WIN Prizes\, just for talking to sexy strangers\n\n\n❤ Reserved Seating puts you right up front\, in the action\n\n\n❤ Sexy cocktails to help you Libate #ItsOK#PublicLibationIsLegal\n\n\n••••••••••••••••••••••••••••••••••••••••••••••••••••••••••••••••••••••••••\n\n\nBawdy Storytelling – the Original Sex + Storytelling series – features Real People & Rockstars sharing their Bona Fide Sexual Exploits Live Onstage; think of us as a One Night Stand with the Moth & Savage Love. Storytellers are an eclectic mix of Authors\, Porn Stars\, Sex Educators\, Comics & More\, along with Regular Joes just like you who submitted their stories online and were chosen for their panache and sense of (Mis)Adventure.\n\n\n \n\n\nBawdy Storytelling features tales of Carnal Wins & Epic Fails with No Scripts\, No Nets\, and No Holds Barred. These folks aren’t reading from cue cards: this is honest-to-badness story time with true sexcapades and poignant\, transformational tales at each and every show. Join Sexual Folklorist Dixie De La Tour & hand-picked Rockstars as they share their own stories of Love\, Lust\, and making you feel funny in your bathing suit area. Hey\, you may even go home with a few new tricks for your boudoir arsenal!\n\n\n \n\n\n• No Refunds or Exchanges\n\n\n• Lineup Subject to Change\n\n\n• General Admission seating is first come\, first served. We recommend you arrive by 7:15 for best seating (Reserved Seating guarantees you a seat right up front)\n\n\n \n\n\nPerformer Bios:\n\n \n\n❤ Rachel Lark is a San Francisco based singer/songwriter and multi-instrumentalist. Her music has been featured on The Savage Lovecast and Salon.com and she tours regularly throughout the U.S. and Europe. She was signed last year to not a cult records with her new studio album\, They’ve Done Studies\, set to be released in Spring 2017. She recently debuted a new show at DNA Lounge that she successfully funded through a Kickstarter campaign\, and is touring as Rachel Lark and the Damaged Goods right now – but she’ll be back from tour and rocking Bawdy’s stage on July 12th! Find out more about Lark at www.rachellark.com\, www.facebook.com/larksongs & at @rachellarkmusic\n\n\n \n\n\n❤ Dixie De La Tour is a sexual folklorist\, storyteller\, entrepreneur\, podcaster\, teacher\, catalyst\, coach\, community builder\, facilitator\, & instigator (& that’s just for starters). She is also the founder\, curator & host of the award-winning sex and storytelling series\, Bawdy Storytelling (“The nation’s original sex and storytelling series” – Playgirl\, “The Moth for Pervs” – LA Weekly)\nCalled “a stiff shot of courage in a push-up bra”\, Dixie is passionate about storytelling’s power to connect strangers. A former sex party producer & dating site community manager\, she founded Bawdy Storytelling (a multi-city brand of sex-positive self advocacy that’s changing the world and making our relationships more authentic and accessible)\nAs a storyteller\, Dixie’s own dating stories can been heard on the Risk! podcast and her own Bawdy Storytelling podcast (which was selected by Esquire.com as a top 5 ‘Best Sex Podcast’) Ping her (she likes that) at @Bawdy\, facebook.com/DixieDeLaTour & at www.BawdyStorytelling.com\n\n\n\n•••••••••••••••••••••••••••••••••••••••••••••••••••••••••••\n\n\nWinner of SFist’s Best Storytelling Show of 2016\, the SF Weekly’s Best of San Francisco & the LA Weekly’s Best Of Los Angeles (for Best Storytelling) & 2 Time Winner of the SF Bay Guardian’s Best of the Bay Award (Best Literary Event)\n\n\n•••••••••••••••••••••••••••••••••••••••••••••••••••••••••••\n\n\n“The Moth for Pervs” – LA Weekly\n\n\n•••••••••••••••••••••••••••••••••••••••••••••••••••••••••••\n\n\n“Dixie De La Tour’s scandalous\, over-the-top Bawdy Storytelling series” – SF Weekly\n\n\n•••••••••••••••••••••••••••••••••••••••••••••••••••••••••••\n\n\nWant more Bawdy?\n\n\nwww.BawdyStorytelling.com\n\n\nTwitter: @Bawdy\n\n\n& at Facebook.com/BawdyStorytelling
URL:https://litseen.com/event/bawdy-storytellings-joyride/
LOCATION:Verdi Club\, 2424 Mariposa St\, San Francisco \, CA\, 94110\, United States
CATEGORIES:San Francisco
END:VEVENT
END:VCALENDAR