BEGIN:VCALENDAR
VERSION:2.0
PRODID:-//Litseen - ECPv6.15.11//NONSGML v1.0//EN
CALSCALE:GREGORIAN
METHOD:PUBLISH
X-ORIGINAL-URL:https://litseen.com
X-WR-CALDESC:Events for Litseen
REFRESH-INTERVAL;VALUE=DURATION:PT1H
X-Robots-Tag:noindex
X-PUBLISHED-TTL:PT1H
BEGIN:VTIMEZONE
TZID:UTC
BEGIN:STANDARD
TZOFFSETFROM:+0000
TZOFFSETTO:+0000
TZNAME:UTC
DTSTART:20160101T000000
END:STANDARD
END:VTIMEZONE
BEGIN:VEVENT
DTSTART;TZID=UTC:20170915T180000
DTEND;TZID=UTC:20170915T200000
DTSTAMP:20260419T200732
CREATED:20170817T045621Z
LAST-MODIFIED:20170817T045621Z
UID:28412-1505498400-1505505600@litseen.com
SUMMARY:Paul Madonna: Close Enough for the Angels
DESCRIPTION:The Bindery is excited to present a special evening with Paul Madonna as he introduces his latest release Close Enough for the Angels\, along with a gallery showing of his iconic work. Please join us at The Bindery! \nEmit Hopper was a one-hit wonder—twice. First as a rock and roller in the 80s\, then as a literary darling in the 90s. Now it’s twenty years later\, and despite his desire to remain a simple laundromat owner\, stardom has found him once again. As he’s drawn back into the limelight he meets Julia\, a former celebrity chef with an enigmatic past. But when she disappears while hiking with two other women\, Emit finds himself chasing down a mystery that promises to leave him forever changed. \nFrom the artist and author of All Over Coffee and Everything is its own reward\, Paul Madonna uses his signature blend of drawing and storytelling to deliver a beautiful and entertaining novel filled with suspense\, surprise\, and humor. \nWith over one hundred lush and haunting drawings\, this full-length\, character-driven story is a fresh and innovative reinvention of the illustrated novel. \n— \n“Madonna captures snapshots in time as he explores the relationship between image and text… that’s so gorgeously rendered in Madonna’s precise yet fluid pen-and-ink style\, it feels like it could be anywhere and everywhere.” — Publisher’s Weekly \n— \nPaul Madonna is the award-winning artist and writer. He is the creator of the series All Over Coffee\, which ran in the San Francisco Chronicle for twelve years\, and is the author of four books. His drawings and stories have appeared internationally in numerous books and journals as well as in galleries and museums\, including the San Francisco Contemporary Jewish Museum\, the Oakland Museum of California\, and an upcoming solo exhibition at the Legion of Honor in San Francisco. Paul is a former editor fortherumpus.net\, has taught drawing at the University of San Francisco\, and frequently lectures on creative practice\, even when not asked. He holds a BFA from Carnegie Mellon University\, and was the first (ever!) Art Intern at MAD magazine\, for which he proudly received no money. \nMore info: http://www.booksmith.com/event/paul-madonna-close-enough-angels-bindery
URL:https://litseen.com/event/paul-madonna-close-enough-for-the-angels/
LOCATION:The Bindery\, 1727 Haight St\, San Francisco \, 94117\, United States
CATEGORIES:Free,San Francisco
END:VEVENT
BEGIN:VEVENT
DTSTART;TZID=UTC:20170915T190000
DTEND;TZID=UTC:20170915T203000
DTSTAMP:20260419T200732
CREATED:20170905T111545Z
LAST-MODIFIED:20170905T111545Z
UID:28719-1505502000-1505507400@litseen.com
SUMMARY:Brutal Conditions of US Agriculture Workers Documented in Photo Essays
DESCRIPTION:The conditions of farm workers have deteriorated greatly since the 1970s and 80s.  Taking inflation into account\, wages are less than half. In photographs and testimonies\, In the Fields of the North / En los Campos del Norte shows that these conditions are provoking a new wave of organizing efforts. It is the first book to do so visually\, and in the words of farm workers themselves.  It is a completely bilingual book\, with extensive captions for all the images and oral histories in accessible narrative form. \n\n\n\n\n\n\n\n\n\n\n\n\n\n“What is distinctive about David Bacon´s work is his persistence and determination to be present at decisive moments in the lives of workers. His photo essays allow us to feel that we are there\, observing the events unfolding.  We are witnesses to intimate moments of farmers working at dawn in the onion fields.  We hear the testimonies of people participating in political action – with the strength of the community filling the air.”  Gaspar Rivera-Salgado\, professor of Chicano Studies\, UCLA David Bacon is a California-based writer and photographer.  He is the author of several books about migration\, including The Children of NAFTA\, Communities Without Borders and Illegal People – How Globalization Creates Migration and Criminalizes Immigrants. Bacon was a factory worker and union organizer for two decades with the United Farm Workers\, the International Ladies Garment Workers and other unions. Today he documents the changing conditions in the workforce\, the impact of the global economy\, war and migration\, and the struggle for human rights. His photography has been exhibited in the U.S. Mexico and Europe\, and his articles and photoessays have been published widely. As a photojournalist\, David Bacon has been documenting through photographs and stories the lives of farm workers since 1988.
URL:https://litseen.com/event/brutal-conditions-of-us-agriculture-workers-documented-in-photo-essays/
LOCATION:The Green Arcade\, 1680 Market St\, San Francisco \, CA\, 94102\, United States
CATEGORIES:Free,San Francisco
END:VEVENT
BEGIN:VEVENT
DTSTART;TZID=UTC:20170915T190000
DTEND;TZID=UTC:20170915T210000
DTSTAMP:20260419T200732
CREATED:20170815T115728Z
LAST-MODIFIED:20170815T115728Z
UID:28303-1505502000-1505509200@litseen.com
SUMMARY:THERE 16
DESCRIPTION:Berkeley novelist Shanthi Sekaran\, Oakland author and Stegner Fellow Ben Hoffman\, local author Eanlai Cronin and music TBA. \nTHERE (THe Eastbay Reading Extravaganza) is a reading series showcasing emerging and established writers from Oakland and Berkeley\, with the occasional San Franciscan. Doug hosts it on the third Friday of each month at Octopus Literary Salon in Uptown Oakland. It also features a live original musical performance by a local musical artist at “halftime” of each month’s reading\, and Doug’s famous original LitQuiz literary trivia contest. It’s from 7:00-9:00pm. THERE has been putting the there back in Oakland since 2015!
URL:https://litseen.com/event/there-16/
LOCATION:The Octopus Literary Salon\, 2101 Webster St #170\, Oakland \, CA\, 94612\, United States
CATEGORIES:East Bay,Free
END:VEVENT
BEGIN:VEVENT
DTSTART;TZID=UTC:20170915T190000
DTEND;TZID=UTC:20170915T210000
DTSTAMP:20260419T200732
CREATED:20170826T145349Z
LAST-MODIFIED:20170828T115637Z
UID:28601-1505502000-1505509200@litseen.com
SUMMARY:Poets Adrienne Raphel + Alex Walton
DESCRIPTION:Have you also been dreaming about being at an Adrienne Raphel and Alex Walton reading? Then promise not to wake up until September 15th\, cause this reading’s gonna be amazing! \nAdrienne Raphel is the author of What Was It For (Rescue Press\, 2017). Her poetry and essays appear in the New Yorker online\, the Paris Review Daily\, the New Republic\, the Poetry Foundation\, and Lana Turner Journal\, among other publications. Born in New Jersey and raised in Vermont\, Raphel holds an MFA from the Iowa Writers’ Workshop and is a PhD candidate at Harvard. She currently lives in New York. \nAlex Walton is currently a PhD student at UC Berkeley. He was a Fellow at the Fine Arts Work Center. Some recent work is available in I\, The Claudius App\, and the PEN America Poetry Series.
URL:https://litseen.com/event/poets-adrienne-raphel-and-alex-walton/
LOCATION:E.M. Wolfman General Interest Small Bookstore\, 410 13th Street\, Oakland \, CA\, 94612\, United States
CATEGORIES:East Bay,Free
END:VEVENT
BEGIN:VEVENT
DTSTART;TZID=UTC:20170915T190000
DTEND;TZID=UTC:20170915T210000
DTSTAMP:20260419T200732
CREATED:20170913T095632Z
LAST-MODIFIED:20170913T100019Z
UID:28752-1505502000-1505509200@litseen.com
SUMMARY:The Junkyard 2017 Reading Showcase
DESCRIPTION:Simone Herko Felton and Esme Cohen\, currently two sophomores at Lowell High school in South San Francisco and the founders of the schools creative writing club and very own literary magazine\, Junkyard. \n“The whole idea behind it is like finding tools in a Junkyard. In the mess of humanity that is a junkyard or high school\, it’s about finding the things that are valuable which can be such a mixture of different things.” -Simone \n“The junkyard is all about celebrating the unique things that you find.” -Esme \nCome support a group of 12 who are keeping the arts alive and well\, at such a young age. Join us at the Beat Musuem to hear this literary staff read their own work featured in the publication. \nWill be selling hard copies: $5 for Lowell students and $7 for the public.
URL:https://litseen.com/event/the-junkyard-2017-reading-showcase/
LOCATION:The Beat Museum\, 540 Broadway\, San Francisco \, CA\, 94133\, United States
CATEGORIES:Free,San Francisco
END:VEVENT
END:VCALENDAR