BEGIN:VCALENDAR
VERSION:2.0
PRODID:-//Litseen - ECPv6.15.11//NONSGML v1.0//EN
CALSCALE:GREGORIAN
METHOD:PUBLISH
X-ORIGINAL-URL:https://litseen.com
X-WR-CALDESC:Events for Litseen
REFRESH-INTERVAL;VALUE=DURATION:PT1H
X-Robots-Tag:noindex
X-PUBLISHED-TTL:PT1H
BEGIN:VTIMEZONE
TZID:UTC
BEGIN:STANDARD
TZOFFSETFROM:+0000
TZOFFSETTO:+0000
TZNAME:UTC
DTSTART:20160101T000000
END:STANDARD
END:VTIMEZONE
BEGIN:VTIMEZONE
TZID:America/Los_Angeles
BEGIN:DAYLIGHT
TZOFFSETFROM:-0800
TZOFFSETTO:-0700
TZNAME:PDT
DTSTART:20160313T100000
END:DAYLIGHT
BEGIN:STANDARD
TZOFFSETFROM:-0700
TZOFFSETTO:-0800
TZNAME:PST
DTSTART:20161106T090000
END:STANDARD
BEGIN:DAYLIGHT
TZOFFSETFROM:-0800
TZOFFSETTO:-0700
TZNAME:PDT
DTSTART:20170312T100000
END:DAYLIGHT
BEGIN:STANDARD
TZOFFSETFROM:-0700
TZOFFSETTO:-0800
TZNAME:PST
DTSTART:20171105T090000
END:STANDARD
BEGIN:DAYLIGHT
TZOFFSETFROM:-0800
TZOFFSETTO:-0700
TZNAME:PDT
DTSTART:20180311T100000
END:DAYLIGHT
BEGIN:STANDARD
TZOFFSETFROM:-0700
TZOFFSETTO:-0800
TZNAME:PST
DTSTART:20181104T090000
END:STANDARD
END:VTIMEZONE
BEGIN:VEVENT
DTSTART;TZID=UTC:20170918T180000
DTEND;TZID=UTC:20170918T200000
DTSTAMP:20260419T214458
CREATED:20170720T033406Z
LAST-MODIFIED:20170720T033406Z
UID:27999-1505757600-1505764800@litseen.com
SUMMARY:About Alice: An Onstage Reading
DESCRIPTION:A reading of the two-character play that Calvin Trillin has adapted from the book he wrote about his late wife\, the educator Alice Stewart Trillin. Directed by Leonard Foglia. Cast to be announced. \nCalvin Trillin has been writing for The New Yorker since 1963. His many books include the comic novels “Floater” and “Tepper Isn’t Going Out”; the memoirs “Messages from My Father” and “About Alice\,” which he has recently adapted into a play; “The Tummy Trilogy\,” a collection of three books about food; and “Jackson\, 1964: And Other Dispatches from Fifty Years of Reporting on Race in America.” He was awarded the Thurber Prize for American Humor for his book “Quite Enough of Calvin Trillin: Forty Years of Funny Stuff.” \nLeonard Foglia has directed Broadway productions of “Master Class\,” “Thurgood\,” “The People In The Picture”; the Broadway revivals of “The Gin Game\,” “On Golden Pond\,” and “Wait Until Dark”; and opera productions\, including the world premières of “Moby Dick\,” “Everest\,” “Cold Mountain\,” “The End of the Affair\,” and “Three Decembers.” As a librettist\, he wrote and directed “El Pasado Nunca Se Termina\,” “Cruzar La Cara De La Luna” with composer Jose Martinez\, and “A Coffin in Egypt” with composer Ricky Ian Gordon. \nNOTE: Advance sales open to members only at this time. To become a City Arts & Lectures member\, click here.
URL:https://litseen.com/event/about-alice-an-onstage-reading/
LOCATION:Nourse Theatre\, 275 Hayes Street\, San Francisco\, CA\, 94117\, United States
CATEGORIES:San Francisco
END:VEVENT
BEGIN:VEVENT
DTSTART;TZID=America/Los_Angeles:20170918T190000
DTEND;TZID=America/Los_Angeles:20170918T210000
DTSTAMP:20260419T214458
CREATED:20170324T014121Z
LAST-MODIFIED:20170915T061509Z
UID:25625-1505761200-1505768400@litseen.com
SUMMARY:POETS! - featured readers followed by an open mic
DESCRIPTION:
URL:https://litseen.com/event/poets-robert-anbian-michael-koch/
LOCATION:CA
CATEGORIES:Free,San Francisco
END:VEVENT
BEGIN:VEVENT
DTSTART;TZID=UTC:20170918T190000
DTEND;TZID=UTC:20170918T210000
DTSTAMP:20260419T214458
CREATED:20170622T014322Z
LAST-MODIFIED:20170622T014322Z
UID:27657-1505761200-1505768400@litseen.com
SUMMARY:Lenore Weiss
DESCRIPTION:Lenore Weiss is enrolled in the Master of Fine Arts Program at San Francisco State University. Her poetry has been published in many journals including WovenTales\, Midwood Press\, Maple Leaf Review\, Kindred\, San Francisco Peace and Hope\, Cactus Heart\, Ghost Town\, Poetica\, Carbon Culture\, BlinkInk\, The Portland Review\, La Más Tequila Review\, Digital Americana\, The Journal of Feminist Studies in Religion\, Nimrod International Journal\, Copper Nickel\, The Reform Jewish Quarterly\, Feminist Studies in Religion\, and Bridges: A Jewish Feminist Journal. Her books include Cutting Down the Last Tree on Easter Island (West End Press\, 2012) and Two Places (Kelsay Books\, 2014). Her blog resides at www.lenoreweiss.com.
URL:https://litseen.com/event/lenore-weiss/
LOCATION:Himalayan Flavors\, 1585 University Ave\, Berkeley\, CA\, 94703\, United States
CATEGORIES:East Bay,Free
END:VEVENT
END:VCALENDAR