BEGIN:VCALENDAR
VERSION:2.0
PRODID:-//Litseen - ECPv6.15.11//NONSGML v1.0//EN
CALSCALE:GREGORIAN
METHOD:PUBLISH
X-ORIGINAL-URL:https://litseen.com
X-WR-CALDESC:Events for Litseen
REFRESH-INTERVAL;VALUE=DURATION:PT1H
X-Robots-Tag:noindex
X-PUBLISHED-TTL:PT1H
BEGIN:VTIMEZONE
TZID:UTC
BEGIN:STANDARD
TZOFFSETFROM:+0000
TZOFFSETTO:+0000
TZNAME:UTC
DTSTART:20160101T000000
END:STANDARD
END:VTIMEZONE
BEGIN:VEVENT
DTSTART;TZID=UTC:20170922T180000
DTEND;TZID=UTC:20170922T200000
DTSTAMP:20260419T200634
CREATED:20170417T114026Z
LAST-MODIFIED:20170430T020046Z
UID:26117-1506103200-1506110400@litseen.com
SUMMARY:Reed Magazine: 150th Anniversary Party
DESCRIPTION:Reed Magazine 150th Anniversary Party\nSpring 2017\n  \nJoin us for a night of readings to celebrate the 150th anniversary of Reed Magazine\, the West’s oldest literary journal\, founded on the San José State campus in 1867! \nM.C.s Santa Clara Co. Poet Laureate Arlene Biala & CLA director and Reed editor-in-chief Cathleen Miller. \nFriday\, September 22\, 6pm – San Jose City Hall Rotunda \n  \n\nAll events are free\, open to the public\, and wheelchair accessible.
URL:https://litseen.com/event/reed-magazine-150th-anniversary-party/
LOCATION:San Jose City Hall Rotunda\, 200 E Santa Clara St\, San Jose\, CA\, 95113\, United States
CATEGORIES:Free,South Bay
END:VEVENT
BEGIN:VEVENT
DTSTART;TZID=UTC:20170922T200000
DTEND;TZID=UTC:20170922T220000
DTSTAMP:20260419T200634
CREATED:20170816T005340Z
LAST-MODIFIED:20170816T005340Z
UID:28361-1506110400-1506117600@litseen.com
SUMMARY:The New Talkies
DESCRIPTION:This evening of neo-benshi performances will showcase film clips rewritten and narrated live by authors from the Bay Area\, New York\, Los Angeles and Houston. Featuring excerpts from blockbusters such as The Sound of Music\, Mexican feature Lola La Trailera (Lola the Truck Driver)\, animated series Dora the Explorer\, the obscure The Assassination of Trotsky and cult classic Carnival of Souls. \nWriters/performers\n\nAnuj Vaidya\nDouglas Kearney\nJaime Cortez\nJennifer Tamayo\nKonrad Steiner\nNicole McJamerson\nStalina Villarreal\nTatiana Luboviski-Acosta\nTongo Eisen-Martin
URL:https://litseen.com/event/the-new-talkies/
LOCATION:Artists’ Television Access\, 992 Valencia St\, San Francisco\, CA\, 94110\, United States
CATEGORIES:San Francisco
END:VEVENT
END:VCALENDAR