BEGIN:VCALENDAR
VERSION:2.0
PRODID:-//Litseen - ECPv6.15.11//NONSGML v1.0//EN
CALSCALE:GREGORIAN
METHOD:PUBLISH
X-WR-CALNAME:Litseen
X-ORIGINAL-URL:https://litseen.com
X-WR-CALDESC:Events for Litseen
REFRESH-INTERVAL;VALUE=DURATION:PT1H
X-Robots-Tag:noindex
X-PUBLISHED-TTL:PT1H
BEGIN:VTIMEZONE
TZID:UTC
BEGIN:STANDARD
TZOFFSETFROM:+0000
TZOFFSETTO:+0000
TZNAME:UTC
DTSTART:20160101T000000
END:STANDARD
END:VTIMEZONE
BEGIN:VEVENT
DTSTART;TZID=UTC:20170923T180000
DTEND;TZID=UTC:20170923T213000
DTSTAMP:20260419T200512
CREATED:20170815T111020Z
LAST-MODIFIED:20170815T111020Z
UID:28274-1506189600-1506202200@litseen.com
SUMMARY:Dr. Edith Eva Eger\, "The CHOICE: Embrace the Possible"
DESCRIPTION:Inspiring Speaker Dr. Edith Eger\, eminent psychologist and acclaimed author. She shares her heroic story as indomitable survivor of Auschwitz and her highly anticipated memoir\, \n\n“THE CHOICE: Embrace the Possible”  \nThe highly anticipated Memoir by Acclaimed Best Selling Author  \nDr. Edith Eva Eger \nInspiring Speaker\, Eminent Psychologist\, Expert in Trauma Recovery\, and Thriving Survivor of Auschwitz\, shares Her Remarkable Memoir of Survival\, Freedom\, and Forgiveness. \nMarines Memorial Theatre \nSeptember 23\, 2017 6 p.m. \nDr. Eger has appeared on numerous television programs including TED Talks\, The Oprah Winfrey Show\, The 2017 Annual California Legislative Caucus\, and a recent CNN special commemorating the 70th anniversary of the liberation of Auschwitz. \n“The Choice is a gift to humanity.  One of those rare and eternal stories that you don’t want to end and that leave you forever changed. Dr. Eger’s life reveals our capacity to transcend even the greatest of horrors and to use that suffering for the benefit of others.  She has found true freedom and forgiveness and shows us how we can as well.”\n—DESMOND TUTU\, Nobel Peace Prize Laureate
URL:https://litseen.com/event/dr-edith-eva-eger-the-choice-embrace-the-possible/
LOCATION:Marines’ Memorial Club\, 609 Sutter St.\, San Francisco\, CA\, 94102\, United States
CATEGORIES:San Francisco
ORGANIZER;CN="Western Institute for Social Research":MAILTO:turningtide@pacific-ocean.com
END:VEVENT
END:VCALENDAR