BEGIN:VCALENDAR
VERSION:2.0
PRODID:-//Litseen - ECPv6.15.11//NONSGML v1.0//EN
CALSCALE:GREGORIAN
METHOD:PUBLISH
X-WR-CALNAME:Litseen
X-ORIGINAL-URL:https://litseen.com
X-WR-CALDESC:Events for Litseen
REFRESH-INTERVAL;VALUE=DURATION:PT1H
X-Robots-Tag:noindex
X-PUBLISHED-TTL:PT1H
BEGIN:VTIMEZONE
TZID:UTC
BEGIN:STANDARD
TZOFFSETFROM:+0000
TZOFFSETTO:+0000
TZNAME:UTC
DTSTART:20160101T000000
END:STANDARD
END:VTIMEZONE
BEGIN:VEVENT
DTSTART;TZID=UTC:20170928T190000
DTEND;TZID=UTC:20170928T210000
DTSTAMP:20260424T052940
CREATED:20170816T005513Z
LAST-MODIFIED:20170816T005513Z
UID:28363-1506625200-1506632400@litseen.com
SUMMARY:Camille T. Dungy + Javier Zamora
DESCRIPTION:Camille T. Dungy is the author of four collections of poetry\, most recently Trophic Cascade. Her recent collection of essays is Guidebook to Relative Strangers: Journeys Into Race\, Motherhood and History. She has also edited anthologies including Black Nature: Four Centuries of African American Nature Poetry. Her poems have appeared in Best American Poetry\, 100 Best African American Poems and many other print and online venues. Her honors include an American Book Award\, two Northern California Book Awards\, a California Book Award silver medal\, two NAACP Image Award nominations\, fellowships from the Sustainable Arts Foundation and a fellowship from the National Endowment for the Arts. Formerly a professor at San Francisco State University\, she is a professor at Colorado State University. \nJavier Zamora was born in El Salvador and migrated to the U.S. when he was 9. He is a 2016 – 2018 Wallace Stegner Fellow and holds fellowships from CantoMundo\, Colgate University\, MacDowell\, the National Endowment for the Arts and Yaddo. The recipient of a 2016 Ruth Lilly/Dorothy Sargent Fellowship and the 2016 Barnes and Noble Writer for Writers Award\, he will publish his first poetry collection Unaccompanied (Copper Canyon Press) in September.
URL:https://litseen.com/event/camille-t-dungy-javier-zamora/
LOCATION:The Poetry Center\, San Francisco State University\, 1600 Holloway Ave\, San Francisco \, CA\, 94132\, United States
CATEGORIES:Free,San Francisco
END:VEVENT
BEGIN:VEVENT
DTSTART;TZID=UTC:20170928T190000
DTEND;TZID=UTC:20170928T210000
DTSTAMP:20260424T052940
CREATED:20170817T122148Z
LAST-MODIFIED:20170817T122148Z
UID:28450-1506625200-1506632400@litseen.com
SUMMARY:Margaret Wilkerson Sexton
DESCRIPTION:Pushcart Prize-nominated writer Margaret Wilkerson Sexton shares her much-buzzed debut novel\, A Kind of Freedom. Evelyn is a Creole woman who comes of age in New Orleans at the height of World War II. Her family inhabits the upper echelon of Black society\, and when she falls for no-account Renard\, she is forced to choose between her life of privilege and the man she loves. \nIn 1982\, Evelyn’s daughter\, Jackie\, is a frazzled single mother grappling with her absent husband’s drug addiction. Just as she comes to terms with his abandoning the family\, he returns\, ready to resume their old life. \nJackie’s son\, T.C.\, loves the creative process of growing marijuana more than the weed itself. He was a square before Hurricane Katrina\, but the New Orleans he knew didn’t survive the storm. Fresh out of a four-month stint for drug charges\, T.C. decides to start over–until an old friend convinces him to stake his new beginning on one last deal. \nFor Evelyn\, Jim Crow is an ongoing reality\, and in its wake new threats spring up to haunt her descendants. A Kind of Freedom is an urgent novel that explores the legacy of racial disparity in the South through a poignant and redemptive family history.
URL:https://litseen.com/event/margaret-wilkerson-sexton-2/
LOCATION:Books Inc. Berkeley\, 1491 Shattuck Ave\, Berkeley \, CA\, 94710\, United States
CATEGORIES:East Bay,Free
END:VEVENT
BEGIN:VEVENT
DTSTART;TZID=UTC:20170928T193000
DTEND;TZID=UTC:20170928T213000
DTSTAMP:20260424T052940
CREATED:20170616T121830Z
LAST-MODIFIED:20170619T114527Z
UID:27300-1506627000-1506634200@litseen.com
SUMMARY:Nathan Englander
DESCRIPTION:A political thriller that unfolds in the highly charged territory of the Israeli-Palestinian conflict and pivots on the complex relationship between a secret prisoner and his guard. \nA prisoner in a secret cell. The guard who has watched over him a dozen years. An American waitress in Paris. A young Palestinian man in Berlin who strikes up an odd friendship with a wealthy Canadian businessman. And The General\, Israel’s most controversial leader\, who lies dying in a hospital\, the only man who knows of the prisoner’s existence. \nFrom these vastly different lives Nathan Englander has woven a powerful\, intensely suspenseful portrait of a nation riven by insoluble conflict\, even as the lives of its citizens become fatefully and inextricably entwined–a political thriller of the highest order that interrogates the anguished\, violent division between Israelis and Palestinians\, and dramatizes the immense moral ambiguities haunting both sides. Who is right\, who is wrong – who is the guard\, who is truly the prisoner?
URL:https://litseen.com/event/nathan-englander/
LOCATION:Green Apple Books on the Park\, 1231 9th Ave\, San Francisco \, CA\, 94122\, United States
CATEGORIES:Free,San Francisco
END:VEVENT
BEGIN:VEVENT
DTSTART;TZID=UTC:20170928T193000
DTEND;TZID=UTC:20170928T213000
DTSTAMP:20260424T052940
CREATED:20170815T113725Z
LAST-MODIFIED:20170815T113725Z
UID:28288-1506627000-1506634200@litseen.com
SUMMARY:MPC Anthology Launch Party & Read-Around
DESCRIPTION:Come out and eat cake and hear our anthology contributors read their poems. The public is very welcome to attend this always lively and lovely event!
URL:https://litseen.com/event/mpc-anthology-launch-party-read-around/
LOCATION:Falkirk Cultural Center\, 1408 Mission Ave\, San Rafael \, CA\, 94901\, United States
CATEGORIES:Free,North Bay
END:VEVENT
BEGIN:VEVENT
DTSTART;TZID=UTC:20170928T193000
DTEND;TZID=UTC:20170928T213000
DTSTAMP:20260424T052940
CREATED:20170926T011004Z
LAST-MODIFIED:20170926T011004Z
UID:28878-1506627000-1506634200@litseen.com
SUMMARY:Marin Poetry Center Anthology Launch Party & Read-Around
DESCRIPTION:Come out and eat cake and hear our anthology contributors read their poems. The public is very welcome to attend this always lively and lovely event!
URL:https://litseen.com/event/marin-poetry-center-anthology-launch-party-read-around/
LOCATION:Falkirk Cultural Center\, 1408 Mission Ave\, San Rafael \, CA\, 94901\, United States
CATEGORIES:Free,North Bay
END:VEVENT
END:VCALENDAR