BEGIN:VCALENDAR
VERSION:2.0
PRODID:-//Litseen - ECPv6.15.11//NONSGML v1.0//EN
CALSCALE:GREGORIAN
METHOD:PUBLISH
X-ORIGINAL-URL:https://litseen.com
X-WR-CALDESC:Events for Litseen
REFRESH-INTERVAL;VALUE=DURATION:PT1H
X-Robots-Tag:noindex
X-PUBLISHED-TTL:PT1H
BEGIN:VTIMEZONE
TZID:UTC
BEGIN:STANDARD
TZOFFSETFROM:+0000
TZOFFSETTO:+0000
TZNAME:UTC
DTSTART:20160101T000000
END:STANDARD
END:VTIMEZONE
BEGIN:VEVENT
DTSTART;TZID=UTC:20170929T080000
DTEND;TZID=UTC:20170929T170000
DTSTAMP:20260419T214226
CREATED:20170929T223649Z
LAST-MODIFIED:20170929T223649Z
UID:28968-1506672000-1506704400@litseen.com
SUMMARY:You're Going to Die: Poetry\, Prose & Everything Goes...
DESCRIPTION:Thursday\, October 5\, 2017\n7:30pm  10:30pm\nThe Lost Church (map)\n\n\n\n\n\n\n\nDoors at 7:30pm\nShow at 8pm\nGET YOUR TICKETS HERE: http://www.ticketfly.com/event/1566858\n$10 online or $10 at the door.\nContact ned@yg2d.com if cost is an issue. \nYOU’RE GOING TO DIE: Poetry\, Prose & Everything Goes\nis a total open mic event\, with no set or featured performers\,\nbut only the communal offering for us to explore the conversation of death & dying\, to embrace our losses & mortality\,\nto grieve\, bereave & honor those we’ve lost & love…\nwhile all the while making room for simply being ALIVE. \nSign-ups will be the night of & the list fills up quickly\, so if you want to perform\, you’d better get there early… \nIf you’re going to perform\, keep it under 5 MINUTES. That’s right: 5 MINUTES. WE WILL TIME YOU. And we will hug you when we have to stop you [just to make it easier on you (or harder – depending on your propensity for intimacy)]. \nPoetry\, prose\, music\, dancing\, comedy\, drama\, happy\, sad\, & on & on & on… Remember: EVERYTHING GOES… so do whatever you want. \nYou don’t have to perform anything; the audience is as essential as the performers. \nPlease don’t perform anything with a setup that takes much more time than the time it takes for you to walk onstage. Honestly\, plugging things in is endlessly boring. If you need to borrow an instrument\, figure it out before you’re called to the stage. \nIMPORTANT ::: DON’T TAKE YOURSELF SO SERIOUSLY. Come and have fun. The end. Remember. Someday\, we won’t exist and neither will the English language. If you choose to take yourself seriously\, then take yourself so seriously that it’s stupid. Ridiculousness is encouraged. \nYou’re Going to Die. No. Really. You are.
URL:https://litseen.com/event/youre-going-to-die-poetry-prose-everything-goes-10/
LOCATION:The Lost Church\, 65 Capp Street\, San Francisco\, CA\, 94103\, United States
CATEGORIES:San Francisco
END:VEVENT
BEGIN:VEVENT
DTSTART;TZID=UTC:20170929T193000
DTEND;TZID=UTC:20170929T213000
DTSTAMP:20260419T214226
CREATED:20170621T233108Z
LAST-MODIFIED:20170621T233108Z
UID:27572-1506713400-1506720600@litseen.com
SUMMARY:Charif Shanahan + Airea D. Matthews
DESCRIPTION:Charif Shanahan and Airea D. Matthews read from their latest poetry collections. \n\nAbout Into Each Room We Enter Without Knowing \nIn this affecting poetry debut\, Charif Shanahan explores what it means to be fully human in our wounded and divided world. In poised yet unrelenting lyric poems\, Shanahan–queer and mixed-race–confronts the challenges of a complex cultural inheritance\, informed by colonialism and his mother’s immigration to the United States from Morocco\, navigating racial constructs\, sexuality\, family\, and the globe in search of “who we are to each other . . . who we are to ourselves.”With poems that weave from Marrakesh to Zurich to London\, through history to the present day\, this book is\, on its surface\, an uncompromising exploration of identity in personal and collective terms. Yet the collection is\, most deeply\, about intimacy and love\, the inevitability of human separation and the challenge of human connection. Urging us to reexamine our own place in the broader human tapestry\, Into Each Room We Enter without Knowing announces the arrival of a powerful and necessary new voice. \n  \nAbout Simulacra \nWinner of the 2016 Yale Series of Younger Poets prize \nA fresh and rebellious poetic voice\, Airea D. Matthews debuts in the acclaimed series that showcases the work of exciting and innovative young American poets. Matthews’s superb collection explores the topic of want and desire with power\, insight\, and intense emotion. Her poems cross historical boundaries and speak emphatically from a racialized America\, where the trajectories of joy and exploitation\, striving and thwarting\, violence and celebration are constrained by differentials of privilege and contemporary modes of communication. In his foreword\, series judge Carl Phillips calls this book “rollicking\, destabilizing\, at once intellectually sly and piercing and finally poignant.” This is poetry that breaks new literary ground\, inspiring readers to think differently about what poems can and should do in a new media society where imaginations are laid bare and there is no thought too provocative to send out into the world.
URL:https://litseen.com/event/charif-shanahan-airea-d-matthews/
LOCATION:Green Apple Books on the Park\, 1231 9th Ave\, San Francisco \, CA\, 94122\, United States
CATEGORIES:Free,San Francisco
END:VEVENT
END:VCALENDAR