BEGIN:VCALENDAR
VERSION:2.0
PRODID:-//Litseen - ECPv6.15.11//NONSGML v1.0//EN
CALSCALE:GREGORIAN
METHOD:PUBLISH
X-ORIGINAL-URL:https://litseen.com
X-WR-CALDESC:Events for Litseen
REFRESH-INTERVAL;VALUE=DURATION:PT1H
X-Robots-Tag:noindex
X-PUBLISHED-TTL:PT1H
BEGIN:VTIMEZONE
TZID:UTC
BEGIN:STANDARD
TZOFFSETFROM:+0000
TZOFFSETTO:+0000
TZNAME:UTC
DTSTART:20160101T000000
END:STANDARD
END:VTIMEZONE
BEGIN:VEVENT
DTSTART;TZID=UTC:20171001T130000
DTEND;TZID=UTC:20171001T153000
DTSTAMP:20260424T071203
CREATED:20170926T011113Z
LAST-MODIFIED:20170926T013601Z
UID:28880-1506862800-1506871800@litseen.com
SUMMARY:Kevin Craft + Troy Jollimore: an Afternoon of Poetry
DESCRIPTION:Craft Talk: “A Red Hot Half-Brick in an Old Sock: Tradition\, Subversion\, and the Sonnet” (1:00-2:00) \nWhy would anyone today choose to write a sonnet? In fact\, some of our best contemporary poets have taken a stab at the venerable form\, in order to explore (and\, at times\, explode) the limits of the form\, and to place the sonnet in the service of surprising\, at times radical ends. In this joint talk\, poets Kevin Craft and Troy Jollimore discuss the sonnet form\, its history\, its poetic nature\, its particular capabilities and possibilities\, and talk about their own experiences reading and writing sonnets. (The craft talk will be followed by a break with wine and savory treats.) \nReading: “Burn After Reading: The Poetry of Kevin Craft and Troy Jollimore.” (2:30 pm) Come for one or both events! This is a unique chance to hear and learn from two illustrious out-of-town poets. \nThis event is a collaboration of the Mill Valley Library and Marin Poetry Center. \nMILL VALLEY LIBRARY\n375 Throckmorton Avenue\nMill Valley\, CA \n\n\n\nKevin Craft directs the Written Arts Program at Everett Community College. His first book\, Solar Prominence\, won the Gorsline Prize. His new collection is Vagrants & Accidentals. His work has appeared in Poetry\, The Kenyon Review\, New England Review\, and The Stranger. He has received fellowships and awards from the Bread Loaf Writers Conference\, MacDowell Colony\, the Bogliasco Foundation (Italy)\,the Camargo Foundation and many others. He is executive editor of Poetry NW Editions\, and a director of the UW Writers in Rome program. \n\n\n\n\nTroy Jollimore is the author of three books of poetry and three of philosophy\, as well as numerous articles. His awards include a Guggenheim Fellowship\, and Fellowships from Bread Loaf Writers’ Conference and the Stanford Humanities Center. Tom Thomson in Purgatory won the National Book Critics Circle award in poetry. Syllabus of Errors\, appeared on the New York Times‘ list of the best books of poetry in 2015. His reviews appear in the Chicago Tribune\, and the Washington Post. He is currently a Professor in the Philosophy Department at California State University\, Chico.
URL:https://litseen.com/event/kevin-craft-troy-jollimore-an-afternoon-of-poetry/
LOCATION:Mill Valley Public Library\, 375 Throckmorton Ave\, Mill Valley \, CA\, 94941\, United States
CATEGORIES:Free,North Bay
END:VEVENT
BEGIN:VEVENT
DTSTART;TZID=UTC:20171001T163000
DTEND;TZID=UTC:20171001T173000
DTSTAMP:20260424T071203
CREATED:20170817T114704Z
LAST-MODIFIED:20170817T114704Z
UID:28433-1506875400-1506879000@litseen.com
SUMMARY:Julie Lythcott-Haims
DESCRIPTION:Are we who we are through what we’ve accomplished or what we’ve endured? \nNew York Times bestselling author Julie Lythcott-Haims is one of Kepler’s Literary Foundation’s favorite speakers. Known across the country for her probing\, no-nonsense insights into parenting today\, Lythcott-Haims has served as the dean of freshmen and undergraduate advising at Stanford and raised her family\, right here in the Bay Area. \nBut there’s more to her story. In stirring\, poetic detail\, Lythcott-Haims reveals the aggressions small and large of growing up Black and biracial in America. From the thousands of small slights to the blunt force insults\, from schools in white\, rural Wisconsin to the grand lawns of Stanford and Ivy League campuses to the backyards of Palo Alto race has followed her everywhere. In a stunning new memoir\, Real American\, Lythcott-Haims shares the events that made her the brave and strong-willed voice she is today.
URL:https://litseen.com/event/julie-lythcott-haims/
LOCATION:Kepler’s Books\, 1010 El Camino Real\, Menlo Park \, CA\, 94025\, United States
CATEGORIES:North Bay
END:VEVENT
BEGIN:VEVENT
DTSTART;TZID=UTC:20171001T180000
DTEND;TZID=UTC:20171001T193000
DTSTAMP:20260424T071203
CREATED:20170924T001329Z
LAST-MODIFIED:20170924T001329Z
UID:28792-1506880800-1506886200@litseen.com
SUMMARY:New Poetry From Rob Halpern
DESCRIPTION:Rob Halpern will read from his new book of poetry Touching Voids in Sense which\n\n “enters regions of the self that existing regimes of sense\, visible\, tactile\, and verbal\n keep hidden. What’s at stake is love\, care and the human body\, an abyss at which\n\nloving care of another’s body is the most explosive of concerns. The requirement\n\nis radical critique of the logics of meaning. Touching holes in sense is a reflection\n on the deeper sources of Halpern’s previous books and an investigation of how\n\nan end to mourning requires nothing less than a different ontology of life and death.”\n\n– William Rowe   Rob Halpern’s books include Common Place (Ugly Duckling Presse\, 2015) and Music  for Porn (Nightboat Books\, 2012). His chapbook called Touching Voids in Sense was  just published by Veer Books in London. He lives between San Francisco and  Ypsilanti\, Michigan\, where he teaches at Eastern Michigan University and Huron  Valley Women’s Prison.
URL:https://litseen.com/event/new-poetry-from-rob-halpern/
LOCATION:The Green Arcade\, 1680 Market St\, San Francisco \, CA\, 94102\, United States
CATEGORIES:Free,San Francisco
END:VEVENT
BEGIN:VEVENT
DTSTART;TZID=UTC:20171001T180000
DTEND;TZID=UTC:20171001T200000
DTSTAMP:20260424T071203
CREATED:20170926T001940Z
LAST-MODIFIED:20170926T013703Z
UID:28817-1506880800-1506888000@litseen.com
SUMMARY:Bazaar Writers Salon
DESCRIPTION:Bazaar Writers Salon returns! Join us for the first reading of the 2017-2018 season. \nReadings by William Brewer\, Benjamin Gucciardi\, Dominic Russ-Combs\, Cintia Santana\, and Glori Simmons\nHosted by Peter Kline \nWilliam Brewer is the author of I Know Your Kind (Milkweed Editions\, 2017)\, a winner of the National Poetry Series\, and Oxyana\, which was selected for a 2016 Poetry Society of America Chapbook Fellowship. His work has appeared or is forthcoming in Boston Review\, The Iowa Review\, Narrative (where it was awarded the 30 Below Prize)\, New England Review\, A Public Space\, and other journals. He lives in Oakland. \nBenjamin Gucciardi was born and raised in San Francisco. His poems have appeared or are forthcoming in Orion Magazine\, Forklift Ohio\, Radar Poetry\, upstreet\, Poetry East\, The California Journal of Poetics and other journals. A Best New Poets nominee\, he is a winner of a Dorothy Rosenberg Memorial Prize and contests from The Maine Review and The Santa Ana River Review. He works with refugee and immigrant youth in Oakland. \nA native of Louisville\, Kentucky\, Dominic Russ-Combs welded industrial models in Durham\, North Carolina\, before publishing his first stories and being awarded both a Stegner Fellowship and an Emerging Artist Award from the Kentucky Arts Council. His fiction has appeared in the Chicago Tribune\, Kenyon Review\, Carolina Quarterly\, among others. He’s currently at work on a novel and a collection of stories. \nCintia Santana’s poems and translations have appeared or are forthcoming in Beloit Poetry Journal\, Kenyon Review\, Michigan Quarterly Review\, Narrative\, Pleiades\, RHINO\, Spillway\, The Threepenny Review\, and other journals. Her work was selected for inclusion in the Best New Poets 2016 anthology\, edited by Mary Szybist. She is the recipient of Djerrassi\, CantoMundo and Hambidge Fellowships. Currently\, she teaches poetry and fiction workshops in Spanish\, as well as literary translation courses at Stanford University. She is at work on her first poetry manuscript. \nGlori Simmons is the author of Suffering Fools\, recipient of the Spokane Prize from Willow Springs Editions (Eastern Washington University\, 2017) and Graft\, poems (Truman State University Press\, 2002). A former Stegner Fellow\, she currently lives in Oakland and is the director of the Thacher Gallery at the University of San Francisco.
URL:https://litseen.com/event/bazaar-writers-salon-6/
LOCATION:Bazaar Cafe\, 5927 California St\, San Francisco\, CA\, 94121\, United States
CATEGORIES:Free,San Francisco
END:VEVENT
END:VCALENDAR