BEGIN:VCALENDAR
VERSION:2.0
PRODID:-//Litseen - ECPv6.15.11//NONSGML v1.0//EN
CALSCALE:GREGORIAN
METHOD:PUBLISH
X-ORIGINAL-URL:https://litseen.com
X-WR-CALDESC:Events for Litseen
REFRESH-INTERVAL;VALUE=DURATION:PT1H
X-Robots-Tag:noindex
X-PUBLISHED-TTL:PT1H
BEGIN:VTIMEZONE
TZID:America/Los_Angeles
BEGIN:DAYLIGHT
TZOFFSETFROM:-0800
TZOFFSETTO:-0700
TZNAME:PDT
DTSTART:20160313T100000
END:DAYLIGHT
BEGIN:STANDARD
TZOFFSETFROM:-0700
TZOFFSETTO:-0800
TZNAME:PST
DTSTART:20161106T090000
END:STANDARD
BEGIN:DAYLIGHT
TZOFFSETFROM:-0800
TZOFFSETTO:-0700
TZNAME:PDT
DTSTART:20170312T100000
END:DAYLIGHT
BEGIN:STANDARD
TZOFFSETFROM:-0700
TZOFFSETTO:-0800
TZNAME:PST
DTSTART:20171105T090000
END:STANDARD
BEGIN:DAYLIGHT
TZOFFSETFROM:-0800
TZOFFSETTO:-0700
TZNAME:PDT
DTSTART:20180311T100000
END:DAYLIGHT
BEGIN:STANDARD
TZOFFSETFROM:-0700
TZOFFSETTO:-0800
TZNAME:PST
DTSTART:20181104T090000
END:STANDARD
END:VTIMEZONE
BEGIN:VTIMEZONE
TZID:UTC
BEGIN:STANDARD
TZOFFSETFROM:+0000
TZOFFSETTO:+0000
TZNAME:UTC
DTSTART:20160101T000000
END:STANDARD
END:VTIMEZONE
BEGIN:VEVENT
DTSTART;TZID=America/Los_Angeles:20171002T190000
DTEND;TZID=America/Los_Angeles:20171002T210000
DTSTAMP:20260424T071223
CREATED:20170324T014121Z
LAST-MODIFIED:20170929T061518Z
UID:25626-1506970800-1506978000@litseen.com
SUMMARY:JB Frame & Dee Allen - POETS! - featured readers to be announced followed by an open mic
DESCRIPTION:
URL:https://litseen.com/event/poets-featured-readers-to-be-announced-followed-by-an-open-mic-6/
LOCATION:CA
CATEGORIES:San Francisco
END:VEVENT
BEGIN:VEVENT
DTSTART;TZID=UTC:20171002T193000
DTEND;TZID=UTC:20171002T213000
DTSTAMP:20260424T071223
CREATED:20170621T001709Z
LAST-MODIFIED:20170621T001928Z
UID:27484-1506972600-1506979800@litseen.com
SUMMARY:Daniel Handler
DESCRIPTION:Daniel Handler is the author of the novels The Basic Eight\, Watch Your Mouth\, Adverbs\, and\, with Maira Kalman\, Why We Broke Up.  As Lemony Snicket\, he has written the best-selling series All The Wrong Questions as well as A Series of Unfortunate Events which was the basis of a feature film starring Jim Carrey and Meryl Streep\, with Jude Law as Lemony Snicket. Netflix has produced an original series based on A Series of Unfortunate Events which premiered January 2017.Handler’s newest novel\, All The Dirty Parts\, looks honestly at the erotic impulses of an all-too-typical young man. Cole is a boy in high school. He runs cross country\, he sketches\, he jokes around with friends. But none of this quite matters next to the allure of sex. “Let me put it this way\,” he says. “Draw a number line\, with zero is you never think about sex and ten is\, it’s all you think about\, and while you are drawing the line\, I am thinking about sex.”All The Dirty Parts is an unblinking take on teenage desire in a culture of unrelenting explicitness and shunted communication\, where sex feels like love\, but no one knows what love feels like. With short chapters in the style of Jenny Offill or Mary Robison\, Daniel Handler gives us a tender\, brutal\, funny\, intoxicating portrait of an age when the lens of sex tilts the world. “There are love stories galore\,” Cole tells us\, “This isn’t that. The story I’m typing is all the dirty parts.”
URL:https://litseen.com/event/daniel-handler-2/
LOCATION:Nourse Theatre\, 275 Hayes Street\, San Francisco\, CA\, 94117\, United States
CATEGORIES:San Francisco
END:VEVENT
END:VCALENDAR