BEGIN:VCALENDAR
VERSION:2.0
PRODID:-//Litseen - ECPv6.15.11//NONSGML v1.0//EN
CALSCALE:GREGORIAN
METHOD:PUBLISH
X-WR-CALNAME:Litseen
X-ORIGINAL-URL:https://litseen.com
X-WR-CALDESC:Events for Litseen
REFRESH-INTERVAL;VALUE=DURATION:PT1H
X-Robots-Tag:noindex
X-PUBLISHED-TTL:PT1H
BEGIN:VTIMEZONE
TZID:UTC
BEGIN:STANDARD
TZOFFSETFROM:+0000
TZOFFSETTO:+0000
TZNAME:UTC
DTSTART:20160101T000000
END:STANDARD
END:VTIMEZONE
BEGIN:VEVENT
DTSTART;TZID=UTC:20171021T080000
DTEND;TZID=UTC:20171108T000000
DTSTAMP:20260425T050542
CREATED:20171022T003719Z
LAST-MODIFIED:20171022T003719Z
UID:29170-1508572800-1510099200@litseen.com
SUMMARY:MARY: A Journal of New Writing
DESCRIPTION:MARY: A Journal of New Writing is accepting submissions for our Winter 2017 issue. If you have poetry\, nonfiction\, or fiction you would like to share\, please send it our way! Authors of works selected for the Winter 2017 Issue will be offered a small honorarium. Submissions are open until November 8th. We look forward to reading your work! For more information about our submission guidelines\, please use the following link: https://www.stmarys-ca.edu/nod e/15842
URL:https://litseen.com/event/mary-a-journal-of-new-writing/
LOCATION:CA
CATEGORIES:East Bay,Free
END:VEVENT
BEGIN:VEVENT
DTSTART;TZID=UTC:20171021T090000
DTEND;TZID=UTC:20171022T170000
DTSTAMP:20260425T050542
CREATED:20170926T224254Z
LAST-MODIFIED:20171007T015902Z
UID:28941-1508576400-1508691600@litseen.com
SUMMARY:San Jose Poetry Festival
DESCRIPTION:Arlene Biala reading at San José Poetry Festival 2016 \nPoetry Center San José presents\nthe Third Annual San José Poetry Festival \nThe Third Annual San José Poetry Festival will celebrate our community’s diverse ethnic and cultural heritage with a wide range of topics and literary styles reflected in performances and workshops. \na day of readings and performances:\nSaturday\, October 21\, 2017\, 9am to 5pm\na day of workshops:\nSunday\, October 22\, 2017\, 9am to 5pm\nHistory Park San José \nfeaturing:\nArlene Biala\, Santa Clara County Poet Laureate\, Deborah A. Miranda\, Persis Karim\, \nTshaka Menelik Imhotep Campbell\, Yesika Salgado\, David Perez\, and more! \nThe diverse voices of local and California poets\, along with:\nSmall Press Fair\, Booksignings\, Poetry Across Cultures\, Spoken Word Performances\, Media Poetry Studio Videos\, Poetry Workshop Day\, and more! \nSaturday poetry presentations: \nYukei Teikei Haiku Society: Patricia Machmiller and Patrick Gallagher \nVeteransWrite: Jeffrey Leonard (MC)\, Dale Barnett\, Nick Butterfield\, Emilio Gallegos\, Douglas Nelson\, and David Sullivan \nHindi Poetry: Anshu Johri\, Pallavi Sharma\, and Vinod Narayan \nPoets & Writers Coalition of SJSU: Gabrielle LaFrank\, Brandon Luu\, and Emily Tang \nKeynote Address: Arlene Biala \nMiddle Eastern Poetry: Persis Karim \nOhlone/Costanoan Poetry Tradition: Debora A. Miranda \nMedia Poetry Studio: David Perez and Erica Goss \nLatinx Poetry: Roberto Tinoco Duran and Suzana De Jesus Huerta \nGrand Finale: Tshaka Menelik Imhotep Campbell\, Kim Johnson\, and Yesika Salgado \nSaturday small press fair (so far):\nDutch Poet Press\nSwan Scythe Press\nTourane Poetry Press \nSunday poetry workshops:\nFour workshops to choose from: \nBarbara Jane Reyes\, 9am-12pm\npresenting Kuwentuhan (Talkstory) \nDavid Perez\, 9am-12pm\nA poetry composition workshop inspired by the medium of video poetry. Participants will view a series of video poems and discuss various techniques at play in each example. The workshop culminates in several focused creative writing activities that encourage participants to apply these techniques in their own work. \nCharlotte Muse\, 2pm-5pm\nA workshop illustrating the many ways poetry inspires\, and is inspired by the senses. \nDeborah A. Miranda\, 2pm-5pm\nDescription to come. \nJoin us at the beautiful History Park San José for San José Poetry Festival 2017—two full days of inspiration and exploration! \nSan José Poetry Festival 2017 is presented by Poetry Center San José and is sponsored in part by: Festival and Cultural Affairs grants from the City of San José; a grant from Silicon Valley Creates\, in partnership with the County of Santa Clara and the California Arts Council; Poets & Writers through grants it has received from The James Irvine Foundation and the Hearst Foundations; with support from History/San José; and discounted accomodations from Hotel De Anza.
URL:https://litseen.com/event/san-jose-poetry-festival-2/
LOCATION:History Park San José\, 1650 Senter Road\, San Jose \, CA\, 95112\, United States
CATEGORIES:Free,South Bay
END:VEVENT
BEGIN:VEVENT
DTSTART;TZID=UTC:20171021T130000
DTEND;TZID=UTC:20171021T160000
DTSTAMP:20260425T050542
CREATED:20170911T231854Z
LAST-MODIFIED:20170911T231854Z
UID:28730-1508590800-1508601600@litseen.com
SUMMARY:Bikes to Books 4-year Anniversary
DESCRIPTION:Combining San Francisco history\, art\, literature\, cycling\, and urban exploration\, Bikes to Books began as an homage to the 1988 street-naming project spearheaded by City Lights founder and former San Francisco Poet Laureate\, Lawrence Ferlinghetti\, in which 12 San Francisco streets were renamed for famous artists and authors who had once made San Francisco their home. The resulting 7.1-mile tour is a diverting and unique way to celebrate both the literary and the adventurous spirit of San Francisco. Learn about the authors and neighborhoods that made San Francisco a known literary hub\, from South Park to North Beach\, Jack London to Jack Kerouac\, all from the comfort of your own bicycle seat!\n \nBring bikes with gears\, snacks\, and enthusiasm.  \nIn honor of the authors who inspired our tour\, we invite participants to bring small excerpts or quote from their favorites to be read on location throughout the ride.  \nThis is an urban ride of moderate difficulty\, recommended for riders 16 years of age and older.
URL:https://litseen.com/event/bikes-to-books-4-year-anniversary/
LOCATION:Jack London Street\, Jack London Street\, San Francisco\, CA\, 94107\, United States
CATEGORIES:Free,San Francisco
ORGANIZER;CN="Bikes to Books":MAILTO:bikes2books@gmail.com
END:VEVENT
BEGIN:VEVENT
DTSTART;TZID=UTC:20171021T130000
DTEND;TZID=UTC:20171022T180000
DTSTAMP:20260425T050542
CREATED:20170926T002530Z
LAST-MODIFIED:20170926T014725Z
UID:28825-1508590800-1508695200@litseen.com
SUMMARY:10th Annual Beat Museum Poetry Festival
DESCRIPTION:HOSTED BY TERRY ADAMS\, LEAH LUBIN & FRED DODSWORTH \nFor the 10th year running\, we feature the living poets\, poets laureate\, former Stegner Fellows\, local published poets\, as well as brilliant old and new-timers\, plus musicians and performance artists from all over the Bay Area (including Europe this year). Diverse voices will resonate with the all-embracing spirit of the original San Francisco Beat Movement in the aura of memorabilia downstairs in the Beat Museum. \nDray Zera and Umor Hague\, young performers from the UK will join us\, along with Clive Matson\, Caroline Goodwin\, Avotcja\, Q.R. Hand\, Peter Kline\, Jack Foley (with Sangye Land)\, Gwen O’Gara\, William Taylor\, Chris Vannoy (from San Diego)\, Kim Adonizio\, Brittany Perham\, Sarah Kobrinsky\, The Word Music Continuum\, and 20 or so others.
URL:https://litseen.com/event/10th-annual-beat-museum-poetry-festival/
LOCATION:The Beat Museum\, 540 Broadway\, San Francisco \, CA\, 94133\, United States
CATEGORIES:Free,San Francisco
END:VEVENT
BEGIN:VEVENT
DTSTART;TZID=UTC:20171021T150000
DTEND;TZID=UTC:20171021T180000
DTSTAMP:20260425T050542
CREATED:20171022T015213Z
LAST-MODIFIED:20171022T015213Z
UID:29208-1508598000-1508608800@litseen.com
SUMMARY:Crossing Borders: Remembering Francisco X. Alarcón
DESCRIPTION:The International Center of the San Francisco Public Library\, in collaboration with Carayan Press\, present Cruzando Fronteras/Crossing Borders poetry series first presented at the Main Library back in 2011. This special edition\, We Remember You\, features various poets reading their work in either Spanish or English and selections from the poetry of Francisco X. Alarcón (1954-2016) as an homage to the poet.\nGuest Poets: Camincha\, Avotcja\, Betty Sánchez\, Edwin Lozada\, Christina Lloyd\, and others.\nFor more information visit: fronteras.carayanpress.com \nThis is a Reading\, Writing & Poetry program from SFPL. We love reading/sharing/creating words.
URL:https://litseen.com/event/crossing-borders-remembering-francisco-x-alarcon/
LOCATION:San Francisco Public Library\, 100 Larkin St\, San Francisco \, CA\, 94102\, United States
CATEGORIES:Free,San Francisco
END:VEVENT
BEGIN:VEVENT
DTSTART;TZID=UTC:20171021T170000
DTEND;TZID=UTC:20171021T220000
DTSTAMP:20260425T050542
CREATED:20171007T014955Z
LAST-MODIFIED:20171007T014955Z
UID:29051-1508605200-1508623200@litseen.com
SUMMARY:This is not a reality party - presented by Poets Reading the News
DESCRIPTION:A party worthy of San Francisco’s vibrantly absurd art & literary scene! \nPoets Reading the News is celebrating its FIRST YEAR publishing journalism in verse! Join us for the literary party of the century\, hosted at the gorgeous Royal Towers in San Francisco’s North Beach\, featuring stunning views of the city. Art installations\, dance\, and poetic performance will bring the night to life. The theme of the evening is that this is NOT a reality party – and no one is required to be themselves\, or anyone else for that matter. \nIf so in the mood\, dress like yourself from ten years ago. \nThe fun will go beyond this one night- all sales from tickets and the bar will go towards publishing the first Poets Reading the News book! Pre-sales will be available\, as well. \nMore details:\nEach ticket comes with one free drink\nPerformances are from 7-8 pm\nCash & Venmo bar\nWheelchair accessible\nLimited street parking- taxis or public transportation encouraged\nAll money goes towards creating a book!\nEarly bird tickets are gonna fly off the shelves (get the pun?) so act fast \nPOETS READING THE NEWS LOVES YOU!!! ♥ ♥ ♥
URL:https://litseen.com/event/this-is-not-a-reality-party-presented-by-poets-reading-the-news/
LOCATION:Royal Towers\, 1750 Taylor St\, San Francisco\, CA\, 94133\, United States
CATEGORIES:San Francisco
ORGANIZER;CN="Poets Reading the News":MAILTO:editors@poetsreadingthenews.com
END:VEVENT
BEGIN:VEVENT
DTSTART;TZID=UTC:20171021T193000
DTEND;TZID=UTC:20171021T213000
DTSTAMP:20260425T050542
CREATED:20170816T010640Z
LAST-MODIFIED:20170816T010640Z
UID:28375-1508614200-1508621400@litseen.com
SUMMARY:Writers With Drinks: Strange Romance
DESCRIPTION:NOTE: THIRD SATURDAY OF THE MONTH DUE TO LITQUAKE \nDevorah Major (Brown Glass Windows\, and then we became)\nMargaret Rhee (Radio Heart; or\, How Robots Fall Out of Love)\nThomas Centolella (Almost Human)
URL:https://litseen.com/event/writers-with-drinks-strange-romance/
LOCATION:Make-Out Room\, 3225 22nd St\, San Francisco\, CA\, 94110\, United States
CATEGORIES:San Francisco
END:VEVENT
END:VCALENDAR