BEGIN:VCALENDAR
VERSION:2.0
PRODID:-//Litseen - ECPv6.15.11//NONSGML v1.0//EN
CALSCALE:GREGORIAN
METHOD:PUBLISH
X-ORIGINAL-URL:https://litseen.com
X-WR-CALDESC:Events for Litseen
REFRESH-INTERVAL;VALUE=DURATION:PT1H
X-Robots-Tag:noindex
X-PUBLISHED-TTL:PT1H
BEGIN:VTIMEZONE
TZID:UTC
BEGIN:STANDARD
TZOFFSETFROM:+0000
TZOFFSETTO:+0000
TZNAME:UTC
DTSTART:20160101T000000
END:STANDARD
END:VTIMEZONE
BEGIN:VEVENT
DTSTART;TZID=UTC:20171021T080000
DTEND;TZID=UTC:20171108T000000
DTSTAMP:20260425T050533
CREATED:20171022T003719Z
LAST-MODIFIED:20171022T003719Z
UID:29170-1508572800-1510099200@litseen.com
SUMMARY:MARY: A Journal of New Writing
DESCRIPTION:MARY: A Journal of New Writing is accepting submissions for our Winter 2017 issue. If you have poetry\, nonfiction\, or fiction you would like to share\, please send it our way! Authors of works selected for the Winter 2017 Issue will be offered a small honorarium. Submissions are open until November 8th. We look forward to reading your work! For more information about our submission guidelines\, please use the following link: https://www.stmarys-ca.edu/nod e/15842
URL:https://litseen.com/event/mary-a-journal-of-new-writing/
LOCATION:CA
CATEGORIES:East Bay,Free
END:VEVENT
BEGIN:VEVENT
DTSTART;TZID=UTC:20171029T150000
DTEND;TZID=UTC:20171029T163000
DTSTAMP:20260425T050533
CREATED:20171025T011450Z
LAST-MODIFIED:20171025T011450Z
UID:29287-1509289200-1509294600@litseen.com
SUMMARY:Erika Mailman from The Murderer's Maid
DESCRIPTION:Join the Oakland launch party for The Murderer’s Maid at East Bay Booksellers\, and have a bloody cupcake on us! \nIn 1889\, Bridget joins the Borden household as their maid\, but something evil is brewing beneath the house’s genteel surface. In 2016\, Brooke hides from her dangerous past and avoids making friends. But what if it’s time to stop running? \nDescribed by Kirkus Reviews as “complex and riveting\,” The Murderer’s Maid brings the true story of the brutal murder of Lizzie Borden’s father and stepmother into new focus by adding a riveting contemporary narrative.
URL:https://litseen.com/event/erika-mailman-from-the-murderers-maid/
LOCATION:East Bay Booksellers\, 5433 College Avenue\, Oakland\, 94618
CATEGORIES:East Bay,Free
ORGANIZER;CN="Yellow Pear Press":MAILTO:marketing@yellowpearpress.com
END:VEVENT
BEGIN:VEVENT
DTSTART;TZID=UTC:20171029T183000
DTEND;TZID=UTC:20171029T210000
DTSTAMP:20260425T050533
CREATED:20171025T011344Z
LAST-MODIFIED:20171025T011344Z
UID:29291-1509301800-1509310800@litseen.com
SUMMARY:SF in SF Presents: Women in Horror
DESCRIPTION:Female horror authors Erika Mailman\, Loren Rhoads\, and Dana Fredsti will read selections from their work and then answer questions on a panel moderated by author Terry Bisson. \nJoin us early for cupcakes\, candy\, snacks and drinks! \n 
URL:https://litseen.com/event/sf-in-sf-presents-women-in-horror/
LOCATION:American Bookbinders Museum\, 355 Clementina St\, San Francisco \, CA\, 94103\, United States
CATEGORIES:San Francisco
END:VEVENT
END:VCALENDAR