BEGIN:VCALENDAR
VERSION:2.0
PRODID:-//Litseen - ECPv6.15.11//NONSGML v1.0//EN
CALSCALE:GREGORIAN
METHOD:PUBLISH
X-WR-CALNAME:Litseen
X-ORIGINAL-URL:https://litseen.com
X-WR-CALDESC:Events for Litseen
REFRESH-INTERVAL;VALUE=DURATION:PT1H
X-Robots-Tag:noindex
X-PUBLISHED-TTL:PT1H
BEGIN:VTIMEZONE
TZID:America/Los_Angeles
BEGIN:DAYLIGHT
TZOFFSETFROM:-0800
TZOFFSETTO:-0700
TZNAME:PDT
DTSTART:20180311T100000
END:DAYLIGHT
BEGIN:STANDARD
TZOFFSETFROM:-0700
TZOFFSETTO:-0800
TZNAME:PST
DTSTART:20181104T090000
END:STANDARD
BEGIN:DAYLIGHT
TZOFFSETFROM:-0800
TZOFFSETTO:-0700
TZNAME:PDT
DTSTART:20190310T100000
END:DAYLIGHT
BEGIN:STANDARD
TZOFFSETFROM:-0700
TZOFFSETTO:-0800
TZNAME:PST
DTSTART:20191103T090000
END:STANDARD
BEGIN:DAYLIGHT
TZOFFSETFROM:-0800
TZOFFSETTO:-0700
TZNAME:PDT
DTSTART:20200308T100000
END:DAYLIGHT
BEGIN:STANDARD
TZOFFSETFROM:-0700
TZOFFSETTO:-0800
TZNAME:PST
DTSTART:20201101T090000
END:STANDARD
END:VTIMEZONE
BEGIN:VTIMEZONE
TZID:UTC
BEGIN:STANDARD
TZOFFSETFROM:+0000
TZOFFSETTO:+0000
TZNAME:UTC
DTSTART:20180101T000000
END:STANDARD
END:VTIMEZONE
BEGIN:VEVENT
DTSTART;TZID=America/Los_Angeles:20190823T123000
DTEND;TZID=America/Los_Angeles:20190823T130000
DTSTAMP:20260425T141733
CREATED:20190822T232145Z
LAST-MODIFIED:20190822T232145Z
UID:52487-1566563400-1566565200@litseen.com
SUMMARY:The Mystical Voice: San Francisco Poet Laureate Jack Hirschman
DESCRIPTION:San Francisco Poet Laureate Jack Hirschman speaks about the mystical strain of Judaism\, popularly called Kabbalah. This short\, lunchtime gallery talk is inspired by the work of Annabeth Rosen\, whose practice draws on cycles of destruction and creation. \nSan Francisco Poet Laureate Jack Hirschman is a translator and activist who has written more than fifty volumes of poetry and essays. \nPresented in conjunction with the current exhibition “Annabeth Rosen: Fired\, Broken\, Gathered\, Heaped.” \nFREE with regular admission as follows: Members and youth 18 and under\, Free; General Admission\, $16; Students with a valid ID and Seniors\, $14. \nPresented by Contemporary Jewish Museum.
URL:https://litseen.com/event/the-mystical-voice-san-francisco-poet-laureate-jack-hirschman/
LOCATION:Contemporary Jewish Museum\, 736 Mission Street\, San Francisco\, CA\, 94103\, United States
CATEGORIES:San Francisco
END:VEVENT
BEGIN:VEVENT
DTSTART;TZID=UTC:20190823T190000
DTEND;TZID=UTC:20190823T210000
DTSTAMP:20260425T141733
CREATED:20190430T195233Z
LAST-MODIFIED:20190707T191035Z
UID:51190-1566586800-1566594000@litseen.com
SUMMARY:Jan Dederick & John Rowe
DESCRIPTION:August 23: Jan Dederick & John Rowe\nJan Dederick has published two chapbooks\, including Ear to the Rail and Between a Rock and a Soft Place\, and a full length collection\, Hammer it into Horseshoes\, a Memory in Poetry.  She was for several years a co-host of the long-running\, weekly Berkeley poetry series\, Poetry Express\, and currently serves on the editorial board of Poetalk\, the journal of the Bay Area Poets Coalition.  Accolades include honors from the Soul Making Keats literary competition and the Dancing Poetry Festival. She is a practitioner of homeopathic medicine and Kairos therapy. \nJohn Rowe  is the author of Beyond Perspective(Finishing Line Press\, 2015)\, Winsome Losesome(Eventuality Press\, 2010)\, and At My Wit’s Beginning(Eventuality Press\, 2003/2007). His poems have appeared in various small press journals and anthologies. Honors include numerous prize-winning poems from the Artists Embassy International’s Annual Dancing Poetry Festival Contests\, and Grand Prize in the Bay Area Poets Seasonal Review Contest 2010. He is a co-host of the monthly Last Word Poetry Reading Series in Berkeley\, a co-editor of Poetalk\, and the long-time President of the Bay Area Poets Coalition. http://www.rowepoet.com  \nThe reading will begin at 7:00 p.m. and end at 9:00 p.m. A limited open reading\, and a short interview with the featured readers will be included. This is a free event.
URL:https://litseen.com/event/jan-dederick-john-rowe/
LOCATION:St. Alban’s Episcopal Church\, 1501 Washington Avenue\, Albany\, CA\, 94706
CATEGORIES:East Bay,Free
ATTACH;FMTTYPE=image/png:https://litseen.com/wp-content/uploads/2019/04/smaller-calliope-logo1.png
END:VEVENT
BEGIN:VEVENT
DTSTART;TZID=America/Los_Angeles:20190823T193000
DTEND;TZID=America/Los_Angeles:20190823T213000
DTSTAMP:20260425T141733
CREATED:20190708T161917Z
LAST-MODIFIED:20190708T161917Z
UID:52023-1566588600-1566595800@litseen.com
SUMMARY:Téa Obreht\, Inland
DESCRIPTION:Bookshop is delighted to welcome Téa Obreht\, National Book Award finalist and bestselling author of The Tiger’s Wife\, back to the store for a reading and signing of her new novel\, INLAND—an epic journey across an unforgettable landscape\, a stunning tale of perseverance and family\, and a love letter to the complicated and glorious American West. This event is co-sponsored by The Humanities Institute at UC Santa Cruz. \nIn the lawless\, drought-ridden lands of the Arizona Territory in 1893\, two extraordinary lives collide. Nora is an unflinching frontierswoman awaiting the return of the men in her life—her husband\, a newspaperman who has gone in search of water for the parched household\, and her elder sons\, who have vanished after an explosive argument. Nora is biding her time (and enduring her thirst) with her youngest son\, who is convinced that a mysterious beast is stalking the land around their home\, and her husband’s seventeen-year-old cousin\, who communes with spirits. \nLurie is an immigrant—a man born under Ottoman rule who comes to America as a child—and a former outlaw who is haunted by ghosts. He sees lost souls who want something from him\, and he finds reprieve from their longing in an unexpected companion who inspires a momentous expedition across the West. The way in which Nora’s and Lurie’s stories intertwine is the surprise and suspense of this brilliant novel. \nTéa Obreht is the author of The Tiger’s Wife\, a finalist for the National Book Award and winner of the 2011 Orange Prize for Fiction. An international bestseller\, it has sold over a million copies worldwide\, with rights sold in 37 countries. Obreht was a National Book Foundation 5 Under 35 honoree and was named by The New Yorker as one of the twenty best American fiction writers under forty. She was the 2013 Rona Jaffe Foundation fellow at the Cullman Center for Scholars and Writers and was a recipient of the 2016 National Endowment for the Arts fellowship. She was born in Belgrade\, in the former Yugoslavia\, in 1985 and has lived in the United States since the age of twelve. She currently lives in New York City and teaches at Hunter College. \n\nThis free event will take place at Bookshop Santa Cruz. Chairs for open seating are usually set up about an hour before the event begins. If you have any ADA accommodation requests\, please e-mail info@bookshopsantacruz.com by August 21st.
URL:https://litseen.com/event/tea-obreht-inland/
LOCATION:Bookshop Santa Cruz\, 1520 Pacific Ave\, Santa Cruz \, CA\, 95060\, United States
CATEGORIES:Free,South Bay
ATTACH;FMTTYPE=image/jpeg:https://litseen.com/wp-content/uploads/2019/07/1-15.jpg
END:VEVENT
BEGIN:VEVENT
DTSTART;TZID=America/Los_Angeles:20190823T193000
DTEND;TZID=America/Los_Angeles:20190823T213000
DTSTAMP:20260425T141733
CREATED:20190708T164526Z
LAST-MODIFIED:20190708T164526Z
UID:52041-1566588600-1566595800@litseen.com
SUMMARY:BEAT UP & BEAT DOWN
DESCRIPTION:FRI. AUGUST 23RD\, 7:30PM \nWe’re super happy to announce our cross-country collaboration with NYC Beat poet George Wallace of POETRYBAY\, Great Weather for Media\, and poet in residence at Walt Whitman Birthplace; Mahnaz Badihian\, Iranian-San Franciscan passion poet and translator for Jack Hirschman; and Youssef Alaoui\, Moroccan-American roaming\, raving bard of the central California coast.
URL:https://litseen.com/event/beat-up-beat-down/
LOCATION:The Beat Museum\, 540 Broadway\, San Francisco \, CA\, 94133\, United States
CATEGORIES:Free,San Francisco
ATTACH;FMTTYPE=image/jpeg:https://litseen.com/wp-content/uploads/2019/07/1-20.jpg
END:VEVENT
END:VCALENDAR