BEGIN:VCALENDAR
VERSION:2.0
PRODID:-//Litseen - ECPv6.15.11//NONSGML v1.0//EN
CALSCALE:GREGORIAN
METHOD:PUBLISH
X-WR-CALNAME:Litseen
X-ORIGINAL-URL:https://litseen.com
X-WR-CALDESC:Events for Litseen
REFRESH-INTERVAL;VALUE=DURATION:PT1H
X-Robots-Tag:noindex
X-PUBLISHED-TTL:PT1H
BEGIN:VTIMEZONE
TZID:America/Los_Angeles
BEGIN:DAYLIGHT
TZOFFSETFROM:-0800
TZOFFSETTO:-0700
TZNAME:PDT
DTSTART:20180311T100000
END:DAYLIGHT
BEGIN:STANDARD
TZOFFSETFROM:-0700
TZOFFSETTO:-0800
TZNAME:PST
DTSTART:20181104T090000
END:STANDARD
BEGIN:DAYLIGHT
TZOFFSETFROM:-0800
TZOFFSETTO:-0700
TZNAME:PDT
DTSTART:20190310T100000
END:DAYLIGHT
BEGIN:STANDARD
TZOFFSETFROM:-0700
TZOFFSETTO:-0800
TZNAME:PST
DTSTART:20191103T090000
END:STANDARD
BEGIN:DAYLIGHT
TZOFFSETFROM:-0800
TZOFFSETTO:-0700
TZNAME:PDT
DTSTART:20200308T100000
END:DAYLIGHT
BEGIN:STANDARD
TZOFFSETFROM:-0700
TZOFFSETTO:-0800
TZNAME:PST
DTSTART:20201101T090000
END:STANDARD
END:VTIMEZONE
BEGIN:VEVENT
DTSTART;TZID=America/Los_Angeles:20190827T190000
DTEND;TZID=America/Los_Angeles:20190827T200000
DTSTAMP:20260425T101159
CREATED:20190707T190943Z
LAST-MODIFIED:20190707T190943Z
UID:51853-1566932400-1566936000@litseen.com
SUMMARY:E.R. Ramzipoor:The Ventriloquists
DESCRIPTION:E.R. Ramzipoor is a writer based in California. She also works as a content marketer\, writing about cybercrime and online fraud. She studied political science at UC Berkeley\, where she researched underground literature in resistance movements and discovered the forgotten story of Faux Soir. Her writing has been featured in McSweeney’s and The Ventriloquists is her first novel. She lives with her partner and a terrier mix named Lada.
URL:https://litseen.com/event/e-r-ramzipoorthe-ventriloquists/
LOCATION:Moe’s Books\, 2476 Telegraph Avenue\, Bekeley\, 94 704
CATEGORIES:East Bay,Free
ATTACH;FMTTYPE=image/jpeg:https://litseen.com/wp-content/uploads/2019/06/ramzipoor.jpg
END:VEVENT
BEGIN:VEVENT
DTSTART;TZID=America/Los_Angeles:20190827T193000
DTEND;TZID=America/Los_Angeles:20190827T210000
DTSTAMP:20260425T101159
CREATED:20190707T190924Z
LAST-MODIFIED:20190707T190924Z
UID:51865-1566934200-1566939600@litseen.com
SUMMARY:Scott Hylbert: Task Lyst
DESCRIPTION:Scott Hylbert joins us to discuss his new novel\, Task Lyst. \nAbout Task Lyst \nDo you need to have someone walk your dog? How about to deliver your groceries? Or your drugs? How about carry out a hit? Are you looking for a side hustle to pay the rent\, but want to hide your influx of cash in bitcoin? Then the new on-demand services app\, Task Lyst is all you need. \nElliott is a struggling musician who is trying to piece together enough cash every month to keep his dream of performing alive while also paying his rent. That’s when he discovered the new app TASK LYST. As a service provider\, he sets his own hours\, his funds are delivered covertly in bitcoin and the rates continue to grow…but so does his suspicion over the type of tasks that he is being asked to complete. Is the anonymous nature of app-based freelance work enough to abate Elliott’s suspicions…and conscience? \nMeanwhile\, the glossy new Task Lyst corporation is looking for start-up capital and perhaps an extra way to make the app profitable\, by assisting the government in spying on users. Alice Seeger is a smart and beautiful executive who once had a promising future in Silicon Valley\, but a few bad investments have put her on the edge of being fired and saddled with a lifestyle that she can no longer afford. At first glance\, Task Lyst seemed like an app to pass on…until she discovers it’s dark underbelly which makes it more appealing financially while also being an enormous legal liability. She must test her own professional judgment against her morals in determining at what price she finds her own success. \nThis gig-economy thriller takes a look at the on-demand service industry\, and it’s shady possibilities. Apps have become all-encompassing in our fast-paced modern lives and their utility is undeniable. In this gripping thriller\, we follow the many sides\, shades and shadows of the app economy and test the question: how far is too far? \nAbout the Author \nScott Hylbert spent most of his youth surfing in San Diego before attending Denison University in Ohio to play soccer. Amidst a stalled-career as a rock-n-roller in San Francisco\, he packaged spring break tours and ski trips for students before finding a niche in the alternative newsweekly business. There\, he sold advertising to concert promoters and record companies for over a decade before enrolling in a masters program at Vanderbilt University while continuing to work and raise two kids. With a focus on creative writing\, he pursued a career-long goal to pivot from the marketing side of the media business to the editorial. Recently\, with his photographer wife Ashley\, he opened a rental photography studio and boutique event space in Nashville called White Avenue Studio.
URL:https://litseen.com/event/scott-hylbert-task-lyst/
LOCATION:Green Apple Books on the Park\, 1231 9th Ave\, San Francisco \, CA\, 94122\, United States
CATEGORIES:Free,San Francisco
ATTACH;FMTTYPE=image/jpeg:https://litseen.com/wp-content/uploads/2019/06/hylbertweb.jpg
END:VEVENT
END:VCALENDAR