BEGIN:VCALENDAR
VERSION:2.0
PRODID:-//Litseen - ECPv6.15.11//NONSGML v1.0//EN
CALSCALE:GREGORIAN
METHOD:PUBLISH
X-ORIGINAL-URL:https://litseen.com
X-WR-CALDESC:Events for Litseen
REFRESH-INTERVAL;VALUE=DURATION:PT1H
X-Robots-Tag:noindex
X-PUBLISHED-TTL:PT1H
BEGIN:VTIMEZONE
TZID:America/Los_Angeles
BEGIN:DAYLIGHT
TZOFFSETFROM:-0800
TZOFFSETTO:-0700
TZNAME:PDT
DTSTART:20220313T100000
END:DAYLIGHT
BEGIN:STANDARD
TZOFFSETFROM:-0700
TZOFFSETTO:-0800
TZNAME:PST
DTSTART:20221106T090000
END:STANDARD
BEGIN:DAYLIGHT
TZOFFSETFROM:-0800
TZOFFSETTO:-0700
TZNAME:PDT
DTSTART:20230312T100000
END:DAYLIGHT
BEGIN:STANDARD
TZOFFSETFROM:-0700
TZOFFSETTO:-0800
TZNAME:PST
DTSTART:20231105T090000
END:STANDARD
BEGIN:DAYLIGHT
TZOFFSETFROM:-0800
TZOFFSETTO:-0700
TZNAME:PDT
DTSTART:20240310T100000
END:DAYLIGHT
BEGIN:STANDARD
TZOFFSETFROM:-0700
TZOFFSETTO:-0800
TZNAME:PST
DTSTART:20241103T090000
END:STANDARD
END:VTIMEZONE
BEGIN:VEVENT
DTSTART;TZID=America/Los_Angeles:20231014T140000
DTEND;TZID=America/Los_Angeles:20231014T170000
DTSTAMP:20260419T153608
CREATED:20231002T223618Z
LAST-MODIFIED:20231002T223813Z
UID:67290-1697292000-1697302800@litseen.com
SUMMARY:Parkside Branch Library Open House
DESCRIPTION:Parkside is hosting an Open House featuring Boswick the Clown\, make your own smoothies with the bike blender and crafts\, librarian-led and from the Museum of Craft and Design. \nFree \nhttps://sfpl.org/events/2023/10/14/celebration-parkside-branch-open-house sfplcpp@sfpl.org 415-557-4400
URL:https://litseen.com/event/parkside-branch-library-open-house/
LOCATION:Parkside Branch Library\, 1200 Tarval Street\, San Francisco\, 94116
CATEGORIES:Free,San Francisco
END:VEVENT
END:VCALENDAR