BEGIN:VCALENDAR
VERSION:2.0
PRODID:-//Litseen - ECPv6.15.11//NONSGML v1.0//EN
CALSCALE:GREGORIAN
METHOD:PUBLISH
X-WR-CALNAME:Litseen
X-ORIGINAL-URL:https://litseen.com
X-WR-CALDESC:Events for Litseen
REFRESH-INTERVAL;VALUE=DURATION:PT1H
X-Robots-Tag:noindex
X-PUBLISHED-TTL:PT1H
BEGIN:VTIMEZONE
TZID:America/Los_Angeles
BEGIN:DAYLIGHT
TZOFFSETFROM:-0800
TZOFFSETTO:-0700
TZNAME:PDT
DTSTART:20190310T100000
END:DAYLIGHT
BEGIN:STANDARD
TZOFFSETFROM:-0700
TZOFFSETTO:-0800
TZNAME:PST
DTSTART:20191103T090000
END:STANDARD
BEGIN:DAYLIGHT
TZOFFSETFROM:-0800
TZOFFSETTO:-0700
TZNAME:PDT
DTSTART:20200308T100000
END:DAYLIGHT
BEGIN:STANDARD
TZOFFSETFROM:-0700
TZOFFSETTO:-0800
TZNAME:PST
DTSTART:20201101T090000
END:STANDARD
BEGIN:DAYLIGHT
TZOFFSETFROM:-0800
TZOFFSETTO:-0700
TZNAME:PDT
DTSTART:20210314T100000
END:DAYLIGHT
BEGIN:STANDARD
TZOFFSETFROM:-0700
TZOFFSETTO:-0800
TZNAME:PST
DTSTART:20211107T090000
END:STANDARD
END:VTIMEZONE
BEGIN:VEVENT
DTSTART;TZID=America/Los_Angeles:20201101T090000
DTEND;TZID=America/Los_Angeles:20201204T170000
DTSTAMP:20260424T101816
CREATED:20201028T234114Z
LAST-MODIFIED:20201028T234114Z
UID:60434-1604221200-1607101200@litseen.com
SUMMARY:Santa Clara University Osher: Exciting Adult Learning Zoom Classes
DESCRIPTION:Fall Quarter Open Now through December 4th\, 2020 \nOLLI@SCU: Enjoy learning from home with exciting Zoom (virtual) classes taught by instructors who design their varied courses for curious audiences like you. Join and take advantage of our classes\, events\, and programs (currently remote until safe to be in-person) designed for adult learners who love learning. We offer more than 15 thought-provoking courses each quarter\, on a variety of topics including history\, science\, art\, current events\, law\, literature and culture – all without homework\, tests or grades. There are member-only Special Interest Groups exploring such topics as food\, genealogy\, Italy\, mystery books\, memoir writing\, photography and contemporary issues. OLLI@SCU is here for you\, now. Join us! \nMembership is $55; course fees vary from $50 – $110 depending on length. \nPresented by Santa Clara University Osher Lifelong Learning.
URL:https://litseen.com/event/santa-clara-university-osher-exciting-adult-learning-zoom-classes/
LOCATION:56941
CATEGORIES:Classes and Workshops,Virtual
ORGANIZER;CN="Santa Clara University Osher Lifelong Learning":MAILTO:OLLI@SCU.edu
END:VEVENT
END:VCALENDAR