BEGIN:VCALENDAR
VERSION:2.0
PRODID:-//Litseen - ECPv6.15.11//NONSGML v1.0//EN
CALSCALE:GREGORIAN
METHOD:PUBLISH
X-WR-CALNAME:Litseen
X-ORIGINAL-URL:https://litseen.com
X-WR-CALDESC:Events for Litseen
REFRESH-INTERVAL;VALUE=DURATION:PT1H
X-Robots-Tag:noindex
X-PUBLISHED-TTL:PT1H
BEGIN:VTIMEZONE
TZID:UTC
BEGIN:STANDARD
TZOFFSETFROM:+0000
TZOFFSETTO:+0000
TZNAME:UTC
DTSTART:20160101T000000
END:STANDARD
END:VTIMEZONE
BEGIN:VEVENT
DTSTART;TZID=UTC:20170908T193000
DTEND;TZID=UTC:20170908T213000
DTSTAMP:20260421T064156
CREATED:20170824T060202Z
LAST-MODIFIED:20170825T003652Z
UID:28543-1504899000-1504906200@litseen.com
SUMMARY:Studio One Reading Series
DESCRIPTION:Paul Ebenkamp is author of Parallel Realism (Despite Editions\, 2017) and The Louder the Room the Darker the Screen (Timeless\, Infinite Light\, 2015); is co-editor of Modernist Women Poets: An Anthology (with Robert Hass\, Counterpoint\, 2014) and Richard O. Moore’s Particulars of Place: New Poems (with Brenda Hillman and Garrett Caples\, Omnidawn\, 2015); curates the Woolsey Heights reading series with Andrew Kenower; and with strings and devices makes music as Position. \nLara Durback is a poet who has lived in Oakland\, CA for 12 years. \nAngel Dominguez is a Latinx Los Angeles born writer and performance artist forming Dzonots with notebooks along the California coast.
URL:https://litseen.com/event/studio-one-reading-series/
LOCATION:Studio One Arts Center\, 365 45th Street\, Oakland\, CA\, 94609\, United States
CATEGORIES:East Bay,Free
END:VEVENT
END:VCALENDAR